BEGIN:VCALENDAR
VERSION:2.0
PRODID:-//LuLu&#039;s - ECPv6.15.12.2//NONSGML v1.0//EN
CALSCALE:GREGORIAN
METHOD:PUBLISH
X-WR-CALNAME:LuLu&#039;s
X-ORIGINAL-URL:https://lulusfunfoodmusic.com
X-WR-CALDESC:Events for LuLu&#039;s
REFRESH-INTERVAL;VALUE=DURATION:PT1H
X-Robots-Tag:noindex
X-PUBLISHED-TTL:PT1H
BEGIN:VTIMEZONE
TZID:America/Chicago
BEGIN:DAYLIGHT
TZOFFSETFROM:-0600
TZOFFSETTO:-0500
TZNAME:CDT
DTSTART:20240310T080000
END:DAYLIGHT
BEGIN:STANDARD
TZOFFSETFROM:-0500
TZOFFSETTO:-0600
TZNAME:CST
DTSTART:20241103T070000
END:STANDARD
BEGIN:DAYLIGHT
TZOFFSETFROM:-0600
TZOFFSETTO:-0500
TZNAME:CDT
DTSTART:20250309T080000
END:DAYLIGHT
BEGIN:STANDARD
TZOFFSETFROM:-0500
TZOFFSETTO:-0600
TZNAME:CST
DTSTART:20251102T070000
END:STANDARD
BEGIN:DAYLIGHT
TZOFFSETFROM:-0600
TZOFFSETTO:-0500
TZNAME:CDT
DTSTART:20260308T080000
END:DAYLIGHT
BEGIN:STANDARD
TZOFFSETFROM:-0500
TZOFFSETTO:-0600
TZNAME:CST
DTSTART:20261101T070000
END:STANDARD
END:VTIMEZONE
BEGIN:VEVENT
DTSTART;TZID=America/Chicago:20250125T160000
DTEND;TZID=America/Chicago:20250125T200000
DTSTAMP:20260424T091810
CREATED:20240715T144029Z
LAST-MODIFIED:20251210T005034Z
UID:10000662-1737820800-1737835200@lulusfunfoodmusic.com
SUMMARY:GypsyPearl - Gulf Shores
DESCRIPTION:The GypsyPearl Duo brings a vibrant mix of soulful vocals\, tight harmonies\, and acoustic energy to every performance along the Gulf Coast. Known for their dynamic stage presence and ability to read a crowd\, they blend modern country\, classic rock\, and heartfelt originals into a feel-good show that keeps guests engaged from the first song to the last. \nTheir sound pulls influence from artists like Fleetwood Mac\, Miranda Lambert\, Chris Stapleton\, and The Eagles\, delivering familiar favorites with a fresh\, coastal twist. Whether it’s an upbeat afternoon set or a relaxed evening vibe\, GypsyPearl Duo brings the perfect mix of polish\, personality\, and coastal charm to LuLu’s Gulf Shores.
URL:https://lulusfunfoodmusic.com/event/gypsy-pearl-gulf-shores/2025-01-25/
LOCATION:Gulf Shores\, AL
ATTACH;FMTTYPE=image/jpeg:https://lulusfunfoodmusic.com/wp-content/uploads/2024/07/GypsyPearl.jpg
END:VEVENT
BEGIN:VEVENT
DTSTART;TZID=America/Chicago:20250125T160000
DTEND;TZID=America/Chicago:20250125T200000
DTSTAMP:20260424T091810
CREATED:20240718T131919Z
LAST-MODIFIED:20260226T144146Z
UID:10000679-1737820800-1737835200@lulusfunfoodmusic.com
SUMMARY:BJ Craven - North Myrtle Beach
DESCRIPTION:BJ Craven is a long time professional musician with several thousand gigs performed from stages all over the country. This SC native is now focusing on his solo career as a live looping artist; creating an entire band’s worth of sound\, live! BJ’s song selection spans several decades and pays tribute to the rock n’ roll artists of old while also recognizing todays hit-makers.
URL:https://lulusfunfoodmusic.com/event/bj-craven-north-myrtle-beach/2025-01-25/
LOCATION:North Myrtle Beach\, 4954 Hwy 17 S\, North Myrtle Beach\, SC\, 29582\, United States
ATTACH;FMTTYPE=image/jpeg:https://lulusfunfoodmusic.com/wp-content/uploads/2024/07/BJ-Craven.jpg
END:VEVENT
BEGIN:VEVENT
DTSTART;TZID=America/Chicago:20250125T160000
DTEND;TZID=America/Chicago:20250125T200000
DTSTAMP:20260424T091810
CREATED:20240726T163403Z
LAST-MODIFIED:20250923T172701Z
UID:10000647-1737820800-1737835200@lulusfunfoodmusic.com
SUMMARY:Brooks Johnson - Destin
DESCRIPTION:Brooks Johnson – Country/Rock Artist | Perdido Key\, FL \nBorn in Alabama\, shaped by years living in New York City\, and now rooted on Florida’s Gulf Coast\, Brooks Johnson delivers country and rock with grit\, soul\, and zero pretense. His sound is built on raw acoustic guitar work and a vocal tone that’s instantly recognizable and requires no filters: warm\, resonant\, and edged with a touch of Southern gravel. \nWhether he’s covering outlaw country\, classic rock\, or Americana\, his powerful vocals\, tone and delivery bring a fresh edge to familiar songs—real\, unpolished\, and unforgettable. \nSince returning to the Gulf Coast\, Brooks has become a go-to solo act for venues\, festivals\, and private events seeking high-quality live music without the polish or pretense. Whether he’s playing to a laid-back beach crowd or a rowdy night-time audience\, Brooks brings a setlist packed with familiar hits and hidden gems\, all delivered with unmistakable grit. \nInstagram/Tik tok/Facebook/Venmo: @Brooksjohnsonmusic \nBrooksjohnsonmusic.com
URL:https://lulusfunfoodmusic.com/event/brooks-johnson-destin/2025-01-25/
LOCATION:Destin\, 4607 Legendary Marina Dr\, Florida\, 32541
ATTACH;FMTTYPE=image/jpeg:https://lulusfunfoodmusic.com/wp-content/uploads/2024/09/Brooks-Johnson.jpg
END:VEVENT
END:VCALENDAR