BEGIN:VCALENDAR
VERSION:2.0
PRODID:-//LuLu&#039;s - ECPv6.15.12.2//NONSGML v1.0//EN
CALSCALE:GREGORIAN
METHOD:PUBLISH
X-WR-CALNAME:LuLu&#039;s
X-ORIGINAL-URL:https://lulusfunfoodmusic.com
X-WR-CALDESC:Events for LuLu&#039;s
REFRESH-INTERVAL;VALUE=DURATION:PT1H
X-Robots-Tag:noindex
X-PUBLISHED-TTL:PT1H
BEGIN:VTIMEZONE
TZID:America/Chicago
BEGIN:DAYLIGHT
TZOFFSETFROM:-0600
TZOFFSETTO:-0500
TZNAME:CDT
DTSTART:20240310T080000
END:DAYLIGHT
BEGIN:STANDARD
TZOFFSETFROM:-0500
TZOFFSETTO:-0600
TZNAME:CST
DTSTART:20241103T070000
END:STANDARD
BEGIN:DAYLIGHT
TZOFFSETFROM:-0600
TZOFFSETTO:-0500
TZNAME:CDT
DTSTART:20250309T080000
END:DAYLIGHT
BEGIN:STANDARD
TZOFFSETFROM:-0500
TZOFFSETTO:-0600
TZNAME:CST
DTSTART:20251102T070000
END:STANDARD
BEGIN:DAYLIGHT
TZOFFSETFROM:-0600
TZOFFSETTO:-0500
TZNAME:CDT
DTSTART:20260308T080000
END:DAYLIGHT
BEGIN:STANDARD
TZOFFSETFROM:-0500
TZOFFSETTO:-0600
TZNAME:CST
DTSTART:20261101T070000
END:STANDARD
END:VTIMEZONE
BEGIN:VEVENT
DTSTART;TZID=America/Chicago:20250126T130000
DTEND;TZID=America/Chicago:20250126T170000
DTSTAMP:20260424T091810
CREATED:20240717T201643Z
LAST-MODIFIED:20250923T190548Z
UID:10000666-1737896400-1737910800@lulusfunfoodmusic.com
SUMMARY:John Keuler - Gulf Shores
DESCRIPTION:John Keuler plays an organic\, soulful\, and vocal blend of favorites by Paul Simon\, Bob Marley\, The Band\, The Grateful Dead\, as well as original material.
URL:https://lulusfunfoodmusic.com/event/john-keuler-gulf-shores/2025-01-26/
LOCATION:Gulf Shores\, AL
ATTACH;FMTTYPE=image/jpeg:https://lulusfunfoodmusic.com/wp-content/uploads/2024/07/John-Keuler.jpeg
END:VEVENT
BEGIN:VEVENT
DTSTART;TZID=America/Chicago:20250126T130000
DTEND;TZID=America/Chicago:20250126T170000
DTSTAMP:20260424T091810
CREATED:20240720T154336Z
LAST-MODIFIED:20260204T213238Z
UID:10000680-1737896400-1737910800@lulusfunfoodmusic.com
SUMMARY:Rick Cannon - North Myrtle Beach
DESCRIPTION:Rick Cannon – is a singer-songwriter based in North Myrtle Beach\, South Carolina\, known for his Americana music that blends coastal and western influences. Originally from the mountains\, he relocated to Myrtle Beach\, drawn by his passions for surfing and fishing
URL:https://lulusfunfoodmusic.com/event/rick-cannon-north-myrtle-beach/2025-01-26/
LOCATION:North Myrtle Beach\, 4954 Hwy 17 S\, North Myrtle Beach\, SC\, 29582\, United States
ATTACH;FMTTYPE=image/jpeg:https://lulusfunfoodmusic.com/wp-content/uploads/2024/07/Rick-Cannon.jpg
END:VEVENT
END:VCALENDAR