BEGIN:VCALENDAR
VERSION:2.0
PRODID:-//LuLu&#039;s - ECPv6.15.12.2//NONSGML v1.0//EN
CALSCALE:GREGORIAN
METHOD:PUBLISH
X-WR-CALNAME:LuLu&#039;s
X-ORIGINAL-URL:https://lulusfunfoodmusic.com
X-WR-CALDESC:Events for LuLu&#039;s
REFRESH-INTERVAL;VALUE=DURATION:PT1H
X-Robots-Tag:noindex
X-PUBLISHED-TTL:PT1H
BEGIN:VTIMEZONE
TZID:America/Chicago
BEGIN:DAYLIGHT
TZOFFSETFROM:-0600
TZOFFSETTO:-0500
TZNAME:CDT
DTSTART:20240310T080000
END:DAYLIGHT
BEGIN:STANDARD
TZOFFSETFROM:-0500
TZOFFSETTO:-0600
TZNAME:CST
DTSTART:20241103T070000
END:STANDARD
BEGIN:DAYLIGHT
TZOFFSETFROM:-0600
TZOFFSETTO:-0500
TZNAME:CDT
DTSTART:20250309T080000
END:DAYLIGHT
BEGIN:STANDARD
TZOFFSETFROM:-0500
TZOFFSETTO:-0600
TZNAME:CST
DTSTART:20251102T070000
END:STANDARD
BEGIN:DAYLIGHT
TZOFFSETFROM:-0600
TZOFFSETTO:-0500
TZNAME:CDT
DTSTART:20260308T080000
END:DAYLIGHT
BEGIN:STANDARD
TZOFFSETFROM:-0500
TZOFFSETTO:-0600
TZNAME:CST
DTSTART:20261101T070000
END:STANDARD
END:VTIMEZONE
BEGIN:VEVENT
DTSTART;TZID=America/Chicago:20250320T170000
DTEND;TZID=America/Chicago:20250320T210000
DTSTAMP:20260424T070413
CREATED:20240722T210805Z
LAST-MODIFIED:20250708T221759Z
UID:10000893-1742490000-1742504400@lulusfunfoodmusic.com
SUMMARY:Albert Simpson - Destin
DESCRIPTION:Albert Simpson\, hailing from Gadsden\, Alabama\, is a versatile musician known for his unique blend of Southern fried hippie funk. With a career that has seen him collaborate with legends from the Grateful Dead to Willie Nelson\, Albert’s musical journey is as diverse as it is impressive. His heartfelt songwriting and rich Alabama-accented voice have captivated audiences across the United States and beyond.
URL:https://lulusfunfoodmusic.com/event/albert-simpson-destin/2025-03-20/
LOCATION:Destin\, 4607 Legendary Marina Dr\, Florida\, 32541
ATTACH;FMTTYPE=image/jpeg:https://lulusfunfoodmusic.com/wp-content/uploads/2024/07/Albert-Simpson.jpg
END:VEVENT
BEGIN:VEVENT
DTSTART;TZID=America/Chicago:20250320T170000
DTEND;TZID=America/Chicago:20250320T210000
DTSTAMP:20260424T070413
CREATED:20241001T174453Z
LAST-MODIFIED:20250408T224303Z
UID:10001305-1742490000-1742504400@lulusfunfoodmusic.com
SUMMARY:Matt Lambe - North Myrtle Beach
DESCRIPTION:Matt Lambe – is an accomplished musician based in North Myrtle Beach\, South Carolina\, with over 20 years of experience performing across the Grand Strand area. His musical talents encompass acoustic and electric guitar\, bass\, piano\, drums\, and vocals. Notably\, Matt’s live performances feature a unique approach where he simultaneously plays drums with his feet and guitar while singing\, creating a full-band sound without any prerecorded elements.
URL:https://lulusfunfoodmusic.com/event/matt-lambe-north-myrtle-beach/2025-03-20/
LOCATION:North Myrtle Beach\, 4954 Hwy 17 S\, North Myrtle Beach\, SC\, 29582\, United States
ATTACH;FMTTYPE=image/jpeg:https://lulusfunfoodmusic.com/wp-content/uploads/2024/10/matt-lambe-1.jpg
END:VEVENT
BEGIN:VEVENT
DTSTART;TZID=America/Chicago:20250320T170000
DTEND;TZID=America/Chicago:20250320T210000
DTSTAMP:20260424T070413
CREATED:20250206T133124Z
LAST-MODIFIED:20250206T133124Z
UID:10000932-1742490000-1742504400@lulusfunfoodmusic.com
SUMMARY:Scott Kirby - Gulf Shores
DESCRIPTION:Singer\, songwriter\, guitarist\, storyteller\, traveler and road warrior are all words that aptly describe Scott Kirby. Finishing songs while driving through the Italian countryside\, performing 100 plus live shows throughout the US and Canada\, touring Ireland with 50 fans in tow\, and recording his tenth album in Nashville\, all keep the barnacles off this modern-day troubadour. \nA creative lyricist and accomplished finger-style acoustic guitarist with an expressive voice\, Kirby describes himself as a direct descendent of the ’70s singer/songwriter movement. His very first 45 was a Beatles record\, and he came of musical age listening to James Taylor and other great songwriters of that era. He has never received any formal musical training\, but often credits Taylor with teaching him how to play the acoustic guitar. “If it weren’t for the hundreds of solitary hours in my room in Concord\, New Hampshire\, with a guitar and a James Taylor book\, I never would have learned to play\,” says Kirby. Speaking of New Hampshire and musical influences\, let’s not forget fellow New Hampshire native Tom Rush who was taking the folk scene by storm in Kirby’s formative years. Coincidentally\, Kirby connected with both of these artists in Key West 30 years later\, which is a whole other story. \nAfter a few years in high school bands and a stint in his early 20s as a bass guitarist with a group\, Kirby drifted away from music and became immersed in a career in politics: managing campaigns\, writing and producing radio and TV ads\, and overseeing the office of a leader in the New Hampshire legislature. He was also guitarless for eight years! In 1988\, however\, after tiring of the political rat race and the length and severity of New England winters\, he bought a new guitar\, relentlessly practiced his chops\, and planned his escape. Six months later Kirby was living in Key West and performing five nights a week on a balmy beach facing the Gulf of Mexico. \nKirby started writing songs after some inspirational late-night words from legendary songwriter Shel Silverstein and further encouragement from Peter Mayer\, who had just joined the Coral Reefer Band. A year later he found himself recording his first CD\, Too Damn Yankee\, in Jimmy Buffett’s Shrimpboat Sound Studio with Peter and Jim Mayer and Roger Guth. “This was a very lucky break for me\, but I was in a bit over my head\,” says Kirby. “Peter\, Jim and Roger were incredibly patient with me and it was a fantastic learning experience.” \nBetween 1993 and 2006\, Kirby continued to write new material and recorded four more CDs with Key West producer/engineer Dan Simpson. In 2008 luck struck again when famed drummer/producer Russ Kunkel offered to produce Kirby’s Row Me Home CD at his studio in Los Angeles. “Next thing I know I’m cutting my songs in the Hollywood Hills with Russ\, bassist Leland Sklar and guitarist Dean Parks and feeling like the luckiest guy in the world.” \nSpeaking of luck\, Kirby’s wistful ballad “Lucky Enough” struck a chord with listeners on Sirius/XM Radio Margaritaville\, which exposed his music to more markets around the country and led to his current touring schedule through 35 states each year. He continues to receive regular airplay on the station. \nKirby joined a group of friends in 2011 to open the Smokin’ Tuna Saloon\, a 200-seat bar and music venue in Key West\, where Kirby often performed in the winter months. The Tuna is also host to the Key West Songwriter’s Festival\, which has exploded into the largest event of its kind\, in the world. \nIn 2013 Kirby released his seventh CD\, Sol Searching\, a collaboration with producer/engineer/musician Lew London. “Lew was great to work with as he’s so multi-talented\,” says Kirby. “He performed for years with Steve Goodman and is such a fine songwriter in his own right that he really understands how to build a sound around acoustically- based songs.” \nScott Kirby’s eighth CD\, La Casa Cayo Hueso\, was a live collaboration with occasional bandmates\, Brendan and Peter Mayer. His ninth effort\, Chasing Hemingway’s Ghost\, was recorded in Nashville with producer Andy Thompson in 2017. \nWhen it comes to songwriting\, Kirby respects authenticity and counts on everyday life and his coastal roots for much of his inspiration. “I don’t wake up every day thinking about writing the next commercial hit\,” says Kirby. “Songwriting for me is about telling stories\, expressing emotions\, and commentary on things I may find funny or absurd.” \nOver the years Kirby has shared the stage with some of his favorite artists: Carole King\, Jimmy Buffett\, Tom Rush\, Mac McAnally\, Darius Rucker\, Livingston Taylor\, Marty Stewart\, Asleep at the Wheel and others. When not on the road or performing in Key West\, Kirby splits his time between Key West and the coast of Maine\, where he can often be found sailing\, a lifelong passion of this descendent of Newfoundland fishermen. He’s also recently discovered a little town in Southern France\, where he plans to lay his head a month or two each year. \nYes\, Scott Kirby is—as he readily admits—lucky enough.
URL:https://lulusfunfoodmusic.com/event/scott-kirby-gulf-shores/
LOCATION:Gulf Shores\, AL
ATTACH;FMTTYPE=image/jpeg:https://lulusfunfoodmusic.com/wp-content/uploads/2025/02/Scott-Kirby-2024-promo.jpg
END:VEVENT
END:VCALENDAR