BEGIN:VCALENDAR
VERSION:2.0
PRODID:-//LuLu&#039;s - ECPv6.15.12.2//NONSGML v1.0//EN
CALSCALE:GREGORIAN
METHOD:PUBLISH
X-ORIGINAL-URL:https://lulusfunfoodmusic.com
X-WR-CALDESC:Events for LuLu&#039;s
REFRESH-INTERVAL;VALUE=DURATION:PT1H
X-Robots-Tag:noindex
X-PUBLISHED-TTL:PT1H
BEGIN:VTIMEZONE
TZID:America/Chicago
BEGIN:DAYLIGHT
TZOFFSETFROM:-0600
TZOFFSETTO:-0500
TZNAME:CDT
DTSTART:20240310T080000
END:DAYLIGHT
BEGIN:STANDARD
TZOFFSETFROM:-0500
TZOFFSETTO:-0600
TZNAME:CST
DTSTART:20241103T070000
END:STANDARD
BEGIN:DAYLIGHT
TZOFFSETFROM:-0600
TZOFFSETTO:-0500
TZNAME:CDT
DTSTART:20250309T080000
END:DAYLIGHT
BEGIN:STANDARD
TZOFFSETFROM:-0500
TZOFFSETTO:-0600
TZNAME:CST
DTSTART:20251102T070000
END:STANDARD
BEGIN:DAYLIGHT
TZOFFSETFROM:-0600
TZOFFSETTO:-0500
TZNAME:CDT
DTSTART:20260308T080000
END:DAYLIGHT
BEGIN:STANDARD
TZOFFSETFROM:-0500
TZOFFSETTO:-0600
TZNAME:CST
DTSTART:20261101T070000
END:STANDARD
END:VTIMEZONE
BEGIN:VEVENT
DTSTART;TZID=America/Chicago:20250321T170000
DTEND;TZID=America/Chicago:20250321T210000
DTSTAMP:20260424T051647
CREATED:20240717T201643Z
LAST-MODIFIED:20250923T190548Z
UID:10000745-1742576400-1742590800@lulusfunfoodmusic.com
SUMMARY:John Keuler - Gulf Shores
DESCRIPTION:John Keuler plays an organic\, soulful\, and vocal blend of favorites by Paul Simon\, Bob Marley\, The Band\, The Grateful Dead\, as well as original material.
URL:https://lulusfunfoodmusic.com/event/john-keuler-gulf-shores/2025-03-21/
LOCATION:Gulf Shores\, AL
ATTACH;FMTTYPE=image/jpeg:https://lulusfunfoodmusic.com/wp-content/uploads/2024/07/John-Keuler.jpeg
END:VEVENT
BEGIN:VEVENT
DTSTART;TZID=America/Chicago:20250321T170000
DTEND;TZID=America/Chicago:20250321T210000
DTSTAMP:20260424T051647
CREATED:20250311T201024Z
LAST-MODIFIED:20260304T172725Z
UID:10001015-1742576400-1742590800@lulusfunfoodmusic.com
SUMMARY:Jimmy Roca - North Myrtle Beach
DESCRIPTION:Jimmy Roca is a multi instrumentalist who has been playing music for over 25 years. The guitar is what first attracted him to music and has been his focus\, and strength\, since the age of 10.Jimmy Roca plays a wide variety of music genres\, showcasing his versatility as a musician. His style includes elements of: \n\nAcoustic\nAlternative\nPop Punk\nPunk\nFolk\nIndie\nPop\nReggae\nRock\nR&B\nEmo\n\nHe blends these styles into his performances\, often incorporating live instruments and unique arrangements. Whether it’s an upbeat pop tune or a laid-back acoustic vibe\, Jimmy Roca brings his own interpretation to a wide range of music.
URL:https://lulusfunfoodmusic.com/event/jimmy-roca-north-myrtle-beach/2025-03-21/
LOCATION:North Myrtle Beach\, 4954 Hwy 17 S\, North Myrtle Beach\, SC\, 29582\, United States
ATTACH;FMTTYPE=image/jpeg:https://lulusfunfoodmusic.com/wp-content/uploads/2024/07/Jimmy-Roca.jpg
END:VEVENT
END:VCALENDAR