BEGIN:VCALENDAR
VERSION:2.0
PRODID:-//LuLu&#039;s - ECPv6.15.12.2//NONSGML v1.0//EN
CALSCALE:GREGORIAN
METHOD:PUBLISH
X-ORIGINAL-URL:https://lulusfunfoodmusic.com
X-WR-CALDESC:Events for LuLu&#039;s
REFRESH-INTERVAL;VALUE=DURATION:PT1H
X-Robots-Tag:noindex
X-PUBLISHED-TTL:PT1H
BEGIN:VTIMEZONE
TZID:America/Chicago
BEGIN:DAYLIGHT
TZOFFSETFROM:-0600
TZOFFSETTO:-0500
TZNAME:CDT
DTSTART:20240310T080000
END:DAYLIGHT
BEGIN:STANDARD
TZOFFSETFROM:-0500
TZOFFSETTO:-0600
TZNAME:CST
DTSTART:20241103T070000
END:STANDARD
BEGIN:DAYLIGHT
TZOFFSETFROM:-0600
TZOFFSETTO:-0500
TZNAME:CDT
DTSTART:20250309T080000
END:DAYLIGHT
BEGIN:STANDARD
TZOFFSETFROM:-0500
TZOFFSETTO:-0600
TZNAME:CST
DTSTART:20251102T070000
END:STANDARD
BEGIN:DAYLIGHT
TZOFFSETFROM:-0600
TZOFFSETTO:-0500
TZNAME:CDT
DTSTART:20260308T080000
END:DAYLIGHT
BEGIN:STANDARD
TZOFFSETFROM:-0500
TZOFFSETTO:-0600
TZNAME:CST
DTSTART:20261101T070000
END:STANDARD
END:VTIMEZONE
BEGIN:VEVENT
DTSTART;TZID=America/Chicago:20250322T170000
DTEND;TZID=America/Chicago:20250322T210000
DTSTAMP:20260424T033637
CREATED:20240905T230644Z
LAST-MODIFIED:20260225T005214Z
UID:10000854-1742662800-1742677200@lulusfunfoodmusic.com
SUMMARY:Brendan Kirby - North Myrtle Beach
DESCRIPTION:Brendan Kirby-South Carolina native and accomplished musician known for his dynamic performances across the Myrtle Beach area. Born and raised in rural South Carolina\, Brendan began playing guitar at the age of 14\, quickly developing a deep passion for music.At 15\, Brendan moved to Nashville\, Tennessee\, where he had the opportunity to perform at renowned venues such as Tootsies\, Honky Tonk Central\, and Layla’s. He also appeared on “Nashville Spotlight\,” a television show featuring up-and-coming singers.After returning to South Carolina\, Brendan continued to build his reputation as a versatile musician\, performing a wide variety of music from classics to newer hits. His set lists include genres like country\, pop\, and rock\, featuring artists such as Ed Sheeran\, John Mayer\, and Chris Stapleton.
URL:https://lulusfunfoodmusic.com/event/brendan-kirby-north-myrtle-beach/2025-03-22/
LOCATION:North Myrtle Beach\, 4954 Hwy 17 S\, North Myrtle Beach\, SC\, 29582\, United States
ATTACH;FMTTYPE=image/jpeg:https://lulusfunfoodmusic.com/wp-content/uploads/2024/09/Brendan-Kirby.jpg
END:VEVENT
BEGIN:VEVENT
DTSTART;TZID=America/Chicago:20250322T170000
DTEND;TZID=America/Chicago:20250322T210000
DTSTAMP:20260424T033637
CREATED:20241212T165046Z
LAST-MODIFIED:20251020T154925Z
UID:10000753-1742662800-1742677200@lulusfunfoodmusic.com
SUMMARY:Brandon House- Destin
DESCRIPTION:Brandon House is a singer and musician from Acworth\, Georgia\, heavily influenced by country music icons such as George Strait and Conway Twitty.
URL:https://lulusfunfoodmusic.com/event/brandon-house-destin-2/2025-03-22/
LOCATION:Destin\, 4607 Legendary Marina Dr\, Florida\, 32541
ATTACH;FMTTYPE=image/jpeg:https://lulusfunfoodmusic.com/wp-content/uploads/2024/11/Brandon-House.jpg
END:VEVENT
BEGIN:VEVENT
DTSTART;TZID=America/Chicago:20250322T170000
DTEND;TZID=America/Chicago:20250322T210000
DTSTAMP:20260424T033637
CREATED:20250210T144623Z
LAST-MODIFIED:20260421T034457Z
UID:10000970-1742662800-1742677200@lulusfunfoodmusic.com
SUMMARY:Karl Langley & Amanda Donald
DESCRIPTION:It’s going to be a good time!  Mark your calendars and show up to sing a long with us!
URL:https://lulusfunfoodmusic.com/event/karl-langley-amanda-donald/2025-03-22/
LOCATION:Gulf Shores\, AL
ATTACH;FMTTYPE=image/jpeg:https://lulusfunfoodmusic.com/wp-content/uploads/2025/02/IMG_4087-2-e1739198763229.jpeg
END:VEVENT
END:VCALENDAR