BEGIN:VCALENDAR
VERSION:2.0
PRODID:-//LuLu&#039;s - ECPv6.15.12.2//NONSGML v1.0//EN
CALSCALE:GREGORIAN
METHOD:PUBLISH
X-WR-CALNAME:LuLu&#039;s
X-ORIGINAL-URL:https://lulusfunfoodmusic.com
X-WR-CALDESC:Events for LuLu&#039;s
REFRESH-INTERVAL;VALUE=DURATION:PT1H
X-Robots-Tag:noindex
X-PUBLISHED-TTL:PT1H
BEGIN:VTIMEZONE
TZID:America/Chicago
BEGIN:DAYLIGHT
TZOFFSETFROM:-0600
TZOFFSETTO:-0500
TZNAME:CDT
DTSTART:20240310T080000
END:DAYLIGHT
BEGIN:STANDARD
TZOFFSETFROM:-0500
TZOFFSETTO:-0600
TZNAME:CST
DTSTART:20241103T070000
END:STANDARD
BEGIN:DAYLIGHT
TZOFFSETFROM:-0600
TZOFFSETTO:-0500
TZNAME:CDT
DTSTART:20250309T080000
END:DAYLIGHT
BEGIN:STANDARD
TZOFFSETFROM:-0500
TZOFFSETTO:-0600
TZNAME:CST
DTSTART:20251102T070000
END:STANDARD
BEGIN:DAYLIGHT
TZOFFSETFROM:-0600
TZOFFSETTO:-0500
TZNAME:CDT
DTSTART:20260308T080000
END:DAYLIGHT
BEGIN:STANDARD
TZOFFSETFROM:-0500
TZOFFSETTO:-0600
TZNAME:CST
DTSTART:20261101T070000
END:STANDARD
END:VTIMEZONE
BEGIN:VEVENT
DTSTART;TZID=America/Chicago:20250327T170000
DTEND;TZID=America/Chicago:20250327T210000
DTSTAMP:20260423T185302
CREATED:20240715T145437Z
LAST-MODIFIED:20250722T141542Z
UID:10000903-1743094800-1743109200@lulusfunfoodmusic.com
SUMMARY:Kyle Brady - Gulf Shores
DESCRIPTION:Kyle Brady is an Alabama native with a long history of sharing his soulful\, roots-rock sound across the country. When Kyle’s not traveling across the US or renovating a vintage Airstream\, you can find him playing coastal folk tunes along the Gulf of Mexico. His Americana & Folk influences\, paired with laid back beach vibes\, create a perfect music combo – best enjoyed with fried shrimp & a cold beer. The sounds of John Hiatt\, Tom Petty\, and Bonnie Raitt can be heard in his stylings and setlist. Kyle is also one-half of Drivin’ & Vibin’ – the hubsand/wife duo that recently released their debut album “Among the Giants.” Along with their music\, they also create weekly video content on YouTube & Facebook!
URL:https://lulusfunfoodmusic.com/event/kyle-brady-gulf-shores/2025-03-27/
LOCATION:Gulf Shores\, AL
ATTACH;FMTTYPE=image/jpeg:https://lulusfunfoodmusic.com/wp-content/uploads/2024/07/Kyle-Brady.jpg
END:VEVENT
BEGIN:VEVENT
DTSTART;TZID=America/Chicago:20250327T170000
DTEND;TZID=America/Chicago:20250327T210000
DTSTAMP:20260423T185302
CREATED:20240718T125349Z
LAST-MODIFIED:20251008T004207Z
UID:10000944-1743094800-1743109200@lulusfunfoodmusic.com
SUMMARY:The Yale Brothers - North Myrtle Beach
DESCRIPTION:Identical twins Chris and Roger Yale cut their teeth on rock ‘n’ roll while growing up in Hollywood and regularly played the Sunset Strip with their band\, Rogue Alley. Now longtime Myrtle Beach residents\, Roger is a journalist and was a founding member of the classic rock cover band\, Sick Stooges – and Chris enjoyed a long stint with his band\, Medicine Hat – dating back into the 1990s on the Grand Strand. His CD\, “Well Enough Alone\,” has been described as “a rock car with country tires barreling down the blacktop of the American night.” The twins have been working on original music and digging into their collective psyches to reconnect with that spark they maintained for many years as The Yale Brothers – bringing with them a mindfully chosen collection of cover tunes as well. \nYou are not seeing double…
URL:https://lulusfunfoodmusic.com/event/the-yale-brothers-north-myrtle-beach/2025-03-27/
LOCATION:North Myrtle Beach\, 4954 Hwy 17 S\, North Myrtle Beach\, SC\, 29582\, United States
ATTACH;FMTTYPE=image/jpeg:https://lulusfunfoodmusic.com/wp-content/uploads/2024/07/Yale-Brothers.jpg
END:VEVENT
END:VCALENDAR