BEGIN:VCALENDAR
VERSION:2.0
PRODID:-//LuLu&#039;s - ECPv6.15.12.2//NONSGML v1.0//EN
CALSCALE:GREGORIAN
METHOD:PUBLISH
X-WR-CALNAME:LuLu&#039;s
X-ORIGINAL-URL:https://lulusfunfoodmusic.com
X-WR-CALDESC:Events for LuLu&#039;s
REFRESH-INTERVAL;VALUE=DURATION:PT1H
X-Robots-Tag:noindex
X-PUBLISHED-TTL:PT1H
BEGIN:VTIMEZONE
TZID:America/Chicago
BEGIN:DAYLIGHT
TZOFFSETFROM:-0600
TZOFFSETTO:-0500
TZNAME:CDT
DTSTART:20240310T080000
END:DAYLIGHT
BEGIN:STANDARD
TZOFFSETFROM:-0500
TZOFFSETTO:-0600
TZNAME:CST
DTSTART:20241103T070000
END:STANDARD
BEGIN:DAYLIGHT
TZOFFSETFROM:-0600
TZOFFSETTO:-0500
TZNAME:CDT
DTSTART:20250309T080000
END:DAYLIGHT
BEGIN:STANDARD
TZOFFSETFROM:-0500
TZOFFSETTO:-0600
TZNAME:CST
DTSTART:20251102T070000
END:STANDARD
BEGIN:DAYLIGHT
TZOFFSETFROM:-0600
TZOFFSETTO:-0500
TZNAME:CDT
DTSTART:20260308T080000
END:DAYLIGHT
BEGIN:STANDARD
TZOFFSETFROM:-0500
TZOFFSETTO:-0600
TZNAME:CST
DTSTART:20261101T070000
END:STANDARD
END:VTIMEZONE
BEGIN:VEVENT
DTSTART;TZID=America/Chicago:20250328T170000
DTEND;TZID=America/Chicago:20250328T210000
DTSTAMP:20260425T064929
CREATED:20240715T144029Z
LAST-MODIFIED:20251210T005034Z
UID:10000748-1743181200-1743195600@lulusfunfoodmusic.com
SUMMARY:GypsyPearl - Gulf Shores
DESCRIPTION:The GypsyPearl Duo brings a vibrant mix of soulful vocals\, tight harmonies\, and acoustic energy to every performance along the Gulf Coast. Known for their dynamic stage presence and ability to read a crowd\, they blend modern country\, classic rock\, and heartfelt originals into a feel-good show that keeps guests engaged from the first song to the last. \nTheir sound pulls influence from artists like Fleetwood Mac\, Miranda Lambert\, Chris Stapleton\, and The Eagles\, delivering familiar favorites with a fresh\, coastal twist. Whether it’s an upbeat afternoon set or a relaxed evening vibe\, GypsyPearl Duo brings the perfect mix of polish\, personality\, and coastal charm to LuLu’s Gulf Shores.
URL:https://lulusfunfoodmusic.com/event/gypsy-pearl-gulf-shores/2025-03-28/
LOCATION:Gulf Shores\, AL
ATTACH;FMTTYPE=image/jpeg:https://lulusfunfoodmusic.com/wp-content/uploads/2024/07/GypsyPearl.jpg
END:VEVENT
BEGIN:VEVENT
DTSTART;TZID=America/Chicago:20250328T170000
DTEND;TZID=America/Chicago:20250328T210000
DTSTAMP:20260425T064929
CREATED:20240715T161853Z
LAST-MODIFIED:20250610T141336Z
UID:10000897-1743181200-1743195600@lulusfunfoodmusic.com
SUMMARY:Marc Harris - Destin
DESCRIPTION:Born and raised in Nashville\, Marc Harris spent much of his early childhood in his Father’s apparel store\, which outfitted some of classic country’s legends. Influenced by the greats of country and rock\, Marc developed his own twangy melodic sound\, Harris started out playing night clubs in Nashville throughout high school and toured the southeast playing frat parties during college. Marc made a conscious decision to catch a tour bus heading out of town in the early 90s and hit ‘The Road’ with Lee Roy Parnell as well as John Berry\, Stacey Dean Campbell\, among others. After touring as a sideman for country artists throughout the 90s\, Marc moved to Point Washington Florida in 2001 where his creativity and songwriting flourished.  His original music has been dubbed “Southern Surf”. \nThe Athens Flagpole referred to Harris’ music as “Guitar Strong Modern Rock\,” while the Destin Beachcomber described it as “The best kind of singer-songwriter material- intelligent\, well crafted\, and accessible to twang lovers and haters alike.” The Birmingham weekly aptly called Marc’s music “A Mix of Renegade Country and Beach-Tinged Tunes.”
URL:https://lulusfunfoodmusic.com/event/marc-harris-destin/2025-03-28/
LOCATION:Destin\, 4607 Legendary Marina Dr\, Florida\, 32541
ATTACH;FMTTYPE=image/jpeg:https://lulusfunfoodmusic.com/wp-content/uploads/2024/07/Marc-Harris.jpg
END:VEVENT
BEGIN:VEVENT
DTSTART;TZID=America/Chicago:20250328T170000
DTEND;TZID=America/Chicago:20250328T210000
DTSTAMP:20260425T064929
CREATED:20250610T141538Z
LAST-MODIFIED:20251020T155444Z
UID:10001620-1743181200-1743195600@lulusfunfoodmusic.com
SUMMARY:Marc Harris - Destin
DESCRIPTION:Born and raised in Nashville\, Marc Harris spent much of his early childhood in his Father’s apparel store\, which outfitted some of classic country’s legends. Influenced by the greats of country and rock\, Marc developed his own twangy melodic sound\, Harris started out playing night clubs in Nashville throughout high school and toured the southeast playing frat parties during college. Marc made a conscious decision to catch a tour bus heading out of town in the early 90s and hit ‘The Road’ with Lee Roy Parnell as well as John Berry\, Stacey Dean Campbell\, among others. After touring as a sideman for country artists throughout the 90s\, Marc moved to Point Washington Florida in 2001 where his creativity and songwriting flourished.  His original music has been dubbed “Southern Surf”. \nThe Athens Flagpole referred to Harris’ music as “Guitar Strong Modern Rock\,” while the Destin Beachcomber described it as “The best kind of singer-songwriter material- intelligent\, well crafted\, and accessible to twang lovers and haters alike.” The Birmingham weekly aptly called Marc’s music “A Mix of Renegade Country and Beach-Tinged Tunes.”
URL:https://lulusfunfoodmusic.com/event/marc-harris-destin-2/2025-03-28/
LOCATION:Destin\, 4607 Legendary Marina Dr\, Florida\, 32541
ATTACH;FMTTYPE=image/jpeg:https://lulusfunfoodmusic.com/wp-content/uploads/2024/07/Marc-Harris.jpg
END:VEVENT
END:VCALENDAR