BEGIN:VCALENDAR
VERSION:2.0
PRODID:-//LuLu&#039;s - ECPv6.15.12.2//NONSGML v1.0//EN
CALSCALE:GREGORIAN
METHOD:PUBLISH
X-ORIGINAL-URL:https://lulusfunfoodmusic.com
X-WR-CALDESC:Events for LuLu&#039;s
REFRESH-INTERVAL;VALUE=DURATION:PT1H
X-Robots-Tag:noindex
X-PUBLISHED-TTL:PT1H
BEGIN:VTIMEZONE
TZID:America/Chicago
BEGIN:DAYLIGHT
TZOFFSETFROM:-0600
TZOFFSETTO:-0500
TZNAME:CDT
DTSTART:20240310T080000
END:DAYLIGHT
BEGIN:STANDARD
TZOFFSETFROM:-0500
TZOFFSETTO:-0600
TZNAME:CST
DTSTART:20241103T070000
END:STANDARD
BEGIN:DAYLIGHT
TZOFFSETFROM:-0600
TZOFFSETTO:-0500
TZNAME:CDT
DTSTART:20250309T080000
END:DAYLIGHT
BEGIN:STANDARD
TZOFFSETFROM:-0500
TZOFFSETTO:-0600
TZNAME:CST
DTSTART:20251102T070000
END:STANDARD
BEGIN:DAYLIGHT
TZOFFSETFROM:-0600
TZOFFSETTO:-0500
TZNAME:CDT
DTSTART:20260308T080000
END:DAYLIGHT
BEGIN:STANDARD
TZOFFSETFROM:-0500
TZOFFSETTO:-0600
TZNAME:CST
DTSTART:20261101T070000
END:STANDARD
END:VTIMEZONE
BEGIN:VEVENT
DTSTART;TZID=America/Chicago:20250401T170000
DTEND;TZID=America/Chicago:20250401T210000
DTSTAMP:20260423T124228
CREATED:20240719T122545Z
LAST-MODIFIED:20251208T225025Z
UID:10000986-1743526800-1743541200@lulusfunfoodmusic.com
SUMMARY:Charles Freeman - North Myrtle Beach
DESCRIPTION:Charles Freeman of Murrells Inlet\, SC\, has been a professional working musician on the Grand Strand coast for nearly 20 years. Charles brings a lot to the stage; professionalism\, personality\, and a tremendous variety of music. Charles has embraced the country music genre\, performing songs from artists like Tyler Childers\, Morgan Wallen\, Luke Combs\, Zach Bryan\, and more\, while also being sure to include dozens of other artists’ material in his set list: Jimmy Buffett\, Creedence Clearwater Revival\, Tom Petty\, James Taylor\, The Eagles\, The Grateful Dead\, Jack Johnson\, just to name a few. A good time is always had by all when Charles is behind the microphone!
URL:https://lulusfunfoodmusic.com/event/charles-freeman-north-myrtle-beach-2/2025-04-01/
LOCATION:North Myrtle Beach\, 4954 Hwy 17 S\, North Myrtle Beach\, SC\, 29582\, United States
ATTACH;FMTTYPE=image/jpeg:https://lulusfunfoodmusic.com/wp-content/uploads/2024/07/Charles-Freeman.jpg
END:VEVENT
BEGIN:VEVENT
DTSTART;TZID=America/Chicago:20250401T170000
DTEND;TZID=America/Chicago:20250401T210000
DTSTAMP:20260423T124228
CREATED:20250204T234051Z
LAST-MODIFIED:20250923T175529Z
UID:10000888-1743526800-1743541200@lulusfunfoodmusic.com
SUMMARY:Charlie Rees - Destin
DESCRIPTION:Charlie Rees is a professional entertainer. He sings\, and plays guitar\, piano\, and fiddle. He has performed all over the USA\, and has played in Norway\, Denmark\, Sweden\, Scotland\, Finland\, Greece\, Germany\, Portugal\, Turkey\, Morocco\, and the former Czechoslovakia. Charlie’s music ranges from Rock n’ Roll to Country\, Cajun to Easy Listening. He has a winning manner with his audiences. Come ready to sing along!
URL:https://lulusfunfoodmusic.com/event/charlie-rees-destin/2025-04-01/
LOCATION:Destin\, 4607 Legendary Marina Dr\, Florida\, 32541
ATTACH;FMTTYPE=image/png:https://lulusfunfoodmusic.com/wp-content/uploads/2024/07/Generic-Music-Photo.png
END:VEVENT
BEGIN:VEVENT
DTSTART;TZID=America/Chicago:20250401T170000
DTEND;TZID=America/Chicago:20250401T210000
DTSTAMP:20260423T124228
CREATED:20250210T144132Z
LAST-MODIFIED:20250828T203833Z
UID:10000969-1743526800-1743541200@lulusfunfoodmusic.com
SUMMARY:Smith & Kern - Gulf Shores
DESCRIPTION:This high energy acoustic duo features Alan Smith on acoustic guitar\, mandolin\, and vocals and Russ Kern on sax\, blues harmonica\, and guitar/slide and vocals. Their soulful blend of Americana\, Blues Rock\, Country\, and original music is sure to please. Featuring tight vocal harmonies and the ability to switch instruments throughout their sets makes this duo one of the most versatile and entertaining on the Gulf Coast.
URL:https://lulusfunfoodmusic.com/event/smith-kern-gulf-shores/2025-04-01/
LOCATION:Gulf Shores\, AL
ATTACH;FMTTYPE=image/png:https://lulusfunfoodmusic.com/wp-content/uploads/2025/03/smithKern.png
END:VEVENT
END:VCALENDAR