BEGIN:VCALENDAR
VERSION:2.0
PRODID:-//LuLu&#039;s - ECPv6.15.12.2//NONSGML v1.0//EN
CALSCALE:GREGORIAN
METHOD:PUBLISH
X-ORIGINAL-URL:https://lulusfunfoodmusic.com
X-WR-CALDESC:Events for LuLu&#039;s
REFRESH-INTERVAL;VALUE=DURATION:PT1H
X-Robots-Tag:noindex
X-PUBLISHED-TTL:PT1H
BEGIN:VTIMEZONE
TZID:America/Chicago
BEGIN:DAYLIGHT
TZOFFSETFROM:-0600
TZOFFSETTO:-0500
TZNAME:CDT
DTSTART:20240310T080000
END:DAYLIGHT
BEGIN:STANDARD
TZOFFSETFROM:-0500
TZOFFSETTO:-0600
TZNAME:CST
DTSTART:20241103T070000
END:STANDARD
BEGIN:DAYLIGHT
TZOFFSETFROM:-0600
TZOFFSETTO:-0500
TZNAME:CDT
DTSTART:20250309T080000
END:DAYLIGHT
BEGIN:STANDARD
TZOFFSETFROM:-0500
TZOFFSETTO:-0600
TZNAME:CST
DTSTART:20251102T070000
END:STANDARD
BEGIN:DAYLIGHT
TZOFFSETFROM:-0600
TZOFFSETTO:-0500
TZNAME:CDT
DTSTART:20260308T080000
END:DAYLIGHT
BEGIN:STANDARD
TZOFFSETFROM:-0500
TZOFFSETTO:-0600
TZNAME:CST
DTSTART:20261101T070000
END:STANDARD
END:VTIMEZONE
BEGIN:VEVENT
DTSTART;TZID=America/Chicago:20250406T170000
DTEND;TZID=America/Chicago:20250406T210000
DTSTAMP:20260425T065552
CREATED:20240715T155122Z
LAST-MODIFIED:20250528T214544Z
UID:10001577-1743958800-1743973200@lulusfunfoodmusic.com
SUMMARY:Ronnie Presley - Destin
DESCRIPTION:With over 50 years of being a front man\, singer and solo musician Ronnie Presley is still cranking out his brand of music to music lovers everywhere. His musical and vocal influences range from John Fogerty\, Paul Rodgers\, Vince Gill\, Randy Owen\, Ry Cooder\, Keith Urban\, Paul Carrick any many more. Ronnie Presley is a very distant relative to the King of Rock & Roll\, Elvis Presley. Whether it is the blues\, country\, classic rock or reggae that you love to listen to then you should plan on seeing one of his shows soon.
URL:https://lulusfunfoodmusic.com/event/ronnie-presley-destin/2025-04-06/
LOCATION:Destin\, 4607 Legendary Marina Dr\, Florida\, 32541
ATTACH;FMTTYPE=image/jpeg:https://lulusfunfoodmusic.com/wp-content/uploads/2024/07/Ronnie-Presley.jpg
END:VEVENT
BEGIN:VEVENT
DTSTART;TZID=America/Chicago:20250406T170000
DTEND;TZID=America/Chicago:20250406T210000
DTSTAMP:20260425T065552
CREATED:20240717T182430Z
LAST-MODIFIED:20250708T230222Z
UID:10000929-1743958800-1743973200@lulusfunfoodmusic.com
SUMMARY:Albert Simpson - Gulf Shores
DESCRIPTION:Albert Simpson\, hailing from Gadsden\, Alabama\, is a versatile musician known for his unique blend of Southern fried hippie funk. With a career that has seen him collaborate with legends from the Grateful Dead to Willie Nelson\, Albert’s musical journey is as diverse as it is impressive. His heartfelt songwriting and rich Alabama-accented voice have captivated audiences across the United States and beyond.
URL:https://lulusfunfoodmusic.com/event/albert-simpson-gulf-shores/2025-04-06/
LOCATION:Gulf Shores\, AL
ATTACH;FMTTYPE=image/jpeg:https://lulusfunfoodmusic.com/wp-content/uploads/2024/07/Albert-Simpson.jpg
END:VEVENT
BEGIN:VEVENT
DTSTART;TZID=America/Chicago:20250406T170000
DTEND;TZID=America/Chicago:20250406T210000
DTSTAMP:20260425T065552
CREATED:20240718T131501Z
LAST-MODIFIED:20251031T192808Z
UID:10000967-1743958800-1743973200@lulusfunfoodmusic.com
SUMMARY:Liz Kelley - North Myrtle Beach
DESCRIPTION:A multi-cultural multi-instrumentalist\, Liz Kelley grew up between Tokyo and the American South. In college she studied classical guitar\, music technology and jazz voice\, receiving a DownBeat award and performing at Montreux\, Umbria and Vienne Jazz Festivals. Having opened for Lalah Hathaway\, Nate Smith and Makaya McCraven\, and working with MonoNeon\, Liz Kelley pulls from her background in jazz\, AI sound design and an international upbringing to create alternative textures with a sullen danceability. Influences ranging from Hiatus Kaiyote to Bjork can be heard due to this diverse cultural and educational background. Her days are filled as a sound designer for an AI DJ company\, composer for a neuroscience firm\, and independently touring nationally and internationally. Her recent single “Notice” was co-produced by Kelley’s longtime collaborator Justin Trout\, and features Grammy-Award winner MonoNeon (Prince\, Ne-Yo).
URL:https://lulusfunfoodmusic.com/event/liz-kelley-north-myrtle-beach/2025-04-06/
LOCATION:North Myrtle Beach\, 4954 Hwy 17 S\, North Myrtle Beach\, SC\, 29582\, United States
ATTACH;FMTTYPE=image/webp:https://lulusfunfoodmusic.com/wp-content/uploads/2024/07/Liz-Kelley-1.webp
END:VEVENT
BEGIN:VEVENT
DTSTART;TZID=America/Chicago:20250406T170000
DTEND;TZID=America/Chicago:20250406T210000
DTSTAMP:20260425T065552
CREATED:20250404T170953Z
LAST-MODIFIED:20250721T141837Z
UID:10001368-1743958800-1743973200@lulusfunfoodmusic.com
SUMMARY:Ronnie Presley- Destin
DESCRIPTION:With over 50 years of being a front man\, singer and solo musician Ronnie Presley is still cranking out his brand of music to music lovers everywhere. His musical and vocal influences range from John Fogerty\, Paul Rodgers\, Vince Gill\, Randy Owen\, Ry Cooder\, Keith Urban\, Paul Carrick any many more. Ronnie Presley is a very distant relative to the King of Rock & Roll\, Elvis Presley. Whether it is the blues\, country\, classic rock or reggae that you love to listen to then you should plan on seeing one of his shows soon.
URL:https://lulusfunfoodmusic.com/event/ronnie-presley-destin-2/2025-04-06/
LOCATION:Destin\, 4607 Legendary Marina Dr\, Florida\, 32541
ATTACH;FMTTYPE=image/jpeg:https://lulusfunfoodmusic.com/wp-content/uploads/2024/07/Ronnie-Presley.jpg
END:VEVENT
END:VCALENDAR