BEGIN:VCALENDAR
VERSION:2.0
PRODID:-//LuLu&#039;s - ECPv6.15.12.2//NONSGML v1.0//EN
CALSCALE:GREGORIAN
METHOD:PUBLISH
X-ORIGINAL-URL:https://lulusfunfoodmusic.com
X-WR-CALDESC:Events for LuLu&#039;s
REFRESH-INTERVAL;VALUE=DURATION:PT1H
X-Robots-Tag:noindex
X-PUBLISHED-TTL:PT1H
BEGIN:VTIMEZONE
TZID:America/Chicago
BEGIN:DAYLIGHT
TZOFFSETFROM:-0600
TZOFFSETTO:-0500
TZNAME:CDT
DTSTART:20240310T080000
END:DAYLIGHT
BEGIN:STANDARD
TZOFFSETFROM:-0500
TZOFFSETTO:-0600
TZNAME:CST
DTSTART:20241103T070000
END:STANDARD
BEGIN:DAYLIGHT
TZOFFSETFROM:-0600
TZOFFSETTO:-0500
TZNAME:CDT
DTSTART:20250309T080000
END:DAYLIGHT
BEGIN:STANDARD
TZOFFSETFROM:-0500
TZOFFSETTO:-0600
TZNAME:CST
DTSTART:20251102T070000
END:STANDARD
BEGIN:DAYLIGHT
TZOFFSETFROM:-0600
TZOFFSETTO:-0500
TZNAME:CDT
DTSTART:20260308T080000
END:DAYLIGHT
BEGIN:STANDARD
TZOFFSETFROM:-0500
TZOFFSETTO:-0600
TZNAME:CST
DTSTART:20261101T070000
END:STANDARD
END:VTIMEZONE
BEGIN:VEVENT
DTSTART;TZID=America/Chicago:20250416T170000
DTEND;TZID=America/Chicago:20250416T210000
DTSTAMP:20260425T102157
CREATED:20240715T161853Z
LAST-MODIFIED:20250610T141336Z
UID:10000898-1744822800-1744837200@lulusfunfoodmusic.com
SUMMARY:Marc Harris - Destin
DESCRIPTION:Born and raised in Nashville\, Marc Harris spent much of his early childhood in his Father’s apparel store\, which outfitted some of classic country’s legends. Influenced by the greats of country and rock\, Marc developed his own twangy melodic sound\, Harris started out playing night clubs in Nashville throughout high school and toured the southeast playing frat parties during college. Marc made a conscious decision to catch a tour bus heading out of town in the early 90s and hit ‘The Road’ with Lee Roy Parnell as well as John Berry\, Stacey Dean Campbell\, among others. After touring as a sideman for country artists throughout the 90s\, Marc moved to Point Washington Florida in 2001 where his creativity and songwriting flourished.  His original music has been dubbed “Southern Surf”. \nThe Athens Flagpole referred to Harris’ music as “Guitar Strong Modern Rock\,” while the Destin Beachcomber described it as “The best kind of singer-songwriter material- intelligent\, well crafted\, and accessible to twang lovers and haters alike.” The Birmingham weekly aptly called Marc’s music “A Mix of Renegade Country and Beach-Tinged Tunes.”
URL:https://lulusfunfoodmusic.com/event/marc-harris-destin/2025-04-16/
LOCATION:Destin\, 4607 Legendary Marina Dr\, Florida\, 32541
ATTACH;FMTTYPE=image/jpeg:https://lulusfunfoodmusic.com/wp-content/uploads/2024/07/Marc-Harris.jpg
END:VEVENT
BEGIN:VEVENT
DTSTART;TZID=America/Chicago:20250416T170000
DTEND;TZID=America/Chicago:20250416T210000
DTSTAMP:20260425T102157
CREATED:20240913T093648Z
LAST-MODIFIED:20260304T220041Z
UID:10000961-1744822800-1744837200@lulusfunfoodmusic.com
SUMMARY:Matt Doda - North Myrtle Beach
DESCRIPTION:Matt Doda – is a talented and versatile musician\, singer\, and songwriter based in Myrtle Beach\, South Carolina. Originally from central New Jersey\, Matt relocated to the Grand Strand in 2008\, where he quickly made a name for himself in the local music scene. His strong musical background and versatile skills allow him to perform across multiple genres and styles. Matt covers a variety of genres\, including rock\, pop\, folk\, blues\, country\, and classic hits\, appealing to a broad audience. His ability to take song requests and adapt his performances to suit the vibe of each event has made him a favorite at venues in Myrtle Beach and beyond. Whether he’s playing well-known classics or contemporary tunes\, Matt’s shows are filled with energy\, audience interaction\, and musical excellence
URL:https://lulusfunfoodmusic.com/event/matt-doda-north-myrtle-beach/2025-04-16/
LOCATION:North Myrtle Beach\, 4954 Hwy 17 S\, North Myrtle Beach\, SC\, 29582\, United States
ATTACH;FMTTYPE=image/jpeg:https://lulusfunfoodmusic.com/wp-content/uploads/2024/09/bands.jpg
END:VEVENT
BEGIN:VEVENT
DTSTART;TZID=America/Chicago:20250416T170000
DTEND;TZID=America/Chicago:20250416T210000
DTSTAMP:20260425T102157
CREATED:20250206T133419Z
LAST-MODIFIED:20250508T221006Z
UID:10001372-1744822800-1744837200@lulusfunfoodmusic.com
SUMMARY:Jesse Taylor Perry - Gulf Shores
DESCRIPTION:Baldwin County Native Singer/Songwriter/Musician known for his wide appeal to audiences of all ages for his soulful sound and wicked guitar playing. Is a student of all musicians and genres and enjoys bringing people together with his music\, will leave you on the edge of your seat to see what he will be playing next.
URL:https://lulusfunfoodmusic.com/event/jesse-taylor-perry-gulf-shores/2025-04-16/
LOCATION:Gulf Shores\, AL
ATTACH;FMTTYPE=image/png:https://lulusfunfoodmusic.com/wp-content/uploads/2025/02/Jesse-Taylor-Perry.png
END:VEVENT
BEGIN:VEVENT
DTSTART;TZID=America/Chicago:20250416T170000
DTEND;TZID=America/Chicago:20250416T210000
DTSTAMP:20260425T102157
CREATED:20250610T141538Z
LAST-MODIFIED:20251020T155444Z
UID:10001621-1744822800-1744837200@lulusfunfoodmusic.com
SUMMARY:Marc Harris - Destin
DESCRIPTION:Born and raised in Nashville\, Marc Harris spent much of his early childhood in his Father’s apparel store\, which outfitted some of classic country’s legends. Influenced by the greats of country and rock\, Marc developed his own twangy melodic sound\, Harris started out playing night clubs in Nashville throughout high school and toured the southeast playing frat parties during college. Marc made a conscious decision to catch a tour bus heading out of town in the early 90s and hit ‘The Road’ with Lee Roy Parnell as well as John Berry\, Stacey Dean Campbell\, among others. After touring as a sideman for country artists throughout the 90s\, Marc moved to Point Washington Florida in 2001 where his creativity and songwriting flourished.  His original music has been dubbed “Southern Surf”. \nThe Athens Flagpole referred to Harris’ music as “Guitar Strong Modern Rock\,” while the Destin Beachcomber described it as “The best kind of singer-songwriter material- intelligent\, well crafted\, and accessible to twang lovers and haters alike.” The Birmingham weekly aptly called Marc’s music “A Mix of Renegade Country and Beach-Tinged Tunes.”
URL:https://lulusfunfoodmusic.com/event/marc-harris-destin-2/2025-04-16/
LOCATION:Destin\, 4607 Legendary Marina Dr\, Florida\, 32541
ATTACH;FMTTYPE=image/jpeg:https://lulusfunfoodmusic.com/wp-content/uploads/2024/07/Marc-Harris.jpg
END:VEVENT
END:VCALENDAR