BEGIN:VCALENDAR
VERSION:2.0
PRODID:-//LuLu&#039;s - ECPv6.15.12.2//NONSGML v1.0//EN
CALSCALE:GREGORIAN
METHOD:PUBLISH
X-WR-CALNAME:LuLu&#039;s
X-ORIGINAL-URL:https://lulusfunfoodmusic.com
X-WR-CALDESC:Events for LuLu&#039;s
REFRESH-INTERVAL;VALUE=DURATION:PT1H
X-Robots-Tag:noindex
X-PUBLISHED-TTL:PT1H
BEGIN:VTIMEZONE
TZID:America/Chicago
BEGIN:DAYLIGHT
TZOFFSETFROM:-0600
TZOFFSETTO:-0500
TZNAME:CDT
DTSTART:20240310T080000
END:DAYLIGHT
BEGIN:STANDARD
TZOFFSETFROM:-0500
TZOFFSETTO:-0600
TZNAME:CST
DTSTART:20241103T070000
END:STANDARD
BEGIN:DAYLIGHT
TZOFFSETFROM:-0600
TZOFFSETTO:-0500
TZNAME:CDT
DTSTART:20250309T080000
END:DAYLIGHT
BEGIN:STANDARD
TZOFFSETFROM:-0500
TZOFFSETTO:-0600
TZNAME:CST
DTSTART:20251102T070000
END:STANDARD
BEGIN:DAYLIGHT
TZOFFSETFROM:-0600
TZOFFSETTO:-0500
TZNAME:CDT
DTSTART:20260308T080000
END:DAYLIGHT
BEGIN:STANDARD
TZOFFSETFROM:-0500
TZOFFSETTO:-0600
TZNAME:CST
DTSTART:20261101T070000
END:STANDARD
END:VTIMEZONE
BEGIN:VEVENT
DTSTART;TZID=America/Chicago:20250418T170000
DTEND;TZID=America/Chicago:20250418T210000
DTSTAMP:20260423T154110
CREATED:20240715T145437Z
LAST-MODIFIED:20250722T141542Z
UID:10001334-1744995600-1745010000@lulusfunfoodmusic.com
SUMMARY:Kyle Brady - Gulf Shores
DESCRIPTION:Kyle Brady is an Alabama native with a long history of sharing his soulful\, roots-rock sound across the country. When Kyle’s not traveling across the US or renovating a vintage Airstream\, you can find him playing coastal folk tunes along the Gulf of Mexico. His Americana & Folk influences\, paired with laid back beach vibes\, create a perfect music combo – best enjoyed with fried shrimp & a cold beer. The sounds of John Hiatt\, Tom Petty\, and Bonnie Raitt can be heard in his stylings and setlist. Kyle is also one-half of Drivin’ & Vibin’ – the hubsand/wife duo that recently released their debut album “Among the Giants.” Along with their music\, they also create weekly video content on YouTube & Facebook!
URL:https://lulusfunfoodmusic.com/event/kyle-brady-gulf-shores/2025-04-18/
LOCATION:Gulf Shores\, AL
ATTACH;FMTTYPE=image/jpeg:https://lulusfunfoodmusic.com/wp-content/uploads/2024/07/Kyle-Brady.jpg
END:VEVENT
BEGIN:VEVENT
DTSTART;TZID=America/Chicago:20250418T170000
DTEND;TZID=America/Chicago:20250418T210000
DTSTAMP:20260423T154110
CREATED:20240905T234047Z
LAST-MODIFIED:20250923T171817Z
UID:10000887-1744995600-1745010000@lulusfunfoodmusic.com
SUMMARY:Coconut Radio - Destin
DESCRIPTION:Award winning violinist and Trop Rock nominee Sue Kittredge and singer/songwriter Steve Reeths of Coconut Radio have been playing dumps and palaces from Chicago and Nashville down to Tampa and Key West since meeting in 1992. Currently living in the panhandle of Florida\, the duo spend their time writing songs\, playing music and living the dream on the Emerald Coast. The music of Coconut Radio is meant to share that feeling\, those emotions one feels sharing a cold one with friends at the tiki bar or watching a beautiful sunset. Susan Kittredge\, violinst extrordinaire\, has been twice nominated for one of five Trop Rock female performers nation wide. Their two self-released CDs are being played nation wide by Trop Rock radio stations from Key West to California.
URL:https://lulusfunfoodmusic.com/event/coconut-radio-destin/2025-04-18/
LOCATION:Destin\, 4607 Legendary Marina Dr\, Florida\, 32541
ATTACH;FMTTYPE=image/jpeg:https://lulusfunfoodmusic.com/wp-content/uploads/2024/09/CoConut-Radio.jpeg
END:VEVENT
END:VCALENDAR