BEGIN:VCALENDAR
VERSION:2.0
PRODID:-//LuLu&#039;s - ECPv6.15.12.2//NONSGML v1.0//EN
CALSCALE:GREGORIAN
METHOD:PUBLISH
X-WR-CALNAME:LuLu&#039;s
X-ORIGINAL-URL:https://lulusfunfoodmusic.com
X-WR-CALDESC:Events for LuLu&#039;s
REFRESH-INTERVAL;VALUE=DURATION:PT1H
X-Robots-Tag:noindex
X-PUBLISHED-TTL:PT1H
BEGIN:VTIMEZONE
TZID:America/Chicago
BEGIN:DAYLIGHT
TZOFFSETFROM:-0600
TZOFFSETTO:-0500
TZNAME:CDT
DTSTART:20240310T080000
END:DAYLIGHT
BEGIN:STANDARD
TZOFFSETFROM:-0500
TZOFFSETTO:-0600
TZNAME:CST
DTSTART:20241103T070000
END:STANDARD
BEGIN:DAYLIGHT
TZOFFSETFROM:-0600
TZOFFSETTO:-0500
TZNAME:CDT
DTSTART:20250309T080000
END:DAYLIGHT
BEGIN:STANDARD
TZOFFSETFROM:-0500
TZOFFSETTO:-0600
TZNAME:CST
DTSTART:20251102T070000
END:STANDARD
BEGIN:DAYLIGHT
TZOFFSETFROM:-0600
TZOFFSETTO:-0500
TZNAME:CDT
DTSTART:20260308T080000
END:DAYLIGHT
BEGIN:STANDARD
TZOFFSETFROM:-0500
TZOFFSETTO:-0600
TZNAME:CST
DTSTART:20261101T070000
END:STANDARD
END:VTIMEZONE
BEGIN:VEVENT
DTSTART;TZID=America/Chicago:20250422T170000
DTEND;TZID=America/Chicago:20250422T210000
DTSTAMP:20260423T153400
CREATED:20240723T010139Z
LAST-MODIFIED:20260311T163612Z
UID:10000957-1745341200-1745355600@lulusfunfoodmusic.com
SUMMARY:Alvarado Road Show - North Myrtle Beach
DESCRIPTION:The Alvarado Road Show-Country music duo consisting of brothers AJ and Cleve Clark. Hailing from the American heartland\, they are known for their rootsy and authentic style of country music\, blending heartfelt storytelling with harmonious melodies. Their music explores a range of themes\, such as life\, love\, and relationships\, and resonates with fans who enjoy the classic country sound infused with personal\, emotional narratives.
URL:https://lulusfunfoodmusic.com/event/alvarado-road-show-north-myrtle-beach/2025-04-22/
LOCATION:North Myrtle Beach\, 4954 Hwy 17 S\, North Myrtle Beach\, SC\, 29582\, United States
ATTACH;FMTTYPE=image/jpeg:https://lulusfunfoodmusic.com/wp-content/uploads/2024/07/road-show.jpeg
END:VEVENT
BEGIN:VEVENT
DTSTART;TZID=America/Chicago:20250422T170000
DTEND;TZID=America/Chicago:20250422T210000
DTSTAMP:20260423T153400
CREATED:20250326T212131Z
LAST-MODIFIED:20250326T212131Z
UID:10001332-1745341200-1745355600@lulusfunfoodmusic.com
SUMMARY:Big John Kelly- Gulf Shores
DESCRIPTION:Big Jon Kelly is a solo acoustic performer from Myrtle Beach\, SC. His musical career started as a teenager in Pittsburgh\, PA performing in the successful band “Brothers Kelly” with his older brother\, Aaron. After 23 years as a professional musician\, he has played as all over the east coast and as far west as Hawaii! He has a wide range of vocal capabilities\, performing top-of-the-charts cover songs from practically any era or genre\, as well as dozens of original songs. Big Jon Kelly’s musical influences include Dashboard Confessional\, Blink-182\, Jason Mraz\, Jack Johnson\, Stone Temple Pilots\, Smashing Pumpkins\, Zac Brown Band\, Luke Combs\, Johnny Cash\, Jimmy Buffett\, Billy Joel\, Eagles\, CCR\, The Temptations and many more!
URL:https://lulusfunfoodmusic.com/event/big-john-kelly-gulf-shores/2025-04-22/
LOCATION:Gulf Shores\, AL
ATTACH;FMTTYPE=image/jpeg:https://lulusfunfoodmusic.com/wp-content/uploads/2024/07/Big-Jon-Kelly.jpg
END:VEVENT
END:VCALENDAR