BEGIN:VCALENDAR
VERSION:2.0
PRODID:-//LuLu&#039;s - ECPv6.15.12.2//NONSGML v1.0//EN
CALSCALE:GREGORIAN
METHOD:PUBLISH
X-WR-CALNAME:LuLu&#039;s
X-ORIGINAL-URL:https://lulusfunfoodmusic.com
X-WR-CALDESC:Events for LuLu&#039;s
REFRESH-INTERVAL;VALUE=DURATION:PT1H
X-Robots-Tag:noindex
X-PUBLISHED-TTL:PT1H
BEGIN:VTIMEZONE
TZID:America/Chicago
BEGIN:DAYLIGHT
TZOFFSETFROM:-0600
TZOFFSETTO:-0500
TZNAME:CDT
DTSTART:20240310T080000
END:DAYLIGHT
BEGIN:STANDARD
TZOFFSETFROM:-0500
TZOFFSETTO:-0600
TZNAME:CST
DTSTART:20241103T070000
END:STANDARD
BEGIN:DAYLIGHT
TZOFFSETFROM:-0600
TZOFFSETTO:-0500
TZNAME:CDT
DTSTART:20250309T080000
END:DAYLIGHT
BEGIN:STANDARD
TZOFFSETFROM:-0500
TZOFFSETTO:-0600
TZNAME:CST
DTSTART:20251102T070000
END:STANDARD
BEGIN:DAYLIGHT
TZOFFSETFROM:-0600
TZOFFSETTO:-0500
TZNAME:CDT
DTSTART:20260308T080000
END:DAYLIGHT
BEGIN:STANDARD
TZOFFSETFROM:-0500
TZOFFSETTO:-0600
TZNAME:CST
DTSTART:20261101T070000
END:STANDARD
END:VTIMEZONE
BEGIN:VEVENT
DTSTART;TZID=America/Chicago:20250504T170000
DTEND;TZID=America/Chicago:20250504T210000
DTSTAMP:20260425T065000
CREATED:20240722T222040Z
LAST-MODIFIED:20250909T201451Z
UID:10001473-1746378000-1746392400@lulusfunfoodmusic.com
SUMMARY:Chase Brown - Destin
DESCRIPTION:Chase Brown
URL:https://lulusfunfoodmusic.com/event/chase-brown-destin/2025-05-04/
LOCATION:Destin\, 4607 Legendary Marina Dr\, Florida\, 32541
ATTACH;FMTTYPE=image/jpeg:https://lulusfunfoodmusic.com/wp-content/uploads/2024/07/Chase-Brown.jpg
END:VEVENT
BEGIN:VEVENT
DTSTART;TZID=America/Chicago:20250504T170000
DTEND;TZID=America/Chicago:20250504T210000
DTSTAMP:20260425T065000
CREATED:20250115T193611Z
LAST-MODIFIED:20250923T201943Z
UID:10001382-1746378000-1746392400@lulusfunfoodmusic.com
SUMMARY:Lee Yankie - Gulf Shores
DESCRIPTION:Lee Yankie has been playing the local area and all over the country for 20 years and his sound is a collection of influences that comes out as the sound of the gulf coast. You can expect southern sounds reminiscent of the Allman Brothers\, Wet Willie and Marshall Tucker Band. As well as the beach influence stretching down to the Caribbean with plenty of Reggae. He’s also been in the popular New Orleans band\, the Honey Island Swamp Band for 6 years\, so the Nola musical influence is in there too! Lee also plays plenty of blues\, soul\, classic rock and even a little country to the mix.
URL:https://lulusfunfoodmusic.com/event/lee-yankie-duo-gulf-shores/2025-05-04/
LOCATION:Gulf Shores\, AL
ATTACH;FMTTYPE=image/jpeg:https://lulusfunfoodmusic.com/wp-content/uploads/2025/04/Lee-Yankies-Secret-Stash.jpeg
END:VEVENT
BEGIN:VEVENT
DTSTART;TZID=America/Chicago:20250504T170000
DTEND;TZID=America/Chicago:20250504T210000
DTSTAMP:20260425T065000
CREATED:20250311T210317Z
LAST-MODIFIED:20260311T165748Z
UID:10001512-1746378000-1746392400@lulusfunfoodmusic.com
SUMMARY:Kennady Murlin- North Myrtle Beach
DESCRIPTION:Kennady Murlin- Singer and musician based in Myrtle Beach\, South Carolina. She is known for her engaging live performances and versatile musical style. Her music spans several genres\, including pop\, rock\, and country. She often covers popular songs and adds her personal touch to them\, captivating audiences with her strong vocals and energetic performances. Kennady frequently performs at local venues\, including restaurants and bars in the Myrtle Beach area.
URL:https://lulusfunfoodmusic.com/event/kennady-murlin-north-myrtle-beach/2025-05-04/
LOCATION:North Myrtle Beach\, 4954 Hwy 17 S\, North Myrtle Beach\, SC\, 29582\, United States
ATTACH;FMTTYPE=image/jpeg:https://lulusfunfoodmusic.com/wp-content/uploads/2025/03/band-kennady.jpeg
END:VEVENT
END:VCALENDAR