BEGIN:VCALENDAR
VERSION:2.0
PRODID:-//LuLu&#039;s - ECPv6.15.12.2//NONSGML v1.0//EN
CALSCALE:GREGORIAN
METHOD:PUBLISH
X-WR-CALNAME:LuLu&#039;s
X-ORIGINAL-URL:https://lulusfunfoodmusic.com
X-WR-CALDESC:Events for LuLu&#039;s
REFRESH-INTERVAL;VALUE=DURATION:PT1H
X-Robots-Tag:noindex
X-PUBLISHED-TTL:PT1H
BEGIN:VTIMEZONE
TZID:America/Chicago
BEGIN:DAYLIGHT
TZOFFSETFROM:-0600
TZOFFSETTO:-0500
TZNAME:CDT
DTSTART:20240310T080000
END:DAYLIGHT
BEGIN:STANDARD
TZOFFSETFROM:-0500
TZOFFSETTO:-0600
TZNAME:CST
DTSTART:20241103T070000
END:STANDARD
BEGIN:DAYLIGHT
TZOFFSETFROM:-0600
TZOFFSETTO:-0500
TZNAME:CDT
DTSTART:20250309T080000
END:DAYLIGHT
BEGIN:STANDARD
TZOFFSETFROM:-0500
TZOFFSETTO:-0600
TZNAME:CST
DTSTART:20251102T070000
END:STANDARD
BEGIN:DAYLIGHT
TZOFFSETFROM:-0600
TZOFFSETTO:-0500
TZNAME:CDT
DTSTART:20260308T080000
END:DAYLIGHT
BEGIN:STANDARD
TZOFFSETFROM:-0500
TZOFFSETTO:-0600
TZNAME:CST
DTSTART:20261101T070000
END:STANDARD
END:VTIMEZONE
BEGIN:VEVENT
DTSTART;TZID=America/Chicago:20250513T170000
DTEND;TZID=America/Chicago:20250513T210000
DTSTAMP:20260425T052958
CREATED:20240723T010139Z
LAST-MODIFIED:20260311T163612Z
UID:10001292-1747155600-1747170000@lulusfunfoodmusic.com
SUMMARY:Alvarado Road Show - North Myrtle Beach
DESCRIPTION:The Alvarado Road Show-Country music duo consisting of brothers AJ and Cleve Clark. Hailing from the American heartland\, they are known for their rootsy and authentic style of country music\, blending heartfelt storytelling with harmonious melodies. Their music explores a range of themes\, such as life\, love\, and relationships\, and resonates with fans who enjoy the classic country sound infused with personal\, emotional narratives.
URL:https://lulusfunfoodmusic.com/event/alvarado-road-show-north-myrtle-beach/2025-05-13/
LOCATION:North Myrtle Beach\, 4954 Hwy 17 S\, North Myrtle Beach\, SC\, 29582\, United States
ATTACH;FMTTYPE=image/jpeg:https://lulusfunfoodmusic.com/wp-content/uploads/2024/07/road-show.jpeg
END:VEVENT
BEGIN:VEVENT
DTSTART;TZID=America/Chicago:20250513T170000
DTEND;TZID=America/Chicago:20250513T210000
DTSTAMP:20260425T052958
CREATED:20250204T232737Z
LAST-MODIFIED:20250902T211833Z
UID:10001485-1747155600-1747170000@lulusfunfoodmusic.com
SUMMARY:Brendon Preece - Destin
DESCRIPTION:Brendon Preece has been performing since the age of 6 when he first took the stage at the Cleburne Opry. Since that time\, he has taken his talent across the country\, playing some of the largest clubs and casinos\, as well as State Fairs\, festivals and concert venues. Brendon has shared the stage with many Top 40 artists\, including Miranda Lambert\, the Styx\, Eric Church\, Bret Michaels\, Joe Nichols\, The Bellamy Brothers\, Robert Earl Keen\, and many more! His tremendous vocal range\, depth\, and control\, as well as skillfully written songs\, capture audiences young and old. In addition to a rich original song collection\, Brendon plays Top 40 hits including modern & classic rock\, county\, pop\, Blues and Texas Country music.
URL:https://lulusfunfoodmusic.com/event/brendon-preece-destin/2025-05-13/
LOCATION:Destin\, 4607 Legendary Marina Dr\, Florida\, 32541
ATTACH;FMTTYPE=image/jpeg:https://lulusfunfoodmusic.com/wp-content/uploads/2025/02/Brendon-Preece.jpg
END:VEVENT
BEGIN:VEVENT
DTSTART;TZID=America/Chicago:20250513T170000
DTEND;TZID=America/Chicago:20250513T210000
DTSTAMP:20260425T052958
CREATED:20250401T220432Z
LAST-MODIFIED:20250923T193559Z
UID:10001502-1747155600-1747170000@lulusfunfoodmusic.com
SUMMARY:Martin Lane-Gulf Shores
DESCRIPTION:Martin Lane is an acoustic duo specializing in classic rock\, 90’s country and sing-along music. They have a vast repertoire of laidback dinner music to fun party and dance tunes\, as well as original songs. This fun duo\, comprised of singer-songwriter\, Laura Lane\, and Nashville producer\, engineer\, musician and singer-songwriter\, Chip Martin has energetic stage chemistry and tight harmonies. With a flair for being able to pull almost any request from thin air\, they encourage audience participation and requests.
URL:https://lulusfunfoodmusic.com/event/martin-lane-gulf-shores/2025-05-13/
LOCATION:Gulf Shores\, AL
ATTACH;FMTTYPE=image/jpeg:https://lulusfunfoodmusic.com/wp-content/uploads/2025/04/Martin-Lane.jpg
END:VEVENT
END:VCALENDAR