BEGIN:VCALENDAR
VERSION:2.0
PRODID:-//LuLu&#039;s - ECPv6.15.12.2//NONSGML v1.0//EN
CALSCALE:GREGORIAN
METHOD:PUBLISH
X-ORIGINAL-URL:https://lulusfunfoodmusic.com
X-WR-CALDESC:Events for LuLu&#039;s
REFRESH-INTERVAL;VALUE=DURATION:PT1H
X-Robots-Tag:noindex
X-PUBLISHED-TTL:PT1H
BEGIN:VTIMEZONE
TZID:America/Chicago
BEGIN:DAYLIGHT
TZOFFSETFROM:-0600
TZOFFSETTO:-0500
TZNAME:CDT
DTSTART:20240310T080000
END:DAYLIGHT
BEGIN:STANDARD
TZOFFSETFROM:-0500
TZOFFSETTO:-0600
TZNAME:CST
DTSTART:20241103T070000
END:STANDARD
BEGIN:DAYLIGHT
TZOFFSETFROM:-0600
TZOFFSETTO:-0500
TZNAME:CDT
DTSTART:20250309T080000
END:DAYLIGHT
BEGIN:STANDARD
TZOFFSETFROM:-0500
TZOFFSETTO:-0600
TZNAME:CST
DTSTART:20251102T070000
END:STANDARD
BEGIN:DAYLIGHT
TZOFFSETFROM:-0600
TZOFFSETTO:-0500
TZNAME:CDT
DTSTART:20260308T080000
END:DAYLIGHT
BEGIN:STANDARD
TZOFFSETFROM:-0500
TZOFFSETTO:-0600
TZNAME:CST
DTSTART:20261101T070000
END:STANDARD
END:VTIMEZONE
BEGIN:VEVENT
DTSTART;VALUE=DATE:20250523
DTEND;VALUE=DATE:20250527
DTSTAMP:20260423T141819
CREATED:20250515T182640Z
LAST-MODIFIED:20250515T182640Z
UID:10001566-1747958400-1748303999@lulusfunfoodmusic.com
SUMMARY:LuLuPalooza : GS
DESCRIPTION:Friday-Monday\, May 23-26th\, 2025 LuLu’s Presents LuLuPalooza Weekend of Music! \nFriday\, May 23rd : 5-9pm Red Moon Travelers \nSaturday\, May 24th: 12-4pm Karl & Amanda  5-9pm Pineapple Express \nSunday\, May 25th: 12-4pm Brooks Johnson  5-9pm The Undertow Band \nMonday\, May 26th: 12-4pm Rick Wilson 5-9pm Lee Yankie’s Secret Stash
URL:https://lulusfunfoodmusic.com/event/lulupalooza-gs/
LOCATION:Gulf Shores\, AL
ATTACH;FMTTYPE=image/png:https://lulusfunfoodmusic.com/wp-content/uploads/2025/05/LuLuPaloozaLogoUPDATED_STROKE.png
END:VEVENT
BEGIN:VEVENT
DTSTART;TZID=America/Chicago:20250525T120000
DTEND;TZID=America/Chicago:20250525T160000
DTSTAMP:20260423T141819
CREATED:20240905T232255Z
LAST-MODIFIED:20250923T190719Z
UID:10001499-1748174400-1748188800@lulusfunfoodmusic.com
SUMMARY:Brooks Johnson - Gulf Shores
DESCRIPTION:Brooks Johnson – Country/Rock Artist | Perdido Key\, FL \nBorn in Alabama\, shaped by years living in New York City\, and now rooted on Florida’s Gulf Coast\, Brooks Johnson delivers country and rock with grit\, soul\, and zero pretense. His sound is built on raw acoustic guitar work and a vocal tone that’s instantly recognizable and requires no filters: warm\, resonant\, and edged with a touch of Southern gravel. \nWhether he’s covering outlaw country\, classic rock\, or Americana\, his powerful vocals\, tone and delivery bring a fresh edge to familiar songs—real\, unpolished\, and unforgettable. \nSince returning to the Gulf Coast\, Brooks has become a go-to solo act for venues\, festivals\, and private events seeking high-quality live music without the polish or pretense. Whether he’s playing to a laid-back beach crowd or a rowdy night-time audience\, Brooks brings a setlist packed with familiar hits and hidden gems\, all delivered with unmistakable grit. \nInstagram/Tik tok/Facebook/Venmo: @Brooksjohnsonmusic \nBrooksjohnsonmusic.com
URL:https://lulusfunfoodmusic.com/event/brooks-johnson-gulf-shores/2025-05-25/
LOCATION:Gulf Shores\, AL
ATTACH;FMTTYPE=image/jpeg:https://lulusfunfoodmusic.com/wp-content/uploads/2024/09/Brooks-Johnson.jpg
END:VEVENT
BEGIN:VEVENT
DTSTART;TZID=America/Chicago:20250525T170000
DTEND;TZID=America/Chicago:20250525T210000
DTSTAMP:20260423T141819
CREATED:20240720T154336Z
LAST-MODIFIED:20260204T213238Z
UID:10001522-1748192400-1748206800@lulusfunfoodmusic.com
SUMMARY:Rick Cannon - North Myrtle Beach
DESCRIPTION:Rick Cannon – is a singer-songwriter based in North Myrtle Beach\, South Carolina\, known for his Americana music that blends coastal and western influences. Originally from the mountains\, he relocated to Myrtle Beach\, drawn by his passions for surfing and fishing
URL:https://lulusfunfoodmusic.com/event/rick-cannon-north-myrtle-beach/2025-05-25/
LOCATION:North Myrtle Beach\, 4954 Hwy 17 S\, North Myrtle Beach\, SC\, 29582\, United States
ATTACH;FMTTYPE=image/jpeg:https://lulusfunfoodmusic.com/wp-content/uploads/2024/07/Rick-Cannon.jpg
END:VEVENT
BEGIN:VEVENT
DTSTART;TZID=America/Chicago:20250525T170000
DTEND;TZID=America/Chicago:20250525T210000
DTSTAMP:20260423T141819
CREATED:20250415T171820Z
LAST-MODIFIED:20250923T175120Z
UID:10001484-1748192400-1748206800@lulusfunfoodmusic.com
SUMMARY:Martin Lane - Destin
DESCRIPTION:Martin Lane is an acoustic duo specializing in classic rock\, 90’s country and sing-along music. They have a vast repertoire of laidback dinner music to fun party and dance tunes\, as well as original songs. This fun duo\, comprised of singer-songwriter\, Laura Lane\, and Nashville producer\, engineer\, musician and singer-songwriter\, Chip Martin has energetic stage chemistry and tight harmonies. With a flair for being able to pull almost any request from thin air\, they encourage audience participation and requests.
URL:https://lulusfunfoodmusic.com/event/martin-lane-destin/2025-05-25/
LOCATION:Destin\, 4607 Legendary Marina Dr\, Florida\, 32541
ATTACH;FMTTYPE=image/jpeg:https://lulusfunfoodmusic.com/wp-content/uploads/2025/04/Martin-Lane.jpg
END:VEVENT
BEGIN:VEVENT
DTSTART;TZID=America/Chicago:20250525T170000
DTEND;TZID=America/Chicago:20250525T210000
DTSTAMP:20260423T141819
CREATED:20250425T182838Z
LAST-MODIFIED:20250425T182838Z
UID:10001498-1748192400-1748206800@lulusfunfoodmusic.com
SUMMARY:The Undertow Band- Gulf Shores
DESCRIPTION:The UNDERTOW Band is a rock cover trio based out of Gulf Shores. They specialize in music from the 90’s and 00’s\, with always a few surprises thrown in. They have been regulars on the Gulf Coast music circuit\, and have also performed at the National Shrimp Festival and the OWA Amphitheater. Come feel the PULL of The TOW…
URL:https://lulusfunfoodmusic.com/event/the-undertow-band-gulf-shores/
LOCATION:Gulf Shores\, AL
ATTACH;FMTTYPE=image/jpeg:https://lulusfunfoodmusic.com/wp-content/uploads/2025/04/The-Undertow-BAnd.jpg
END:VEVENT
END:VCALENDAR