BEGIN:VCALENDAR
VERSION:2.0
PRODID:-//LuLu&#039;s - ECPv6.15.12.2//NONSGML v1.0//EN
CALSCALE:GREGORIAN
METHOD:PUBLISH
X-WR-CALNAME:LuLu&#039;s
X-ORIGINAL-URL:https://lulusfunfoodmusic.com
X-WR-CALDESC:Events for LuLu&#039;s
REFRESH-INTERVAL;VALUE=DURATION:PT1H
X-Robots-Tag:noindex
X-PUBLISHED-TTL:PT1H
BEGIN:VTIMEZONE
TZID:America/Chicago
BEGIN:DAYLIGHT
TZOFFSETFROM:-0600
TZOFFSETTO:-0500
TZNAME:CDT
DTSTART:20240310T080000
END:DAYLIGHT
BEGIN:STANDARD
TZOFFSETFROM:-0500
TZOFFSETTO:-0600
TZNAME:CST
DTSTART:20241103T070000
END:STANDARD
BEGIN:DAYLIGHT
TZOFFSETFROM:-0600
TZOFFSETTO:-0500
TZNAME:CDT
DTSTART:20250309T080000
END:DAYLIGHT
BEGIN:STANDARD
TZOFFSETFROM:-0500
TZOFFSETTO:-0600
TZNAME:CST
DTSTART:20251102T070000
END:STANDARD
BEGIN:DAYLIGHT
TZOFFSETFROM:-0600
TZOFFSETTO:-0500
TZNAME:CDT
DTSTART:20260308T080000
END:DAYLIGHT
BEGIN:STANDARD
TZOFFSETFROM:-0500
TZOFFSETTO:-0600
TZNAME:CST
DTSTART:20261101T070000
END:STANDARD
END:VTIMEZONE
BEGIN:VEVENT
DTSTART;VALUE=DATE:20250523
DTEND;VALUE=DATE:20250527
DTSTAMP:20260425T055720
CREATED:20250515T182640Z
LAST-MODIFIED:20250515T182640Z
UID:10001566-1747958400-1748303999@lulusfunfoodmusic.com
SUMMARY:LuLuPalooza : GS
DESCRIPTION:Friday-Monday\, May 23-26th\, 2025 LuLu’s Presents LuLuPalooza Weekend of Music! \nFriday\, May 23rd : 5-9pm Red Moon Travelers \nSaturday\, May 24th: 12-4pm Karl & Amanda  5-9pm Pineapple Express \nSunday\, May 25th: 12-4pm Brooks Johnson  5-9pm The Undertow Band \nMonday\, May 26th: 12-4pm Rick Wilson 5-9pm Lee Yankie’s Secret Stash
URL:https://lulusfunfoodmusic.com/event/lulupalooza-gs/
LOCATION:Gulf Shores\, AL
ATTACH;FMTTYPE=image/png:https://lulusfunfoodmusic.com/wp-content/uploads/2025/05/LuLuPaloozaLogoUPDATED_STROKE.png
END:VEVENT
BEGIN:VEVENT
DTSTART;TZID=America/Chicago:20250526T120000
DTEND;TZID=America/Chicago:20250526T160000
DTSTAMP:20260425T055720
CREATED:20241001T175351Z
LAST-MODIFIED:20250909T140900Z
UID:10001505-1748260800-1748275200@lulusfunfoodmusic.com
SUMMARY:Ricky Joe Wilson - Gulf Shores
DESCRIPTION:This Indiana born\, 45 year veteran of the music business now makes his home on and tours The Emerald Coast of Florida. His newest radio single on Colt Records “Good Ol’ Boys” is now available worldwide. Rickie Joe Wilson is a seasoned recording/touring artist who recorded his “Honky Tonkin Guitar Man” album and his “Whiskey For Breakfast” album at the famous Hilltop Recording Studios in Nashville and renowned Fame Studios in Muscle Shoals\, Alabama. His remake of Canned Heat’s hit song “Going Up The Country” made it to #13 on The Cashbox Independent Country Music Chart in January 2024 and his last single “Margarita Mourning” which he wrote ended up at #6 in April 2024. His brand new single released to radio on Colt Records\, Nashville is the famous Waylon Jennings classic Good Ol’ Boys.
URL:https://lulusfunfoodmusic.com/event/ricky-joe-wilson-gulf-shores/2025-05-26/
LOCATION:Gulf Shores\, AL
ATTACH;FMTTYPE=image/jpeg:https://lulusfunfoodmusic.com/wp-content/uploads/2024/09/Rickie-Joe-Wilson.jpg
END:VEVENT
BEGIN:VEVENT
DTSTART;TZID=America/Chicago:20250526T170000
DTEND;TZID=America/Chicago:20250526T210000
DTSTAMP:20260425T055720
CREATED:20240726T163403Z
LAST-MODIFIED:20250923T172701Z
UID:10001477-1748278800-1748293200@lulusfunfoodmusic.com
SUMMARY:Brooks Johnson - Destin
DESCRIPTION:Brooks Johnson – Country/Rock Artist | Perdido Key\, FL \nBorn in Alabama\, shaped by years living in New York City\, and now rooted on Florida’s Gulf Coast\, Brooks Johnson delivers country and rock with grit\, soul\, and zero pretense. His sound is built on raw acoustic guitar work and a vocal tone that’s instantly recognizable and requires no filters: warm\, resonant\, and edged with a touch of Southern gravel. \nWhether he’s covering outlaw country\, classic rock\, or Americana\, his powerful vocals\, tone and delivery bring a fresh edge to familiar songs—real\, unpolished\, and unforgettable. \nSince returning to the Gulf Coast\, Brooks has become a go-to solo act for venues\, festivals\, and private events seeking high-quality live music without the polish or pretense. Whether he’s playing to a laid-back beach crowd or a rowdy night-time audience\, Brooks brings a setlist packed with familiar hits and hidden gems\, all delivered with unmistakable grit. \nInstagram/Tik tok/Facebook/Venmo: @Brooksjohnsonmusic \nBrooksjohnsonmusic.com
URL:https://lulusfunfoodmusic.com/event/brooks-johnson-destin/2025-05-26/
LOCATION:Destin\, 4607 Legendary Marina Dr\, Florida\, 32541
ATTACH;FMTTYPE=image/jpeg:https://lulusfunfoodmusic.com/wp-content/uploads/2024/09/Brooks-Johnson.jpg
END:VEVENT
BEGIN:VEVENT
DTSTART;TZID=America/Chicago:20250526T170000
DTEND;TZID=America/Chicago:20250526T210000
DTSTAMP:20260425T055720
CREATED:20240905T230644Z
LAST-MODIFIED:20260225T005214Z
UID:10001311-1748278800-1748293200@lulusfunfoodmusic.com
SUMMARY:Brendan Kirby - North Myrtle Beach
DESCRIPTION:Brendan Kirby-South Carolina native and accomplished musician known for his dynamic performances across the Myrtle Beach area. Born and raised in rural South Carolina\, Brendan began playing guitar at the age of 14\, quickly developing a deep passion for music.At 15\, Brendan moved to Nashville\, Tennessee\, where he had the opportunity to perform at renowned venues such as Tootsies\, Honky Tonk Central\, and Layla’s. He also appeared on “Nashville Spotlight\,” a television show featuring up-and-coming singers.After returning to South Carolina\, Brendan continued to build his reputation as a versatile musician\, performing a wide variety of music from classics to newer hits. His set lists include genres like country\, pop\, and rock\, featuring artists such as Ed Sheeran\, John Mayer\, and Chris Stapleton.
URL:https://lulusfunfoodmusic.com/event/brendan-kirby-north-myrtle-beach/2025-05-26/
LOCATION:North Myrtle Beach\, 4954 Hwy 17 S\, North Myrtle Beach\, SC\, 29582\, United States
ATTACH;FMTTYPE=image/jpeg:https://lulusfunfoodmusic.com/wp-content/uploads/2024/09/Brendan-Kirby.jpg
END:VEVENT
BEGIN:VEVENT
DTSTART;TZID=America/Chicago:20250526T170000
DTEND;TZID=America/Chicago:20250526T210000
DTSTAMP:20260425T055720
CREATED:20250428T214107Z
LAST-MODIFIED:20250716T213944Z
UID:10001538-1748278800-1748293200@lulusfunfoodmusic.com
SUMMARY:Beach 'N Bands Featuring Lee Yankie's Secret Stash
DESCRIPTION: 
URL:https://lulusfunfoodmusic.com/event/lee-yankies-secret-stash-gulf-shores/2025-05-26/
LOCATION:Gulf Shores\, AL
ATTACH;FMTTYPE=image/png:https://lulusfunfoodmusic.com/wp-content/uploads/2025/05/272-LuLu_s-Beach_n_Bands-Logo-Color-9.png
END:VEVENT
END:VCALENDAR