BEGIN:VCALENDAR
VERSION:2.0
PRODID:-//LuLu&#039;s - ECPv6.15.12.2//NONSGML v1.0//EN
CALSCALE:GREGORIAN
METHOD:PUBLISH
X-ORIGINAL-URL:https://lulusfunfoodmusic.com
X-WR-CALDESC:Events for LuLu&#039;s
REFRESH-INTERVAL;VALUE=DURATION:PT1H
X-Robots-Tag:noindex
X-PUBLISHED-TTL:PT1H
BEGIN:VTIMEZONE
TZID:America/Chicago
BEGIN:DAYLIGHT
TZOFFSETFROM:-0600
TZOFFSETTO:-0500
TZNAME:CDT
DTSTART:20240310T080000
END:DAYLIGHT
BEGIN:STANDARD
TZOFFSETFROM:-0500
TZOFFSETTO:-0600
TZNAME:CST
DTSTART:20241103T070000
END:STANDARD
BEGIN:DAYLIGHT
TZOFFSETFROM:-0600
TZOFFSETTO:-0500
TZNAME:CDT
DTSTART:20250309T080000
END:DAYLIGHT
BEGIN:STANDARD
TZOFFSETFROM:-0500
TZOFFSETTO:-0600
TZNAME:CST
DTSTART:20251102T070000
END:STANDARD
BEGIN:DAYLIGHT
TZOFFSETFROM:-0600
TZOFFSETTO:-0500
TZNAME:CDT
DTSTART:20260308T080000
END:DAYLIGHT
BEGIN:STANDARD
TZOFFSETFROM:-0500
TZOFFSETTO:-0600
TZNAME:CST
DTSTART:20261101T070000
END:STANDARD
END:VTIMEZONE
BEGIN:VEVENT
DTSTART;TZID=America/Chicago:20250618T170000
DTEND;TZID=America/Chicago:20250618T210000
DTSTAMP:20260423T092724
CREATED:20240712T200854Z
LAST-MODIFIED:20260306T003229Z
UID:10001519-1750266000-1750280400@lulusfunfoodmusic.com
SUMMARY:Owen Reeves Duo - North Myrtle Beach
DESCRIPTION:Owen Reeves-Musician based in Myrtle Beach\, South Carolina. Known for his engaging performances in the Myrtle Beach area. Known for his live performances. He plays a variety of genres and is well-regarded for his engaging presence on stage. Known for his versatile music style with the Guitar and the Fiddle\, blending a variety of genres to appeal to a wide range of audiences
URL:https://lulusfunfoodmusic.com/event/owen-reeves-north-myrtle-beach/2025-06-18/
LOCATION:North Myrtle Beach\, 4954 Hwy 17 S\, North Myrtle Beach\, SC\, 29582\, United States
ATTACH;FMTTYPE=image/jpeg:https://lulusfunfoodmusic.com/wp-content/uploads/2024/07/owenreeves.jpeg
END:VEVENT
BEGIN:VEVENT
DTSTART;TZID=America/Chicago:20250618T180000
DTEND;TZID=America/Chicago:20250618T220000
DTSTAMP:20260423T092724
CREATED:20240722T222318Z
LAST-MODIFIED:20260326T162921Z
UID:10001594-1750269600-1750284000@lulusfunfoodmusic.com
SUMMARY:Alvarado Road Show - Destin
DESCRIPTION:The Nashville-by-way-of-Texas-based\, brother duo Alvarado Road Show is Cleve Clark and A.J. Clark
URL:https://lulusfunfoodmusic.com/event/alvarado-road-show-destin/2025-06-18/
LOCATION:Destin\, 4607 Legendary Marina Dr\, Florida\, 32541
ATTACH;FMTTYPE=image/jpeg:https://lulusfunfoodmusic.com/wp-content/uploads/2024/07/Alvarado-Road-Show.jpeg
END:VEVENT
BEGIN:VEVENT
DTSTART;TZID=America/Chicago:20250618T180000
DTEND;TZID=America/Chicago:20250618T220000
DTSTAMP:20260423T092724
CREATED:20250428T214107Z
LAST-MODIFIED:20250716T213944Z
UID:10001507-1750269600-1750284000@lulusfunfoodmusic.com
SUMMARY:Beach 'N Bands Featuring Lee Yankie's Secret Stash
DESCRIPTION: 
URL:https://lulusfunfoodmusic.com/event/lee-yankies-secret-stash-gulf-shores/2025-06-18/
LOCATION:Gulf Shores\, AL
ATTACH;FMTTYPE=image/png:https://lulusfunfoodmusic.com/wp-content/uploads/2025/05/272-LuLu_s-Beach_n_Bands-Logo-Color-9.png
END:VEVENT
END:VCALENDAR