BEGIN:VCALENDAR
VERSION:2.0
PRODID:-//LuLu&#039;s - ECPv6.15.12.2//NONSGML v1.0//EN
CALSCALE:GREGORIAN
METHOD:PUBLISH
X-ORIGINAL-URL:https://lulusfunfoodmusic.com
X-WR-CALDESC:Events for LuLu&#039;s
REFRESH-INTERVAL;VALUE=DURATION:PT1H
X-Robots-Tag:noindex
X-PUBLISHED-TTL:PT1H
BEGIN:VTIMEZONE
TZID:America/Chicago
BEGIN:DAYLIGHT
TZOFFSETFROM:-0600
TZOFFSETTO:-0500
TZNAME:CDT
DTSTART:20240310T080000
END:DAYLIGHT
BEGIN:STANDARD
TZOFFSETFROM:-0500
TZOFFSETTO:-0600
TZNAME:CST
DTSTART:20241103T070000
END:STANDARD
BEGIN:DAYLIGHT
TZOFFSETFROM:-0600
TZOFFSETTO:-0500
TZNAME:CDT
DTSTART:20250309T080000
END:DAYLIGHT
BEGIN:STANDARD
TZOFFSETFROM:-0500
TZOFFSETTO:-0600
TZNAME:CST
DTSTART:20251102T070000
END:STANDARD
BEGIN:DAYLIGHT
TZOFFSETFROM:-0600
TZOFFSETTO:-0500
TZNAME:CDT
DTSTART:20260308T080000
END:DAYLIGHT
BEGIN:STANDARD
TZOFFSETFROM:-0500
TZOFFSETTO:-0600
TZNAME:CST
DTSTART:20261101T070000
END:STANDARD
END:VTIMEZONE
BEGIN:VEVENT
DTSTART;TZID=America/Chicago:20250622T170000
DTEND;TZID=America/Chicago:20250622T210000
DTSTAMP:20260423T092623
CREATED:20240905T231150Z
LAST-MODIFIED:20260311T170120Z
UID:10001525-1750611600-1750626000@lulusfunfoodmusic.com
SUMMARY:Jeremiah Reyes - North Myrtle Beach
DESCRIPTION:Jeremiah Reyes- With a voice that is a combination of David Grey/Ben Harper\, Jeremiah Reyes is a multi-instrumentalist with a massive song selection. you can catch Jeremiah blending acoustic guitar and saxophone in his one-man-band show
URL:https://lulusfunfoodmusic.com/event/jeremiah-reyes-north-myrtle-beach/2025-06-22/
LOCATION:North Myrtle Beach\, 4954 Hwy 17 S\, North Myrtle Beach\, SC\, 29582\, United States
ATTACH;FMTTYPE=image/jpeg:https://lulusfunfoodmusic.com/wp-content/uploads/2024/09/Jeremiah-reyes.jpg
END:VEVENT
BEGIN:VEVENT
DTSTART;TZID=America/Chicago:20250622T180000
DTEND;TZID=America/Chicago:20250622T220000
DTSTAMP:20260423T092623
CREATED:20240720T143916Z
LAST-MODIFIED:20250923T173713Z
UID:10001595-1750615200-1750629600@lulusfunfoodmusic.com
SUMMARY:Rick Wilson - Destin
DESCRIPTION:This Indiana born\, 45 year veteran of the music business now makes his home on and tours The Emerald Coast of Florida. His newest radio single on Colt Records “Good Ol’ Boys” is now available worldwide. Rickie Joe Wilson is a seasoned recording/touring artist who recorded his “Honky Tonkin Guitar Man” album and his “Whiskey For Breakfast” album at the famous Hilltop Recording Studios in Nashville and renowned Fame Studios in Muscle Shoals\, Alabama. His remake of Canned Heat’s hit song “Going Up The Country” made it to #13 on The Cashbox Independent Country Music Chart in January 2024 and his last single “Margarita Mourning” which he wrote ended up at #6 in April 2024. His brand new single released to radio on Colt Records\, Nashville is the famous Waylon Jennings classic Good Ol’ Boys.
URL:https://lulusfunfoodmusic.com/event/rick-wilson-destin/2025-06-22/
LOCATION:Destin\, 4607 Legendary Marina Dr\, Florida\, 32541
ATTACH;FMTTYPE=image/jpeg:https://lulusfunfoodmusic.com/wp-content/uploads/2024/07/Rick-Wilson.jpg
END:VEVENT
BEGIN:VEVENT
DTSTART;TZID=America/Chicago:20250622T180000
DTEND;TZID=America/Chicago:20250622T220000
DTSTAMP:20260423T092623
CREATED:20240905T232255Z
LAST-MODIFIED:20250923T190719Z
UID:10001407-1750615200-1750629600@lulusfunfoodmusic.com
SUMMARY:Brooks Johnson - Gulf Shores
DESCRIPTION:Brooks Johnson – Country/Rock Artist | Perdido Key\, FL \nBorn in Alabama\, shaped by years living in New York City\, and now rooted on Florida’s Gulf Coast\, Brooks Johnson delivers country and rock with grit\, soul\, and zero pretense. His sound is built on raw acoustic guitar work and a vocal tone that’s instantly recognizable and requires no filters: warm\, resonant\, and edged with a touch of Southern gravel. \nWhether he’s covering outlaw country\, classic rock\, or Americana\, his powerful vocals\, tone and delivery bring a fresh edge to familiar songs—real\, unpolished\, and unforgettable. \nSince returning to the Gulf Coast\, Brooks has become a go-to solo act for venues\, festivals\, and private events seeking high-quality live music without the polish or pretense. Whether he’s playing to a laid-back beach crowd or a rowdy night-time audience\, Brooks brings a setlist packed with familiar hits and hidden gems\, all delivered with unmistakable grit. \nInstagram/Tik tok/Facebook/Venmo: @Brooksjohnsonmusic \nBrooksjohnsonmusic.com
URL:https://lulusfunfoodmusic.com/event/brooks-johnson-gulf-shores/2025-06-22/
LOCATION:Gulf Shores\, AL
ATTACH;FMTTYPE=image/jpeg:https://lulusfunfoodmusic.com/wp-content/uploads/2024/09/Brooks-Johnson.jpg
END:VEVENT
END:VCALENDAR