BEGIN:VCALENDAR
VERSION:2.0
PRODID:-//LuLu&#039;s - ECPv6.15.12.2//NONSGML v1.0//EN
CALSCALE:GREGORIAN
METHOD:PUBLISH
X-WR-CALNAME:LuLu&#039;s
X-ORIGINAL-URL:https://lulusfunfoodmusic.com
X-WR-CALDESC:Events for LuLu&#039;s
REFRESH-INTERVAL;VALUE=DURATION:PT1H
X-Robots-Tag:noindex
X-PUBLISHED-TTL:PT1H
BEGIN:VTIMEZONE
TZID:America/Chicago
BEGIN:DAYLIGHT
TZOFFSETFROM:-0600
TZOFFSETTO:-0500
TZNAME:CDT
DTSTART:20240310T080000
END:DAYLIGHT
BEGIN:STANDARD
TZOFFSETFROM:-0500
TZOFFSETTO:-0600
TZNAME:CST
DTSTART:20241103T070000
END:STANDARD
BEGIN:DAYLIGHT
TZOFFSETFROM:-0600
TZOFFSETTO:-0500
TZNAME:CDT
DTSTART:20250309T080000
END:DAYLIGHT
BEGIN:STANDARD
TZOFFSETFROM:-0500
TZOFFSETTO:-0600
TZNAME:CST
DTSTART:20251102T070000
END:STANDARD
BEGIN:DAYLIGHT
TZOFFSETFROM:-0600
TZOFFSETTO:-0500
TZNAME:CDT
DTSTART:20260308T080000
END:DAYLIGHT
BEGIN:STANDARD
TZOFFSETFROM:-0500
TZOFFSETTO:-0600
TZNAME:CST
DTSTART:20261101T070000
END:STANDARD
END:VTIMEZONE
BEGIN:VEVENT
DTSTART;TZID=America/Chicago:20250626T170000
DTEND;TZID=America/Chicago:20250626T210000
DTSTAMP:20260423T124002
CREATED:20240718T125349Z
LAST-MODIFIED:20251008T004207Z
UID:10001434-1750957200-1750971600@lulusfunfoodmusic.com
SUMMARY:The Yale Brothers - North Myrtle Beach
DESCRIPTION:Identical twins Chris and Roger Yale cut their teeth on rock ‘n’ roll while growing up in Hollywood and regularly played the Sunset Strip with their band\, Rogue Alley. Now longtime Myrtle Beach residents\, Roger is a journalist and was a founding member of the classic rock cover band\, Sick Stooges – and Chris enjoyed a long stint with his band\, Medicine Hat – dating back into the 1990s on the Grand Strand. His CD\, “Well Enough Alone\,” has been described as “a rock car with country tires barreling down the blacktop of the American night.” The twins have been working on original music and digging into their collective psyches to reconnect with that spark they maintained for many years as The Yale Brothers – bringing with them a mindfully chosen collection of cover tunes as well. \nYou are not seeing double…
URL:https://lulusfunfoodmusic.com/event/the-yale-brothers-north-myrtle-beach/2025-06-26/
LOCATION:North Myrtle Beach\, 4954 Hwy 17 S\, North Myrtle Beach\, SC\, 29582\, United States
ATTACH;FMTTYPE=image/jpeg:https://lulusfunfoodmusic.com/wp-content/uploads/2024/07/Yale-Brothers.jpg
END:VEVENT
BEGIN:VEVENT
DTSTART;TZID=America/Chicago:20250626T180000
DTEND;TZID=America/Chicago:20250626T220000
DTSTAMP:20260423T124002
CREATED:20240729T135319Z
LAST-MODIFIED:20250923T190235Z
UID:10001458-1750960800-1750975200@lulusfunfoodmusic.com
SUMMARY:JERI Duo - Gulf Shores
DESCRIPTION:JERI
URL:https://lulusfunfoodmusic.com/event/jeri-gulf-shores/2025-06-26/
LOCATION:Gulf Shores\, AL
ATTACH;FMTTYPE=image/jpeg:https://lulusfunfoodmusic.com/wp-content/uploads/2024/07/JERI.jpg
END:VEVENT
BEGIN:VEVENT
DTSTART;TZID=America/Chicago:20250626T180000
DTEND;TZID=America/Chicago:20250626T220000
DTSTAMP:20260423T124002
CREATED:20241212T165046Z
LAST-MODIFIED:20251020T154925Z
UID:10001596-1750960800-1750975200@lulusfunfoodmusic.com
SUMMARY:Brandon House- Destin
DESCRIPTION:Brandon House is a singer and musician from Acworth\, Georgia\, heavily influenced by country music icons such as George Strait and Conway Twitty.
URL:https://lulusfunfoodmusic.com/event/brandon-house-destin-2/2025-06-26/
LOCATION:Destin\, 4607 Legendary Marina Dr\, Florida\, 32541
ATTACH;FMTTYPE=image/jpeg:https://lulusfunfoodmusic.com/wp-content/uploads/2024/11/Brandon-House.jpg
END:VEVENT
END:VCALENDAR