BEGIN:VCALENDAR
VERSION:2.0
PRODID:-//LuLu&#039;s - ECPv6.15.12.2//NONSGML v1.0//EN
CALSCALE:GREGORIAN
METHOD:PUBLISH
X-ORIGINAL-URL:https://lulusfunfoodmusic.com
X-WR-CALDESC:Events for LuLu&#039;s
REFRESH-INTERVAL;VALUE=DURATION:PT1H
X-Robots-Tag:noindex
X-PUBLISHED-TTL:PT1H
BEGIN:VTIMEZONE
TZID:America/Chicago
BEGIN:DAYLIGHT
TZOFFSETFROM:-0600
TZOFFSETTO:-0500
TZNAME:CDT
DTSTART:20240310T080000
END:DAYLIGHT
BEGIN:STANDARD
TZOFFSETFROM:-0500
TZOFFSETTO:-0600
TZNAME:CST
DTSTART:20241103T070000
END:STANDARD
BEGIN:DAYLIGHT
TZOFFSETFROM:-0600
TZOFFSETTO:-0500
TZNAME:CDT
DTSTART:20250309T080000
END:DAYLIGHT
BEGIN:STANDARD
TZOFFSETFROM:-0500
TZOFFSETTO:-0600
TZNAME:CST
DTSTART:20251102T070000
END:STANDARD
BEGIN:DAYLIGHT
TZOFFSETFROM:-0600
TZOFFSETTO:-0500
TZNAME:CDT
DTSTART:20260308T080000
END:DAYLIGHT
BEGIN:STANDARD
TZOFFSETFROM:-0500
TZOFFSETTO:-0600
TZNAME:CST
DTSTART:20261101T070000
END:STANDARD
END:VTIMEZONE
BEGIN:VEVENT
DTSTART;TZID=America/Chicago:20250628T180000
DTEND;TZID=America/Chicago:20250628T220000
DTSTAMP:20260423T092635
CREATED:20240712T201015Z
LAST-MODIFIED:20260311T140939Z
UID:10001425-1751133600-1751148000@lulusfunfoodmusic.com
SUMMARY:Big Jon Kelly - North Myrtle Beach
DESCRIPTION:Big Jon Kelly is a solo acoustic performer from Myrtle Beach\, SC. His musical career started as a teenager in Pittsburgh\, PA performing in the successful band “Brothers Kelly” with his older brother\, Aaron. After 23 years as a professional musician\, he has played as all over the east coast and as far west as Hawaii! He has a wide range of vocal capabilities\, performing top-of-the-charts cover songs from practically any era or genre\, as well as dozens of original songs. Big Jon Kelly’s musical influences include Dashboard Confessional\, Blink-182\, Jason Mraz\, Jack Johnson\, Stone Temple Pilots\, Smashing Pumpkins\, Zac Brown Band\, Luke Combs\, Johnny Cash\, Jimmy Buffett\, Billy Joel\, Eagles\, CCR\, The Temptations and many more!
URL:https://lulusfunfoodmusic.com/event/big-jon-kelly-north-myrtle-beach/2025-06-28/
LOCATION:North Myrtle Beach\, 4954 Hwy 17 S\, North Myrtle Beach\, SC\, 29582\, United States
ATTACH;FMTTYPE=image/jpeg:https://lulusfunfoodmusic.com/wp-content/uploads/2024/07/Big-Jon-Kelly.jpg
END:VEVENT
BEGIN:VEVENT
DTSTART;TZID=America/Chicago:20250628T180000
DTEND;TZID=America/Chicago:20250628T220000
DTSTAMP:20260423T092635
CREATED:20250507T212451Z
LAST-MODIFIED:20250923T192859Z
UID:10001537-1751133600-1751148000@lulusfunfoodmusic.com
SUMMARY:Webb Dalton- Gulf Shores
DESCRIPTION:Webb Dalton \nFrom the first-time multi-award-winning Nashville recording Artist\, Songwriter and Montgomery\, Alabama native Webb Dalton sang his first song on stage at Tootsies Orchid Lounge on Broadway in downtown Nashville\, Tennessee at age 14\, he knew that music was a big part of his DNA and would be a major part of his life. Born in Montgomery\, Alabama\, Webb put his first band together in Memphis\, Tennessee and performed across Alabama\, Mississippi\, Tennessee\, Florida and Arkansas at bars\, Honky Tonks\, festivals\, fairs and regularly on the Gulf Coast and on World Famous Beale Street.  \nWebb recorded his first album in ’87 and moved to Nashville and lived at Two River Campground in his truck for the first six months while performing regularly at the Nashville Palace when Randy Travis was washing dishes in the kitchen. He put a Nashville band together and due to the success of his first album\, began sharing the stage across the United States and Canada with George Strait\, Randy Travis\, Garth Brooks\, Travis Tritt\, John Conlee\, George Jones\, Charlie Rich\, Jerry Lee Lewis\, and others. Webb had the honor of also opening for Opry stars such as Jack Green\, Box Car Willie\, Johnny Russell\, Little David Wilkins\, Little Jimmy Dickins\, Kitty Wells\, Johnny Wright\, Porter Wagoner\, and others.  \nWebb’s love to entertain and perform has spanned over 4 decades and has released 4 albums\, including “Things Left Undone”\, a Gospel CD recorded to launch a 501(C)3 non-profit charity back in ’18 called Gulf Coast Musicians Medical Fund\, with 100 percent of the record sales going to the charity. Gulf Coast Musicians Medical Fund (GCMMF.ORG) helps Gulf Coast musicians and songwriters in Alabama\, Mississippi\, Louisiana and Florida with financial assistance for medical care at no cost to the musician or songwriter. GCMMF holds a fundraiser every year on the 3rd Saturday in October at The Point Restaurant in Pensacola\, Florida with two stages (Restaurant & Courtyard stage) with different Artists and Songwriters on both stages every hour from Noon until 10 PM. \nWebb has had two #1 songs on the Independent Country charts and two #1 songs on the Trop Rock charts airing across the United States. as well as Internationally in Romania\, Belgium\, the UK\, Belize\, New Zealand\, Berlin\, Australia\, France and Brazil.  \nIn ’23\, Webb was a Josie Music Awards independent music awards recipient for “Artist of the Year” and ’24 JMA Award for “Songwriter of the Year” held at the Grand Ole Opry in Nashville\, Tennessee. Standing in “The Circle” at the Grand Ole Opry to receive these awards and deliver his acceptance speech\, Webb considers it an honor to be recognized with such a special award at such a special place as the Grand Ole Opry. Webb was also a ’24 nominee and currently a nominee for the ’25 “BAMA Country Artist of the Year” the Alabama Music Awards held at the Bessemer Civic Center in Bessemer\, Alabama. Webb will also be performing for this years Alabama Music Awards Show on Sunday\, July 27th\, 2025.  \nWebb’s latest release\, Webb’s new release “Startin’ To Feel That Way” is out NOW on Hickory Withe Records and is available on all digital download sites!! \nFor media or booking\, contact RTHManagement@gmail.com at (251) 233-3306. \nReverbnation.com/WebbDalton \n 
URL:https://lulusfunfoodmusic.com/event/webb-dalton-gulf-shores-2/2025-06-28/
LOCATION:Gulf Shores\, AL
ATTACH;FMTTYPE=image/png:https://lulusfunfoodmusic.com/wp-content/uploads/2024/07/Generic-Music-Photo.png
END:VEVENT
BEGIN:VEVENT
DTSTART;TZID=America/Chicago:20250628T180000
DTEND;TZID=America/Chicago:20250628T220000
DTSTAMP:20260423T092635
CREATED:20250528T222206Z
LAST-MODIFIED:20250624T154459Z
UID:10001597-1751133600-1751148000@lulusfunfoodmusic.com
SUMMARY:Patrick!-Destin
DESCRIPTION:PATRICK! is a 23-year-old upcoming pop artist from Sylacauga\, Alabama bringing you everything from\nsmooth and vibey pop r&b ballads to up-tempo hip-hop-inspired tracks. He began singing publicly at\nfourteen in bars and restaurants across central Alabama and all over the southeast. At sixteen\, he\nentered a well-known local singing competition named Kowaliga Idol and won against 150 contestants\nacross the state. From there\, he started writing and recording music. In the fall of 2021\, PATRICK!\nReleased Shine Through\, which was noticed by the nonprofit organization Domestic Shelters. PATRICK!\nAnd Domestic Shelters partnered to make a music video raising awareness for domestic violence\nsurvivors and people involved in the care for victims. Last summer PATRICK! Was selected to be a\nperformer at the 2022 World Games in Birmingham. In summer of 2024 PATRICK! Graduated with his\nnursing degree and now works as a night shift nurse during the week while still following his dreams on\nthe weekends. He truly lives by the mantra that music is medicine!
URL:https://lulusfunfoodmusic.com/event/patrick-destin-2/2025-06-28/
LOCATION:Destin\, 4607 Legendary Marina Dr\, Florida\, 32541
ATTACH;FMTTYPE=image/jpeg:https://lulusfunfoodmusic.com/wp-content/uploads/2025/05/Patrick-scaled.jpeg
END:VEVENT
END:VCALENDAR