BEGIN:VCALENDAR
VERSION:2.0
PRODID:-//LuLu&#039;s - ECPv6.15.12.2//NONSGML v1.0//EN
CALSCALE:GREGORIAN
METHOD:PUBLISH
X-WR-CALNAME:LuLu&#039;s
X-ORIGINAL-URL:https://lulusfunfoodmusic.com
X-WR-CALDESC:Events for LuLu&#039;s
REFRESH-INTERVAL;VALUE=DURATION:PT1H
X-Robots-Tag:noindex
X-PUBLISHED-TTL:PT1H
BEGIN:VTIMEZONE
TZID:America/Chicago
BEGIN:DAYLIGHT
TZOFFSETFROM:-0600
TZOFFSETTO:-0500
TZNAME:CDT
DTSTART:20240310T080000
END:DAYLIGHT
BEGIN:STANDARD
TZOFFSETFROM:-0500
TZOFFSETTO:-0600
TZNAME:CST
DTSTART:20241103T070000
END:STANDARD
BEGIN:DAYLIGHT
TZOFFSETFROM:-0600
TZOFFSETTO:-0500
TZNAME:CDT
DTSTART:20250309T080000
END:DAYLIGHT
BEGIN:STANDARD
TZOFFSETFROM:-0500
TZOFFSETTO:-0600
TZNAME:CST
DTSTART:20251102T070000
END:STANDARD
BEGIN:DAYLIGHT
TZOFFSETFROM:-0600
TZOFFSETTO:-0500
TZNAME:CDT
DTSTART:20260308T080000
END:DAYLIGHT
BEGIN:STANDARD
TZOFFSETFROM:-0500
TZOFFSETTO:-0600
TZNAME:CST
DTSTART:20261101T070000
END:STANDARD
END:VTIMEZONE
BEGIN:VEVENT
DTSTART;TZID=America/Chicago:20250702T170000
DTEND;TZID=America/Chicago:20250702T210000
DTSTAMP:20260425T102532
CREATED:20240712T200854Z
LAST-MODIFIED:20260306T003229Z
UID:10001529-1751475600-1751490000@lulusfunfoodmusic.com
SUMMARY:Owen Reeves Duo - North Myrtle Beach
DESCRIPTION:Owen Reeves-Musician based in Myrtle Beach\, South Carolina. Known for his engaging performances in the Myrtle Beach area. Known for his live performances. He plays a variety of genres and is well-regarded for his engaging presence on stage. Known for his versatile music style with the Guitar and the Fiddle\, blending a variety of genres to appeal to a wide range of audiences
URL:https://lulusfunfoodmusic.com/event/owen-reeves-north-myrtle-beach/2025-07-02/
LOCATION:North Myrtle Beach\, 4954 Hwy 17 S\, North Myrtle Beach\, SC\, 29582\, United States
ATTACH;FMTTYPE=image/jpeg:https://lulusfunfoodmusic.com/wp-content/uploads/2024/07/owenreeves.jpeg
END:VEVENT
BEGIN:VEVENT
DTSTART;TZID=America/Chicago:20250702T180000
DTEND;TZID=America/Chicago:20250702T220000
DTSTAMP:20260425T102532
CREATED:20241101T164143Z
LAST-MODIFIED:20250721T142021Z
UID:10001633-1751479200-1751493600@lulusfunfoodmusic.com
SUMMARY:Red Moon Travelers - Destin
DESCRIPTION:
URL:https://lulusfunfoodmusic.com/event/red-moon-travelers-destin-2-2/2025-07-02/
LOCATION:Destin\, 4607 Legendary Marina Dr\, Florida\, 32541
ATTACH;FMTTYPE=image/jpeg:https://lulusfunfoodmusic.com/wp-content/uploads/2024/10/Red-Moon-Travelers.jpg
END:VEVENT
BEGIN:VEVENT
DTSTART;TZID=America/Chicago:20250702T180000
DTEND;TZID=America/Chicago:20250702T220000
DTSTAMP:20260425T102532
CREATED:20250502T184712Z
LAST-MODIFIED:20250612T161428Z
UID:10001520-1751479200-1751493600@lulusfunfoodmusic.com
SUMMARY:Beach 'N Bands Featuring Chitlin Switch-Gulf Shores
DESCRIPTION:
URL:https://lulusfunfoodmusic.com/event/chitlin-switch-gulf-shores/2025-07-02/
LOCATION:Gulf Shores\, AL
ATTACH;FMTTYPE=image/jpeg:https://lulusfunfoodmusic.com/wp-content/uploads/2025/05/Chitlin-Switch.jpeg
END:VEVENT
END:VCALENDAR