BEGIN:VCALENDAR
VERSION:2.0
PRODID:-//LuLu&#039;s - ECPv6.15.12.2//NONSGML v1.0//EN
CALSCALE:GREGORIAN
METHOD:PUBLISH
X-ORIGINAL-URL:https://lulusfunfoodmusic.com
X-WR-CALDESC:Events for LuLu&#039;s
REFRESH-INTERVAL;VALUE=DURATION:PT1H
X-Robots-Tag:noindex
X-PUBLISHED-TTL:PT1H
BEGIN:VTIMEZONE
TZID:America/Chicago
BEGIN:DAYLIGHT
TZOFFSETFROM:-0600
TZOFFSETTO:-0500
TZNAME:CDT
DTSTART:20240310T080000
END:DAYLIGHT
BEGIN:STANDARD
TZOFFSETFROM:-0500
TZOFFSETTO:-0600
TZNAME:CST
DTSTART:20241103T070000
END:STANDARD
BEGIN:DAYLIGHT
TZOFFSETFROM:-0600
TZOFFSETTO:-0500
TZNAME:CDT
DTSTART:20250309T080000
END:DAYLIGHT
BEGIN:STANDARD
TZOFFSETFROM:-0500
TZOFFSETTO:-0600
TZNAME:CST
DTSTART:20251102T070000
END:STANDARD
BEGIN:DAYLIGHT
TZOFFSETFROM:-0600
TZOFFSETTO:-0500
TZNAME:CDT
DTSTART:20260308T080000
END:DAYLIGHT
BEGIN:STANDARD
TZOFFSETFROM:-0500
TZOFFSETTO:-0600
TZNAME:CST
DTSTART:20261101T070000
END:STANDARD
END:VTIMEZONE
BEGIN:VEVENT
DTSTART;TZID=America/Chicago:20250708T170000
DTEND;TZID=America/Chicago:20250708T210000
DTSTAMP:20260421T072426
CREATED:20240913T093243Z
LAST-MODIFIED:20260311T132435Z
UID:10001687-1751994000-1752008400@lulusfunfoodmusic.com
SUMMARY:Nick Andolora - North Myrtle Beach
DESCRIPTION:Nick Andolora – is known for his diverse musical repertoire\, which includes a mix of classic rock\, country\, and pop covers. His performances often feature acoustic renditions of popular songs\, making his sets versatile for various audiences
URL:https://lulusfunfoodmusic.com/event/nick-andolora-north-myrtle-beach/2025-07-08/
LOCATION:North Myrtle Beach\, 4954 Hwy 17 S\, North Myrtle Beach\, SC\, 29582\, United States
ATTACH;FMTTYPE=image/jpeg:https://lulusfunfoodmusic.com/wp-content/uploads/2024/09/nick-andolora.jpg
END:VEVENT
BEGIN:VEVENT
DTSTART;TZID=America/Chicago:20250708T180000
DTEND;TZID=America/Chicago:20250708T220000
DTSTAMP:20260421T072426
CREATED:20240717T182430Z
LAST-MODIFIED:20250708T230222Z
UID:10001551-1751997600-1752012000@lulusfunfoodmusic.com
SUMMARY:Albert Simpson - Gulf Shores
DESCRIPTION:Albert Simpson\, hailing from Gadsden\, Alabama\, is a versatile musician known for his unique blend of Southern fried hippie funk. With a career that has seen him collaborate with legends from the Grateful Dead to Willie Nelson\, Albert’s musical journey is as diverse as it is impressive. His heartfelt songwriting and rich Alabama-accented voice have captivated audiences across the United States and beyond.
URL:https://lulusfunfoodmusic.com/event/albert-simpson-gulf-shores/2025-07-08/
LOCATION:Gulf Shores\, AL
ATTACH;FMTTYPE=image/jpeg:https://lulusfunfoodmusic.com/wp-content/uploads/2024/07/Albert-Simpson.jpg
END:VEVENT
BEGIN:VEVENT
DTSTART;TZID=America/Chicago:20250708T180000
DTEND;TZID=America/Chicago:20250708T220000
DTSTAMP:20260421T072426
CREATED:20250528T213759Z
LAST-MODIFIED:20251214T190801Z
UID:10001645-1751997600-1752012000@lulusfunfoodmusic.com
SUMMARY:Howlin’ Jack- Destin
DESCRIPTION:Howlin’ Jack has been entertaining along the Gulf Coast for over thirty years. He strives to make his shows live\, so no backing tracks\, just guitar and vocal. Americana\, Country\, and 50’s to 70’s music are his go to songs.
URL:https://lulusfunfoodmusic.com/event/howlin-jack/2025-07-08/
LOCATION:Destin\, 4607 Legendary Marina Dr\, Florida\, 32541
ATTACH;FMTTYPE=image/png:https://lulusfunfoodmusic.com/wp-content/uploads/2025/05/Howlin-Jack.png
END:VEVENT
END:VCALENDAR