BEGIN:VCALENDAR
VERSION:2.0
PRODID:-//LuLu&#039;s - ECPv6.15.12.2//NONSGML v1.0//EN
CALSCALE:GREGORIAN
METHOD:PUBLISH
X-ORIGINAL-URL:https://lulusfunfoodmusic.com
X-WR-CALDESC:Events for LuLu&#039;s
REFRESH-INTERVAL;VALUE=DURATION:PT1H
X-Robots-Tag:noindex
X-PUBLISHED-TTL:PT1H
BEGIN:VTIMEZONE
TZID:America/Chicago
BEGIN:DAYLIGHT
TZOFFSETFROM:-0600
TZOFFSETTO:-0500
TZNAME:CDT
DTSTART:20240310T080000
END:DAYLIGHT
BEGIN:STANDARD
TZOFFSETFROM:-0500
TZOFFSETTO:-0600
TZNAME:CST
DTSTART:20241103T070000
END:STANDARD
BEGIN:DAYLIGHT
TZOFFSETFROM:-0600
TZOFFSETTO:-0500
TZNAME:CDT
DTSTART:20250309T080000
END:DAYLIGHT
BEGIN:STANDARD
TZOFFSETFROM:-0500
TZOFFSETTO:-0600
TZNAME:CST
DTSTART:20251102T070000
END:STANDARD
BEGIN:DAYLIGHT
TZOFFSETFROM:-0600
TZOFFSETTO:-0500
TZNAME:CDT
DTSTART:20260308T080000
END:DAYLIGHT
BEGIN:STANDARD
TZOFFSETFROM:-0500
TZOFFSETTO:-0600
TZNAME:CST
DTSTART:20261101T070000
END:STANDARD
END:VTIMEZONE
BEGIN:VEVENT
DTSTART;TZID=America/Chicago:20250710T170000
DTEND;TZID=America/Chicago:20250710T210000
DTSTAMP:20260421T072456
CREATED:20240720T154336Z
LAST-MODIFIED:20260204T213238Z
UID:10001671-1752166800-1752181200@lulusfunfoodmusic.com
SUMMARY:Rick Cannon - North Myrtle Beach
DESCRIPTION:Rick Cannon – is a singer-songwriter based in North Myrtle Beach\, South Carolina\, known for his Americana music that blends coastal and western influences. Originally from the mountains\, he relocated to Myrtle Beach\, drawn by his passions for surfing and fishing
URL:https://lulusfunfoodmusic.com/event/rick-cannon-north-myrtle-beach/2025-07-10/
LOCATION:North Myrtle Beach\, 4954 Hwy 17 S\, North Myrtle Beach\, SC\, 29582\, United States
ATTACH;FMTTYPE=image/jpeg:https://lulusfunfoodmusic.com/wp-content/uploads/2024/07/Rick-Cannon.jpg
END:VEVENT
BEGIN:VEVENT
DTSTART;TZID=America/Chicago:20250710T180000
DTEND;TZID=America/Chicago:20250710T220000
DTSTAMP:20260421T072456
CREATED:20240722T210805Z
LAST-MODIFIED:20250708T221759Z
UID:10001648-1752170400-1752184800@lulusfunfoodmusic.com
SUMMARY:Albert Simpson - Destin
DESCRIPTION:Albert Simpson\, hailing from Gadsden\, Alabama\, is a versatile musician known for his unique blend of Southern fried hippie funk. With a career that has seen him collaborate with legends from the Grateful Dead to Willie Nelson\, Albert’s musical journey is as diverse as it is impressive. His heartfelt songwriting and rich Alabama-accented voice have captivated audiences across the United States and beyond.
URL:https://lulusfunfoodmusic.com/event/albert-simpson-destin/2025-07-10/
LOCATION:Destin\, 4607 Legendary Marina Dr\, Florida\, 32541
ATTACH;FMTTYPE=image/jpeg:https://lulusfunfoodmusic.com/wp-content/uploads/2024/07/Albert-Simpson.jpg
END:VEVENT
BEGIN:VEVENT
DTSTART;TZID=America/Chicago:20250710T180000
DTEND;TZID=America/Chicago:20250710T220000
DTSTAMP:20260421T072456
CREATED:20250411T153538Z
LAST-MODIFIED:20250612T161727Z
UID:10001410-1752170400-1752184800@lulusfunfoodmusic.com
SUMMARY:Beach 'N Bands Featuring Jenna McClelland-Gulf Shores
DESCRIPTION:Jenna McClelland\, a songwriter-showman from Mobile\, AL\, hails from a musical lineage\, with her late father\, Billy Earl McClelland\, being a notable songwriter and guitarist. Since 2013\, Jenna has crafted her own music\, gaining recognition in the Southeast for her dynamic performances. Starting in Maryville\, TN\, she transitioned from local venues to larger stages\, earning praise for her energetic shows and unique renditions of familiar songs. In 2016\, Jenna moved to Nashville\, expanding her career and gracing iconic stages alongside renowned musicians. Returning to Alabama\, she formed a band with drummer Travis Patch\, becoming a Gulf Coast favorite. \nIn February 2022\, Jenna’s journey took a turn when hit songwriter Elvie Shane offered her a touring backup vocal position. Touring with The Broken Arrows\, they shared stages with artists like Brooks and Dunn\, Dierks Bentley\, and more. Jenna was featured on Elvie’s single “Jonesin'” in July 2023. Despite the success\, a divine intervention led Jenna back to the lead mic. \n 
URL:https://lulusfunfoodmusic.com/event/jenna-mcclelland-band-gulf-shores/2025-07-10/
LOCATION:Gulf Shores\, AL
ATTACH;FMTTYPE=image/jpeg:https://lulusfunfoodmusic.com/wp-content/uploads/2025/04/Jenna-McClelland.jpg
END:VEVENT
END:VCALENDAR