BEGIN:VCALENDAR
VERSION:2.0
PRODID:-//LuLu&#039;s - ECPv6.15.12.2//NONSGML v1.0//EN
CALSCALE:GREGORIAN
METHOD:PUBLISH
X-ORIGINAL-URL:https://lulusfunfoodmusic.com
X-WR-CALDESC:Events for LuLu&#039;s
REFRESH-INTERVAL;VALUE=DURATION:PT1H
X-Robots-Tag:noindex
X-PUBLISHED-TTL:PT1H
BEGIN:VTIMEZONE
TZID:America/Chicago
BEGIN:DAYLIGHT
TZOFFSETFROM:-0600
TZOFFSETTO:-0500
TZNAME:CDT
DTSTART:20240310T080000
END:DAYLIGHT
BEGIN:STANDARD
TZOFFSETFROM:-0500
TZOFFSETTO:-0600
TZNAME:CST
DTSTART:20241103T070000
END:STANDARD
BEGIN:DAYLIGHT
TZOFFSETFROM:-0600
TZOFFSETTO:-0500
TZNAME:CDT
DTSTART:20250309T080000
END:DAYLIGHT
BEGIN:STANDARD
TZOFFSETFROM:-0500
TZOFFSETTO:-0600
TZNAME:CST
DTSTART:20251102T070000
END:STANDARD
BEGIN:DAYLIGHT
TZOFFSETFROM:-0600
TZOFFSETTO:-0500
TZNAME:CDT
DTSTART:20260308T080000
END:DAYLIGHT
BEGIN:STANDARD
TZOFFSETFROM:-0500
TZOFFSETTO:-0600
TZNAME:CST
DTSTART:20261101T070000
END:STANDARD
END:VTIMEZONE
BEGIN:VEVENT
DTSTART;TZID=America/Chicago:20250720T170000
DTEND;TZID=America/Chicago:20250720T210000
DTSTAMP:20260421T072501
CREATED:20250628T175242Z
LAST-MODIFIED:20260304T170810Z
UID:10001681-1753030800-1753045200@lulusfunfoodmusic.com
SUMMARY:Austin Perry-North Myrtle Beach
DESCRIPTION:Austin Perry-is a musician based in Myrtle Beach\, South Carolina\, known for his engaging live performances and versatile musical style. Music spans several genres\, with a focus on:\nAlternative Rock\, Indie\, Pop\, Acoustic
URL:https://lulusfunfoodmusic.com/event/austin-perry-north-myrtle-beach/2025-07-20/
LOCATION:North Myrtle Beach\, 4954 Hwy 17 S\, North Myrtle Beach\, SC\, 29582\, United States
ATTACH;FMTTYPE=image/jpeg:https://lulusfunfoodmusic.com/wp-content/uploads/2025/06/austin-perry.jpeg
END:VEVENT
BEGIN:VEVENT
DTSTART;TZID=America/Chicago:20250720T180000
DTEND;TZID=America/Chicago:20250720T220000
DTSTAMP:20260421T072501
CREATED:20240713T131753Z
LAST-MODIFIED:20250917T143421Z
UID:10001558-1753034400-1753048800@lulusfunfoodmusic.com
SUMMARY:Ronnie Presley - Gulf Shores
DESCRIPTION:With over 50 years of being a front man\, singer and solo musician Ronnie Presley is still cranking out his brand of music to music lovers everywhere. His musical and vocal influences range from John Fogerty\, Paul Rodgers\, Vince Gill\, Randy Owen\, Ry Cooder\, Keith Urban\, Paul Carrick any many more. Ronnie Presley is a very distant relative to the King of Rock & Roll\, Elvis Presley. Whether it is the blues\, country\, classic rock or reggae that you love to listen to then you should plan on seeing one of his shows soon.
URL:https://lulusfunfoodmusic.com/event/ronnie-presley-gulf-shores/2025-07-20/
LOCATION:Gulf Shores\, AL
ATTACH;FMTTYPE=image/jpeg:https://lulusfunfoodmusic.com/wp-content/uploads/2024/07/Ronnie-Presley.jpg
END:VEVENT
BEGIN:VEVENT
DTSTART;TZID=America/Chicago:20250720T180000
DTEND;TZID=America/Chicago:20250720T220000
DTSTAMP:20260421T072501
CREATED:20240720T143916Z
LAST-MODIFIED:20250923T173713Z
UID:10001657-1753034400-1753048800@lulusfunfoodmusic.com
SUMMARY:Rick Wilson - Destin
DESCRIPTION:This Indiana born\, 45 year veteran of the music business now makes his home on and tours The Emerald Coast of Florida. His newest radio single on Colt Records “Good Ol’ Boys” is now available worldwide. Rickie Joe Wilson is a seasoned recording/touring artist who recorded his “Honky Tonkin Guitar Man” album and his “Whiskey For Breakfast” album at the famous Hilltop Recording Studios in Nashville and renowned Fame Studios in Muscle Shoals\, Alabama. His remake of Canned Heat’s hit song “Going Up The Country” made it to #13 on The Cashbox Independent Country Music Chart in January 2024 and his last single “Margarita Mourning” which he wrote ended up at #6 in April 2024. His brand new single released to radio on Colt Records\, Nashville is the famous Waylon Jennings classic Good Ol’ Boys.
URL:https://lulusfunfoodmusic.com/event/rick-wilson-destin/2025-07-20/
LOCATION:Destin\, 4607 Legendary Marina Dr\, Florida\, 32541
ATTACH;FMTTYPE=image/jpeg:https://lulusfunfoodmusic.com/wp-content/uploads/2024/07/Rick-Wilson.jpg
END:VEVENT
END:VCALENDAR