BEGIN:VCALENDAR
VERSION:2.0
PRODID:-//LuLu&#039;s - ECPv6.15.12.2//NONSGML v1.0//EN
CALSCALE:GREGORIAN
METHOD:PUBLISH
X-ORIGINAL-URL:https://lulusfunfoodmusic.com
X-WR-CALDESC:Events for LuLu&#039;s
REFRESH-INTERVAL;VALUE=DURATION:PT1H
X-Robots-Tag:noindex
X-PUBLISHED-TTL:PT1H
BEGIN:VTIMEZONE
TZID:America/Chicago
BEGIN:DAYLIGHT
TZOFFSETFROM:-0600
TZOFFSETTO:-0500
TZNAME:CDT
DTSTART:20240310T080000
END:DAYLIGHT
BEGIN:STANDARD
TZOFFSETFROM:-0500
TZOFFSETTO:-0600
TZNAME:CST
DTSTART:20241103T070000
END:STANDARD
BEGIN:DAYLIGHT
TZOFFSETFROM:-0600
TZOFFSETTO:-0500
TZNAME:CDT
DTSTART:20250309T080000
END:DAYLIGHT
BEGIN:STANDARD
TZOFFSETFROM:-0500
TZOFFSETTO:-0600
TZNAME:CST
DTSTART:20251102T070000
END:STANDARD
BEGIN:DAYLIGHT
TZOFFSETFROM:-0600
TZOFFSETTO:-0500
TZNAME:CDT
DTSTART:20260308T080000
END:DAYLIGHT
BEGIN:STANDARD
TZOFFSETFROM:-0500
TZOFFSETTO:-0600
TZNAME:CST
DTSTART:20261101T070000
END:STANDARD
END:VTIMEZONE
BEGIN:VEVENT
DTSTART;TZID=America/Chicago:20250722T170000
DTEND;TZID=America/Chicago:20250722T210000
DTSTAMP:20260421T072811
CREATED:20240723T010139Z
LAST-MODIFIED:20260311T163612Z
UID:10001680-1753203600-1753218000@lulusfunfoodmusic.com
SUMMARY:Alvarado Road Show - North Myrtle Beach
DESCRIPTION:The Alvarado Road Show-Country music duo consisting of brothers AJ and Cleve Clark. Hailing from the American heartland\, they are known for their rootsy and authentic style of country music\, blending heartfelt storytelling with harmonious melodies. Their music explores a range of themes\, such as life\, love\, and relationships\, and resonates with fans who enjoy the classic country sound infused with personal\, emotional narratives.
URL:https://lulusfunfoodmusic.com/event/alvarado-road-show-north-myrtle-beach/2025-07-22/
LOCATION:North Myrtle Beach\, 4954 Hwy 17 S\, North Myrtle Beach\, SC\, 29582\, United States
ATTACH;FMTTYPE=image/jpeg:https://lulusfunfoodmusic.com/wp-content/uploads/2024/07/road-show.jpeg
END:VEVENT
BEGIN:VEVENT
DTSTART;TZID=America/Chicago:20250722T180000
DTEND;TZID=America/Chicago:20250722T220000
DTSTAMP:20260421T072811
CREATED:20250221T231330Z
LAST-MODIFIED:20250722T135741Z
UID:10001888-1753207200-1753221600@lulusfunfoodmusic.com
SUMMARY:Chase Brown - Gulf Shores
DESCRIPTION:Chase Brown plays great music\, family favorites
URL:https://lulusfunfoodmusic.com/event/chase-brown-gulf-shores-2/2025-07-22/
LOCATION:Gulf Shores\, AL
ATTACH;FMTTYPE=image/jpeg:https://lulusfunfoodmusic.com/wp-content/uploads/2024/07/Chase-Brown.jpg
END:VEVENT
BEGIN:VEVENT
DTSTART;TZID=America/Chicago:20250722T180000
DTEND;TZID=America/Chicago:20250722T220000
DTSTAMP:20260421T072811
CREATED:20250415T171820Z
LAST-MODIFIED:20250923T175120Z
UID:10001885-1753207200-1753221600@lulusfunfoodmusic.com
SUMMARY:Martin Lane - Destin
DESCRIPTION:Martin Lane is an acoustic duo specializing in classic rock\, 90’s country and sing-along music. They have a vast repertoire of laidback dinner music to fun party and dance tunes\, as well as original songs. This fun duo\, comprised of singer-songwriter\, Laura Lane\, and Nashville producer\, engineer\, musician and singer-songwriter\, Chip Martin has energetic stage chemistry and tight harmonies. With a flair for being able to pull almost any request from thin air\, they encourage audience participation and requests.
URL:https://lulusfunfoodmusic.com/event/martin-lane-destin/2025-07-22/
LOCATION:Destin\, 4607 Legendary Marina Dr\, Florida\, 32541
ATTACH;FMTTYPE=image/jpeg:https://lulusfunfoodmusic.com/wp-content/uploads/2025/04/Martin-Lane.jpg
END:VEVENT
END:VCALENDAR