BEGIN:VCALENDAR
VERSION:2.0
PRODID:-//LuLu&#039;s - ECPv6.15.12.2//NONSGML v1.0//EN
CALSCALE:GREGORIAN
METHOD:PUBLISH
X-WR-CALNAME:LuLu&#039;s
X-ORIGINAL-URL:https://lulusfunfoodmusic.com
X-WR-CALDESC:Events for LuLu&#039;s
REFRESH-INTERVAL;VALUE=DURATION:PT1H
X-Robots-Tag:noindex
X-PUBLISHED-TTL:PT1H
BEGIN:VTIMEZONE
TZID:America/Chicago
BEGIN:DAYLIGHT
TZOFFSETFROM:-0600
TZOFFSETTO:-0500
TZNAME:CDT
DTSTART:20240310T080000
END:DAYLIGHT
BEGIN:STANDARD
TZOFFSETFROM:-0500
TZOFFSETTO:-0600
TZNAME:CST
DTSTART:20241103T070000
END:STANDARD
BEGIN:DAYLIGHT
TZOFFSETFROM:-0600
TZOFFSETTO:-0500
TZNAME:CDT
DTSTART:20250309T080000
END:DAYLIGHT
BEGIN:STANDARD
TZOFFSETFROM:-0500
TZOFFSETTO:-0600
TZNAME:CST
DTSTART:20251102T070000
END:STANDARD
BEGIN:DAYLIGHT
TZOFFSETFROM:-0600
TZOFFSETTO:-0500
TZNAME:CDT
DTSTART:20260308T080000
END:DAYLIGHT
BEGIN:STANDARD
TZOFFSETFROM:-0500
TZOFFSETTO:-0600
TZNAME:CST
DTSTART:20261101T070000
END:STANDARD
END:VTIMEZONE
BEGIN:VEVENT
DTSTART;TZID=America/Chicago:20250724T170000
DTEND;TZID=America/Chicago:20250724T210000
DTSTAMP:20260423T061659
CREATED:20250311T210317Z
LAST-MODIFIED:20260311T165748Z
UID:10001683-1753376400-1753390800@lulusfunfoodmusic.com
SUMMARY:Kennady Murlin- North Myrtle Beach
DESCRIPTION:Kennady Murlin- Singer and musician based in Myrtle Beach\, South Carolina. She is known for her engaging live performances and versatile musical style. Her music spans several genres\, including pop\, rock\, and country. She often covers popular songs and adds her personal touch to them\, captivating audiences with her strong vocals and energetic performances. Kennady frequently performs at local venues\, including restaurants and bars in the Myrtle Beach area.
URL:https://lulusfunfoodmusic.com/event/kennady-murlin-north-myrtle-beach/2025-07-24/
LOCATION:North Myrtle Beach\, 4954 Hwy 17 S\, North Myrtle Beach\, SC\, 29582\, United States
ATTACH;FMTTYPE=image/jpeg:https://lulusfunfoodmusic.com/wp-content/uploads/2025/03/band-kennady.jpeg
END:VEVENT
BEGIN:VEVENT
DTSTART;TZID=America/Chicago:20250724T180000
DTEND;TZID=America/Chicago:20250724T220000
DTSTAMP:20260423T061659
CREATED:20240722T222318Z
LAST-MODIFIED:20260326T162921Z
UID:10001660-1753380000-1753394400@lulusfunfoodmusic.com
SUMMARY:Alvarado Road Show - Destin
DESCRIPTION:The Nashville-by-way-of-Texas-based\, brother duo Alvarado Road Show is Cleve Clark and A.J. Clark
URL:https://lulusfunfoodmusic.com/event/alvarado-road-show-destin/2025-07-24/
LOCATION:Destin\, 4607 Legendary Marina Dr\, Florida\, 32541
ATTACH;FMTTYPE=image/jpeg:https://lulusfunfoodmusic.com/wp-content/uploads/2024/07/Alvarado-Road-Show.jpeg
END:VEVENT
BEGIN:VEVENT
DTSTART;TZID=America/Chicago:20250724T180000
DTEND;TZID=America/Chicago:20250724T220000
DTSTAMP:20260423T061659
CREATED:20240729T135319Z
LAST-MODIFIED:20250923T190235Z
UID:10001562-1753380000-1753394400@lulusfunfoodmusic.com
SUMMARY:JERI Duo - Gulf Shores
DESCRIPTION:JERI
URL:https://lulusfunfoodmusic.com/event/jeri-gulf-shores/2025-07-24/
LOCATION:Gulf Shores\, AL
ATTACH;FMTTYPE=image/jpeg:https://lulusfunfoodmusic.com/wp-content/uploads/2024/07/JERI.jpg
END:VEVENT
END:VCALENDAR