BEGIN:VCALENDAR
VERSION:2.0
PRODID:-//LuLu&#039;s - ECPv6.15.12.2//NONSGML v1.0//EN
CALSCALE:GREGORIAN
METHOD:PUBLISH
X-ORIGINAL-URL:https://lulusfunfoodmusic.com
X-WR-CALDESC:Events for LuLu&#039;s
REFRESH-INTERVAL;VALUE=DURATION:PT1H
X-Robots-Tag:noindex
X-PUBLISHED-TTL:PT1H
BEGIN:VTIMEZONE
TZID:America/Chicago
BEGIN:DAYLIGHT
TZOFFSETFROM:-0600
TZOFFSETTO:-0500
TZNAME:CDT
DTSTART:20240310T080000
END:DAYLIGHT
BEGIN:STANDARD
TZOFFSETFROM:-0500
TZOFFSETTO:-0600
TZNAME:CST
DTSTART:20241103T070000
END:STANDARD
BEGIN:DAYLIGHT
TZOFFSETFROM:-0600
TZOFFSETTO:-0500
TZNAME:CDT
DTSTART:20250309T080000
END:DAYLIGHT
BEGIN:STANDARD
TZOFFSETFROM:-0500
TZOFFSETTO:-0600
TZNAME:CST
DTSTART:20251102T070000
END:STANDARD
BEGIN:DAYLIGHT
TZOFFSETFROM:-0600
TZOFFSETTO:-0500
TZNAME:CDT
DTSTART:20260308T080000
END:DAYLIGHT
BEGIN:STANDARD
TZOFFSETFROM:-0500
TZOFFSETTO:-0600
TZNAME:CST
DTSTART:20261101T070000
END:STANDARD
END:VTIMEZONE
BEGIN:VEVENT
DTSTART;TZID=America/Chicago:20250729T170000
DTEND;TZID=America/Chicago:20250729T210000
DTSTAMP:20260425T083833
CREATED:20240719T122545Z
LAST-MODIFIED:20251208T225025Z
UID:10001673-1753808400-1753822800@lulusfunfoodmusic.com
SUMMARY:Charles Freeman - North Myrtle Beach
DESCRIPTION:Charles Freeman of Murrells Inlet\, SC\, has been a professional working musician on the Grand Strand coast for nearly 20 years. Charles brings a lot to the stage; professionalism\, personality\, and a tremendous variety of music. Charles has embraced the country music genre\, performing songs from artists like Tyler Childers\, Morgan Wallen\, Luke Combs\, Zach Bryan\, and more\, while also being sure to include dozens of other artists’ material in his set list: Jimmy Buffett\, Creedence Clearwater Revival\, Tom Petty\, James Taylor\, The Eagles\, The Grateful Dead\, Jack Johnson\, just to name a few. A good time is always had by all when Charles is behind the microphone!
URL:https://lulusfunfoodmusic.com/event/charles-freeman-north-myrtle-beach-2/2025-07-29/
LOCATION:North Myrtle Beach\, 4954 Hwy 17 S\, North Myrtle Beach\, SC\, 29582\, United States
ATTACH;FMTTYPE=image/jpeg:https://lulusfunfoodmusic.com/wp-content/uploads/2024/07/Charles-Freeman.jpg
END:VEVENT
BEGIN:VEVENT
DTSTART;TZID=America/Chicago:20250729T180000
DTEND;TZID=America/Chicago:20250729T220000
DTSTAMP:20260425T083833
CREATED:20250401T220432Z
LAST-MODIFIED:20250923T193559Z
UID:10001819-1753812000-1753826400@lulusfunfoodmusic.com
SUMMARY:Martin Lane-Gulf Shores
DESCRIPTION:Martin Lane is an acoustic duo specializing in classic rock\, 90’s country and sing-along music. They have a vast repertoire of laidback dinner music to fun party and dance tunes\, as well as original songs. This fun duo\, comprised of singer-songwriter\, Laura Lane\, and Nashville producer\, engineer\, musician and singer-songwriter\, Chip Martin has energetic stage chemistry and tight harmonies. With a flair for being able to pull almost any request from thin air\, they encourage audience participation and requests.
URL:https://lulusfunfoodmusic.com/event/martin-lane-gulf-shores/2025-07-29/
LOCATION:Gulf Shores\, AL
ATTACH;FMTTYPE=image/jpeg:https://lulusfunfoodmusic.com/wp-content/uploads/2025/04/Martin-Lane.jpg
END:VEVENT
BEGIN:VEVENT
DTSTART;TZID=America/Chicago:20250729T180000
DTEND;TZID=America/Chicago:20250729T220000
DTSTAMP:20260425T083833
CREATED:20250528T213759Z
LAST-MODIFIED:20251214T190801Z
UID:10001646-1753812000-1753826400@lulusfunfoodmusic.com
SUMMARY:Howlin’ Jack- Destin
DESCRIPTION:Howlin’ Jack has been entertaining along the Gulf Coast for over thirty years. He strives to make his shows live\, so no backing tracks\, just guitar and vocal. Americana\, Country\, and 50’s to 70’s music are his go to songs.
URL:https://lulusfunfoodmusic.com/event/howlin-jack/2025-07-29/
LOCATION:Destin\, 4607 Legendary Marina Dr\, Florida\, 32541
ATTACH;FMTTYPE=image/png:https://lulusfunfoodmusic.com/wp-content/uploads/2025/05/Howlin-Jack.png
END:VEVENT
END:VCALENDAR