BEGIN:VCALENDAR
VERSION:2.0
PRODID:-//LuLu&#039;s - ECPv6.15.12.2//NONSGML v1.0//EN
CALSCALE:GREGORIAN
METHOD:PUBLISH
X-ORIGINAL-URL:https://lulusfunfoodmusic.com
X-WR-CALDESC:Events for LuLu&#039;s
REFRESH-INTERVAL;VALUE=DURATION:PT1H
X-Robots-Tag:noindex
X-PUBLISHED-TTL:PT1H
BEGIN:VTIMEZONE
TZID:America/Chicago
BEGIN:DAYLIGHT
TZOFFSETFROM:-0600
TZOFFSETTO:-0500
TZNAME:CDT
DTSTART:20240310T080000
END:DAYLIGHT
BEGIN:STANDARD
TZOFFSETFROM:-0500
TZOFFSETTO:-0600
TZNAME:CST
DTSTART:20241103T070000
END:STANDARD
BEGIN:DAYLIGHT
TZOFFSETFROM:-0600
TZOFFSETTO:-0500
TZNAME:CDT
DTSTART:20250309T080000
END:DAYLIGHT
BEGIN:STANDARD
TZOFFSETFROM:-0500
TZOFFSETTO:-0600
TZNAME:CST
DTSTART:20251102T070000
END:STANDARD
BEGIN:DAYLIGHT
TZOFFSETFROM:-0600
TZOFFSETTO:-0500
TZNAME:CDT
DTSTART:20260308T080000
END:DAYLIGHT
BEGIN:STANDARD
TZOFFSETFROM:-0500
TZOFFSETTO:-0600
TZNAME:CST
DTSTART:20261101T070000
END:STANDARD
END:VTIMEZONE
BEGIN:VEVENT
DTSTART;TZID=America/Chicago:20250801T180000
DTEND;TZID=America/Chicago:20250801T220000
DTSTAMP:20260423T054643
CREATED:20250221T231330Z
LAST-MODIFIED:20250722T135741Z
UID:10001719-1754071200-1754085600@lulusfunfoodmusic.com
SUMMARY:Chase Brown - Gulf Shores
DESCRIPTION:Chase Brown plays great music\, family favorites
URL:https://lulusfunfoodmusic.com/event/chase-brown-gulf-shores-2/2025-08-01/
LOCATION:Gulf Shores\, AL
ATTACH;FMTTYPE=image/jpeg:https://lulusfunfoodmusic.com/wp-content/uploads/2024/07/Chase-Brown.jpg
END:VEVENT
BEGIN:VEVENT
DTSTART;TZID=America/Chicago:20250801T180000
DTEND;TZID=America/Chicago:20250801T220000
DTSTAMP:20260423T054643
CREATED:20250708T211328Z
LAST-MODIFIED:20250709T163709Z
UID:10001688-1754071200-1754085600@lulusfunfoodmusic.com
SUMMARY:Downtown Avenue-Destin
DESCRIPTION:Downtown Avenue\, a platinum-awarded and married duo\, features Georgia-native and Trans-Siberian Orchestra singer\, Christie George\, alongside Swedish multi-instrumentalist\, songwriter and producer\, Dejo Andersson. \nKnown for their rich\, full-band sound featuring live guitar\, looping\, drum pads\, and harmonies – all performed without backtracks – Downtown Avenue infuses their performances with humor\, crowd engagement and an authentic passion for country music.
URL:https://lulusfunfoodmusic.com/event/downtown-avenue-dn/
LOCATION:Destin\, 4607 Legendary Marina Dr\, Florida\, 32541
ATTACH;FMTTYPE=image/jpeg:https://lulusfunfoodmusic.com/wp-content/uploads/2025/07/Downtown-Avenue-scaled.jpg
END:VEVENT
END:VCALENDAR