BEGIN:VCALENDAR
VERSION:2.0
PRODID:-//LuLu&#039;s - ECPv6.15.12.2//NONSGML v1.0//EN
CALSCALE:GREGORIAN
METHOD:PUBLISH
X-ORIGINAL-URL:https://lulusfunfoodmusic.com
X-WR-CALDESC:Events for LuLu&#039;s
REFRESH-INTERVAL;VALUE=DURATION:PT1H
X-Robots-Tag:noindex
X-PUBLISHED-TTL:PT1H
BEGIN:VTIMEZONE
TZID:America/Chicago
BEGIN:DAYLIGHT
TZOFFSETFROM:-0600
TZOFFSETTO:-0500
TZNAME:CDT
DTSTART:20240310T080000
END:DAYLIGHT
BEGIN:STANDARD
TZOFFSETFROM:-0500
TZOFFSETTO:-0600
TZNAME:CST
DTSTART:20241103T070000
END:STANDARD
BEGIN:DAYLIGHT
TZOFFSETFROM:-0600
TZOFFSETTO:-0500
TZNAME:CDT
DTSTART:20250309T080000
END:DAYLIGHT
BEGIN:STANDARD
TZOFFSETFROM:-0500
TZOFFSETTO:-0600
TZNAME:CST
DTSTART:20251102T070000
END:STANDARD
BEGIN:DAYLIGHT
TZOFFSETFROM:-0600
TZOFFSETTO:-0500
TZNAME:CDT
DTSTART:20260308T080000
END:DAYLIGHT
BEGIN:STANDARD
TZOFFSETFROM:-0500
TZOFFSETTO:-0600
TZNAME:CST
DTSTART:20261101T070000
END:STANDARD
END:VTIMEZONE
BEGIN:VEVENT
DTSTART;TZID=America/Chicago:20250807T060000
DTEND;TZID=America/Chicago:20250807T220000
DTSTAMP:20260421T044609
CREATED:20250717T165308Z
LAST-MODIFIED:20250717T165308Z
UID:10001815-1754546400-1754604000@lulusfunfoodmusic.com
SUMMARY:Beach'n Bands : Grayson Capps Band
DESCRIPTION:LuLu’s Beach’n Bands: Grayson Capps Band live on the Crazy Sista Stage! \nGrayson Capps is a local legend and relaxed. You can hear it in the tone of his voice when he speaks\, in the thoughtful\, laconic way he reflects on the sometimes-tumultuous course of his life and work. It’s not the sound of complacency or comfort\, but rather of personal growth and understanding. Capps is not without worry or darkness in his life\, but he’s reached a kind of peace with it\, an unhurried acceptance that enables him to write with unflinching honesty and remarkable humanity. His long-awaited new solo album\, ‘Scarlett Roses\,’ is his first in six years\, and it showcases the kind of understated brilliance that can blossom when creativity is detached from expectation\, when songs are truly given the space and time to find their writer. Grayson Capps is relaxed\, but it wasn’t always this way. \n 
URL:https://lulusfunfoodmusic.com/event/beachn-bands-grayson-capps-band/
LOCATION:Gulf Shores\, AL
ATTACH;FMTTYPE=image/jpeg:https://lulusfunfoodmusic.com/wp-content/uploads/2025/07/graysoncapps.jpg
END:VEVENT
BEGIN:VEVENT
DTSTART;TZID=America/Chicago:20250807T170000
DTEND;TZID=America/Chicago:20250807T210000
DTSTAMP:20260421T044609
CREATED:20240905T231150Z
LAST-MODIFIED:20260311T170120Z
UID:10001775-1754586000-1754600400@lulusfunfoodmusic.com
SUMMARY:Jeremiah Reyes - North Myrtle Beach
DESCRIPTION:Jeremiah Reyes- With a voice that is a combination of David Grey/Ben Harper\, Jeremiah Reyes is a multi-instrumentalist with a massive song selection. you can catch Jeremiah blending acoustic guitar and saxophone in his one-man-band show
URL:https://lulusfunfoodmusic.com/event/jeremiah-reyes-north-myrtle-beach/2025-08-07/
LOCATION:North Myrtle Beach\, 4954 Hwy 17 S\, North Myrtle Beach\, SC\, 29582\, United States
ATTACH;FMTTYPE=image/jpeg:https://lulusfunfoodmusic.com/wp-content/uploads/2024/09/Jeremiah-reyes.jpg
END:VEVENT
BEGIN:VEVENT
DTSTART;TZID=America/Chicago:20250807T180000
DTEND;TZID=America/Chicago:20250807T220000
DTSTAMP:20260421T044609
CREATED:20240722T222318Z
LAST-MODIFIED:20260326T162921Z
UID:10001696-1754589600-1754604000@lulusfunfoodmusic.com
SUMMARY:Alvarado Road Show - Destin
DESCRIPTION:The Nashville-by-way-of-Texas-based\, brother duo Alvarado Road Show is Cleve Clark and A.J. Clark
URL:https://lulusfunfoodmusic.com/event/alvarado-road-show-destin/2025-08-07/
LOCATION:Destin\, 4607 Legendary Marina Dr\, Florida\, 32541
ATTACH;FMTTYPE=image/jpeg:https://lulusfunfoodmusic.com/wp-content/uploads/2024/07/Alvarado-Road-Show.jpeg
END:VEVENT
END:VCALENDAR