BEGIN:VCALENDAR
VERSION:2.0
PRODID:-//LuLu&#039;s - ECPv6.15.12.2//NONSGML v1.0//EN
CALSCALE:GREGORIAN
METHOD:PUBLISH
X-ORIGINAL-URL:https://lulusfunfoodmusic.com
X-WR-CALDESC:Events for LuLu&#039;s
REFRESH-INTERVAL;VALUE=DURATION:PT1H
X-Robots-Tag:noindex
X-PUBLISHED-TTL:PT1H
BEGIN:VTIMEZONE
TZID:America/Chicago
BEGIN:DAYLIGHT
TZOFFSETFROM:-0600
TZOFFSETTO:-0500
TZNAME:CDT
DTSTART:20240310T080000
END:DAYLIGHT
BEGIN:STANDARD
TZOFFSETFROM:-0500
TZOFFSETTO:-0600
TZNAME:CST
DTSTART:20241103T070000
END:STANDARD
BEGIN:DAYLIGHT
TZOFFSETFROM:-0600
TZOFFSETTO:-0500
TZNAME:CDT
DTSTART:20250309T080000
END:DAYLIGHT
BEGIN:STANDARD
TZOFFSETFROM:-0500
TZOFFSETTO:-0600
TZNAME:CST
DTSTART:20251102T070000
END:STANDARD
BEGIN:DAYLIGHT
TZOFFSETFROM:-0600
TZOFFSETTO:-0500
TZNAME:CDT
DTSTART:20260308T080000
END:DAYLIGHT
BEGIN:STANDARD
TZOFFSETFROM:-0500
TZOFFSETTO:-0600
TZNAME:CST
DTSTART:20261101T070000
END:STANDARD
END:VTIMEZONE
BEGIN:VEVENT
DTSTART;TZID=America/Chicago:20250808T170000
DTEND;TZID=America/Chicago:20250808T210000
DTSTAMP:20260421T033155
CREATED:20250210T144132Z
LAST-MODIFIED:20250828T203833Z
UID:10001726-1754672400-1754686800@lulusfunfoodmusic.com
SUMMARY:Smith & Kern - Gulf Shores
DESCRIPTION:This high energy acoustic duo features Alan Smith on acoustic guitar\, mandolin\, and vocals and Russ Kern on sax\, blues harmonica\, and guitar/slide and vocals. Their soulful blend of Americana\, Blues Rock\, Country\, and original music is sure to please. Featuring tight vocal harmonies and the ability to switch instruments throughout their sets makes this duo one of the most versatile and entertaining on the Gulf Coast.
URL:https://lulusfunfoodmusic.com/event/smith-kern-gulf-shores/2025-08-08/
LOCATION:Gulf Shores\, AL
ATTACH;FMTTYPE=image/png:https://lulusfunfoodmusic.com/wp-content/uploads/2025/03/smithKern.png
END:VEVENT
BEGIN:VEVENT
DTSTART;TZID=America/Chicago:20250808T180000
DTEND;TZID=America/Chicago:20250808T220000
DTSTAMP:20260421T033155
CREATED:20241212T165046Z
LAST-MODIFIED:20251020T154925Z
UID:10001697-1754676000-1754690400@lulusfunfoodmusic.com
SUMMARY:Brandon House- Destin
DESCRIPTION:Brandon House is a singer and musician from Acworth\, Georgia\, heavily influenced by country music icons such as George Strait and Conway Twitty.
URL:https://lulusfunfoodmusic.com/event/brandon-house-destin-2/2025-08-08/
LOCATION:Destin\, 4607 Legendary Marina Dr\, Florida\, 32541
ATTACH;FMTTYPE=image/jpeg:https://lulusfunfoodmusic.com/wp-content/uploads/2024/11/Brandon-House.jpg
END:VEVENT
END:VCALENDAR