BEGIN:VCALENDAR
VERSION:2.0
PRODID:-//LuLu&#039;s - ECPv6.15.12.2//NONSGML v1.0//EN
CALSCALE:GREGORIAN
METHOD:PUBLISH
X-WR-CALNAME:LuLu&#039;s
X-ORIGINAL-URL:https://lulusfunfoodmusic.com
X-WR-CALDESC:Events for LuLu&#039;s
REFRESH-INTERVAL;VALUE=DURATION:PT1H
X-Robots-Tag:noindex
X-PUBLISHED-TTL:PT1H
BEGIN:VTIMEZONE
TZID:America/Chicago
BEGIN:DAYLIGHT
TZOFFSETFROM:-0600
TZOFFSETTO:-0500
TZNAME:CDT
DTSTART:20240310T080000
END:DAYLIGHT
BEGIN:STANDARD
TZOFFSETFROM:-0500
TZOFFSETTO:-0600
TZNAME:CST
DTSTART:20241103T070000
END:STANDARD
BEGIN:DAYLIGHT
TZOFFSETFROM:-0600
TZOFFSETTO:-0500
TZNAME:CDT
DTSTART:20250309T080000
END:DAYLIGHT
BEGIN:STANDARD
TZOFFSETFROM:-0500
TZOFFSETTO:-0600
TZNAME:CST
DTSTART:20251102T070000
END:STANDARD
BEGIN:DAYLIGHT
TZOFFSETFROM:-0600
TZOFFSETTO:-0500
TZNAME:CDT
DTSTART:20260308T080000
END:DAYLIGHT
BEGIN:STANDARD
TZOFFSETFROM:-0500
TZOFFSETTO:-0600
TZNAME:CST
DTSTART:20261101T070000
END:STANDARD
END:VTIMEZONE
BEGIN:VEVENT
DTSTART;TZID=America/Chicago:20250811T170000
DTEND;TZID=America/Chicago:20250811T210000
DTSTAMP:20260421T072213
CREATED:20240717T201643Z
LAST-MODIFIED:20250923T190548Z
UID:10001729-1754931600-1754946000@lulusfunfoodmusic.com
SUMMARY:John Keuler - Gulf Shores
DESCRIPTION:John Keuler plays an organic\, soulful\, and vocal blend of favorites by Paul Simon\, Bob Marley\, The Band\, The Grateful Dead\, as well as original material.
URL:https://lulusfunfoodmusic.com/event/john-keuler-gulf-shores/2025-08-11/
LOCATION:Gulf Shores\, AL
ATTACH;FMTTYPE=image/jpeg:https://lulusfunfoodmusic.com/wp-content/uploads/2024/07/John-Keuler.jpeg
END:VEVENT
BEGIN:VEVENT
DTSTART;TZID=America/Chicago:20250811T170000
DTEND;TZID=America/Chicago:20250811T210000
DTSTAMP:20260421T072213
CREATED:20250610T141538Z
LAST-MODIFIED:20251020T155444Z
UID:10001717-1754931600-1754946000@lulusfunfoodmusic.com
SUMMARY:Marc Harris - Destin
DESCRIPTION:Born and raised in Nashville\, Marc Harris spent much of his early childhood in his Father’s apparel store\, which outfitted some of classic country’s legends. Influenced by the greats of country and rock\, Marc developed his own twangy melodic sound\, Harris started out playing night clubs in Nashville throughout high school and toured the southeast playing frat parties during college. Marc made a conscious decision to catch a tour bus heading out of town in the early 90s and hit ‘The Road’ with Lee Roy Parnell as well as John Berry\, Stacey Dean Campbell\, among others. After touring as a sideman for country artists throughout the 90s\, Marc moved to Point Washington Florida in 2001 where his creativity and songwriting flourished.  His original music has been dubbed “Southern Surf”. \nThe Athens Flagpole referred to Harris’ music as “Guitar Strong Modern Rock\,” while the Destin Beachcomber described it as “The best kind of singer-songwriter material- intelligent\, well crafted\, and accessible to twang lovers and haters alike.” The Birmingham weekly aptly called Marc’s music “A Mix of Renegade Country and Beach-Tinged Tunes.”
URL:https://lulusfunfoodmusic.com/event/marc-harris-destin-2/2025-08-11/
LOCATION:Destin\, 4607 Legendary Marina Dr\, Florida\, 32541
ATTACH;FMTTYPE=image/jpeg:https://lulusfunfoodmusic.com/wp-content/uploads/2024/07/Marc-Harris.jpg
END:VEVENT
BEGIN:VEVENT
DTSTART;TZID=America/Chicago:20250811T180000
DTEND;TZID=America/Chicago:20250811T220000
DTSTAMP:20260421T072213
CREATED:20240905T230644Z
LAST-MODIFIED:20260225T005214Z
UID:10001812-1754935200-1754949600@lulusfunfoodmusic.com
SUMMARY:Brendan Kirby - North Myrtle Beach
DESCRIPTION:Brendan Kirby-South Carolina native and accomplished musician known for his dynamic performances across the Myrtle Beach area. Born and raised in rural South Carolina\, Brendan began playing guitar at the age of 14\, quickly developing a deep passion for music.At 15\, Brendan moved to Nashville\, Tennessee\, where he had the opportunity to perform at renowned venues such as Tootsies\, Honky Tonk Central\, and Layla’s. He also appeared on “Nashville Spotlight\,” a television show featuring up-and-coming singers.After returning to South Carolina\, Brendan continued to build his reputation as a versatile musician\, performing a wide variety of music from classics to newer hits. His set lists include genres like country\, pop\, and rock\, featuring artists such as Ed Sheeran\, John Mayer\, and Chris Stapleton.
URL:https://lulusfunfoodmusic.com/event/brendan-kirby-north-myrtle-beach/2025-08-11/
LOCATION:North Myrtle Beach\, 4954 Hwy 17 S\, North Myrtle Beach\, SC\, 29582\, United States
ATTACH;FMTTYPE=image/jpeg:https://lulusfunfoodmusic.com/wp-content/uploads/2024/09/Brendan-Kirby.jpg
END:VEVENT
END:VCALENDAR