BEGIN:VCALENDAR
VERSION:2.0
PRODID:-//LuLu&#039;s - ECPv6.15.12.2//NONSGML v1.0//EN
CALSCALE:GREGORIAN
METHOD:PUBLISH
X-ORIGINAL-URL:https://lulusfunfoodmusic.com
X-WR-CALDESC:Events for LuLu&#039;s
REFRESH-INTERVAL;VALUE=DURATION:PT1H
X-Robots-Tag:noindex
X-PUBLISHED-TTL:PT1H
BEGIN:VTIMEZONE
TZID:America/Chicago
BEGIN:DAYLIGHT
TZOFFSETFROM:-0600
TZOFFSETTO:-0500
TZNAME:CDT
DTSTART:20240310T080000
END:DAYLIGHT
BEGIN:STANDARD
TZOFFSETFROM:-0500
TZOFFSETTO:-0600
TZNAME:CST
DTSTART:20241103T070000
END:STANDARD
BEGIN:DAYLIGHT
TZOFFSETFROM:-0600
TZOFFSETTO:-0500
TZNAME:CDT
DTSTART:20250309T080000
END:DAYLIGHT
BEGIN:STANDARD
TZOFFSETFROM:-0500
TZOFFSETTO:-0600
TZNAME:CST
DTSTART:20251102T070000
END:STANDARD
BEGIN:DAYLIGHT
TZOFFSETFROM:-0600
TZOFFSETTO:-0500
TZNAME:CDT
DTSTART:20260308T080000
END:DAYLIGHT
BEGIN:STANDARD
TZOFFSETFROM:-0500
TZOFFSETTO:-0600
TZNAME:CST
DTSTART:20261101T070000
END:STANDARD
END:VTIMEZONE
BEGIN:VEVENT
DTSTART;TZID=America/Chicago:20250812T170000
DTEND;TZID=America/Chicago:20250812T210000
DTSTAMP:20260421T100508
CREATED:20250311T210317Z
LAST-MODIFIED:20260311T165748Z
UID:10001428-1755018000-1755032400@lulusfunfoodmusic.com
SUMMARY:Kennady Murlin- North Myrtle Beach
DESCRIPTION:Kennady Murlin- Singer and musician based in Myrtle Beach\, South Carolina. She is known for her engaging live performances and versatile musical style. Her music spans several genres\, including pop\, rock\, and country. She often covers popular songs and adds her personal touch to them\, captivating audiences with her strong vocals and energetic performances. Kennady frequently performs at local venues\, including restaurants and bars in the Myrtle Beach area.
URL:https://lulusfunfoodmusic.com/event/kennady-murlin-north-myrtle-beach/2025-08-12/
LOCATION:North Myrtle Beach\, 4954 Hwy 17 S\, North Myrtle Beach\, SC\, 29582\, United States
ATTACH;FMTTYPE=image/jpeg:https://lulusfunfoodmusic.com/wp-content/uploads/2025/03/band-kennady.jpeg
END:VEVENT
BEGIN:VEVENT
DTSTART;TZID=America/Chicago:20250812T170000
DTEND;TZID=America/Chicago:20250812T210000
DTSTAMP:20260421T100508
CREATED:20250717T231734Z
LAST-MODIFIED:20250717T231734Z
UID:10001820-1755018000-1755032400@lulusfunfoodmusic.com
SUMMARY:Just Roger- Gulf Shores
DESCRIPTION:Delivering Smiles Through Music\n\n\n\n\n\n\nMusic isn’t just background noise—it sets the tone\, creates memories\, and turns an event into an experience. Whether it’s a wedding\, festival\, private party\, or corporate gathering\, Roger Howard brings the perfect mix of energy\, professionalism\, and musical mastery to your stage.
URL:https://lulusfunfoodmusic.com/event/just-roger-gulf-shores/2025-08-12/
LOCATION:Gulf Shores\, AL
ATTACH;FMTTYPE=image/jpeg:https://lulusfunfoodmusic.com/wp-content/uploads/2025/07/Jsut-Roger.jpeg
END:VEVENT
BEGIN:VEVENT
DTSTART;TZID=America/Chicago:20250812T170000
DTEND;TZID=America/Chicago:20250812T210000
DTSTAMP:20260421T100508
CREATED:20250718T145928Z
LAST-MODIFIED:20250718T145928Z
UID:10001824-1755018000-1755032400@lulusfunfoodmusic.com
SUMMARY:Ryan Balthrop- Destin
DESCRIPTION:
URL:https://lulusfunfoodmusic.com/event/ryan-balthrop-destin/
LOCATION:Destin\, 4607 Legendary Marina Dr\, Florida\, 32541
ATTACH;FMTTYPE=image/jpeg:https://lulusfunfoodmusic.com/wp-content/uploads/2025/04/Ryan-BAlthrop-scaled.jpeg
END:VEVENT
END:VCALENDAR