BEGIN:VCALENDAR
VERSION:2.0
PRODID:-//LuLu&#039;s - ECPv6.15.12.2//NONSGML v1.0//EN
CALSCALE:GREGORIAN
METHOD:PUBLISH
X-WR-CALNAME:LuLu&#039;s
X-ORIGINAL-URL:https://lulusfunfoodmusic.com
X-WR-CALDESC:Events for LuLu&#039;s
REFRESH-INTERVAL;VALUE=DURATION:PT1H
X-Robots-Tag:noindex
X-PUBLISHED-TTL:PT1H
BEGIN:VTIMEZONE
TZID:America/Chicago
BEGIN:DAYLIGHT
TZOFFSETFROM:-0600
TZOFFSETTO:-0500
TZNAME:CDT
DTSTART:20240310T080000
END:DAYLIGHT
BEGIN:STANDARD
TZOFFSETFROM:-0500
TZOFFSETTO:-0600
TZNAME:CST
DTSTART:20241103T070000
END:STANDARD
BEGIN:DAYLIGHT
TZOFFSETFROM:-0600
TZOFFSETTO:-0500
TZNAME:CDT
DTSTART:20250309T080000
END:DAYLIGHT
BEGIN:STANDARD
TZOFFSETFROM:-0500
TZOFFSETTO:-0600
TZNAME:CST
DTSTART:20251102T070000
END:STANDARD
BEGIN:DAYLIGHT
TZOFFSETFROM:-0600
TZOFFSETTO:-0500
TZNAME:CDT
DTSTART:20260308T080000
END:DAYLIGHT
BEGIN:STANDARD
TZOFFSETFROM:-0500
TZOFFSETTO:-0600
TZNAME:CST
DTSTART:20261101T070000
END:STANDARD
END:VTIMEZONE
BEGIN:VEVENT
DTSTART;TZID=America/Chicago:20250819T170000
DTEND;TZID=America/Chicago:20250819T210000
DTSTAMP:20260425T064822
CREATED:20240717T182430Z
LAST-MODIFIED:20250708T230222Z
UID:10001738-1755622800-1755637200@lulusfunfoodmusic.com
SUMMARY:Albert Simpson - Gulf Shores
DESCRIPTION:Albert Simpson\, hailing from Gadsden\, Alabama\, is a versatile musician known for his unique blend of Southern fried hippie funk. With a career that has seen him collaborate with legends from the Grateful Dead to Willie Nelson\, Albert’s musical journey is as diverse as it is impressive. His heartfelt songwriting and rich Alabama-accented voice have captivated audiences across the United States and beyond.
URL:https://lulusfunfoodmusic.com/event/albert-simpson-gulf-shores/2025-08-19/
LOCATION:Gulf Shores\, AL
ATTACH;FMTTYPE=image/jpeg:https://lulusfunfoodmusic.com/wp-content/uploads/2024/07/Albert-Simpson.jpg
END:VEVENT
BEGIN:VEVENT
DTSTART;TZID=America/Chicago:20250819T170000
DTEND;TZID=America/Chicago:20250819T210000
DTSTAMP:20260425T064822
CREATED:20240719T122545Z
LAST-MODIFIED:20251208T225025Z
UID:10001761-1755622800-1755637200@lulusfunfoodmusic.com
SUMMARY:Charles Freeman - North Myrtle Beach
DESCRIPTION:Charles Freeman of Murrells Inlet\, SC\, has been a professional working musician on the Grand Strand coast for nearly 20 years. Charles brings a lot to the stage; professionalism\, personality\, and a tremendous variety of music. Charles has embraced the country music genre\, performing songs from artists like Tyler Childers\, Morgan Wallen\, Luke Combs\, Zach Bryan\, and more\, while also being sure to include dozens of other artists’ material in his set list: Jimmy Buffett\, Creedence Clearwater Revival\, Tom Petty\, James Taylor\, The Eagles\, The Grateful Dead\, Jack Johnson\, just to name a few. A good time is always had by all when Charles is behind the microphone!
URL:https://lulusfunfoodmusic.com/event/charles-freeman-north-myrtle-beach-2/2025-08-19/
LOCATION:North Myrtle Beach\, 4954 Hwy 17 S\, North Myrtle Beach\, SC\, 29582\, United States
ATTACH;FMTTYPE=image/jpeg:https://lulusfunfoodmusic.com/wp-content/uploads/2024/07/Charles-Freeman.jpg
END:VEVENT
BEGIN:VEVENT
DTSTART;TZID=America/Chicago:20250819T170000
DTEND;TZID=America/Chicago:20250819T210000
DTSTAMP:20260425T064822
CREATED:20240722T222040Z
LAST-MODIFIED:20250909T201451Z
UID:10001710-1755622800-1755637200@lulusfunfoodmusic.com
SUMMARY:Chase Brown - Destin
DESCRIPTION:Chase Brown
URL:https://lulusfunfoodmusic.com/event/chase-brown-destin/2025-08-19/
LOCATION:Destin\, 4607 Legendary Marina Dr\, Florida\, 32541
ATTACH;FMTTYPE=image/jpeg:https://lulusfunfoodmusic.com/wp-content/uploads/2024/07/Chase-Brown.jpg
END:VEVENT
END:VCALENDAR