BEGIN:VCALENDAR
VERSION:2.0
PRODID:-//LuLu&#039;s - ECPv6.15.12.2//NONSGML v1.0//EN
CALSCALE:GREGORIAN
METHOD:PUBLISH
X-WR-CALNAME:LuLu&#039;s
X-ORIGINAL-URL:https://lulusfunfoodmusic.com
X-WR-CALDESC:Events for LuLu&#039;s
REFRESH-INTERVAL;VALUE=DURATION:PT1H
X-Robots-Tag:noindex
X-PUBLISHED-TTL:PT1H
BEGIN:VTIMEZONE
TZID:America/Chicago
BEGIN:DAYLIGHT
TZOFFSETFROM:-0600
TZOFFSETTO:-0500
TZNAME:CDT
DTSTART:20240310T080000
END:DAYLIGHT
BEGIN:STANDARD
TZOFFSETFROM:-0500
TZOFFSETTO:-0600
TZNAME:CST
DTSTART:20241103T070000
END:STANDARD
BEGIN:DAYLIGHT
TZOFFSETFROM:-0600
TZOFFSETTO:-0500
TZNAME:CDT
DTSTART:20250309T080000
END:DAYLIGHT
BEGIN:STANDARD
TZOFFSETFROM:-0500
TZOFFSETTO:-0600
TZNAME:CST
DTSTART:20251102T070000
END:STANDARD
BEGIN:DAYLIGHT
TZOFFSETFROM:-0600
TZOFFSETTO:-0500
TZNAME:CDT
DTSTART:20260308T080000
END:DAYLIGHT
BEGIN:STANDARD
TZOFFSETFROM:-0500
TZOFFSETTO:-0600
TZNAME:CST
DTSTART:20261101T070000
END:STANDARD
END:VTIMEZONE
BEGIN:VEVENT
DTSTART;TZID=America/Chicago:20250828T170000
DTEND;TZID=America/Chicago:20250828T210000
DTSTAMP:20260425T083231
CREATED:20240712T201552Z
LAST-MODIFIED:20251209T215146Z
UID:10001707-1756400400-1756414800@lulusfunfoodmusic.com
SUMMARY:Gypsy Pearl - Destin
DESCRIPTION:GYPSYPEARL DUO — DESTIN \nThe GypsyPearl Duo brings their signature blend of soulful vocals\, tight harmonies\, and acoustic charm to the Emerald Coast. Known for creating an easy\, feel-good atmosphere\, they mix modern country\, classic rock\, and crowd-favorite hits into a smooth\, high-energy set that fits perfectly with LuLu’s laid-back Destin vibe. \nWith influences ranging from Fleetwood Mac and Miranda Lambert to Chris Stapleton\, The Eagles\, and today’s top artists\, GypsyPearl Duo delivers familiar songs with a refreshing coastal twist. Whether they’re setting the tone for a sunny afternoon or winding down a relaxing evening\, they bring polished musicianship and warm personality to every performance. \nA Destin favorite—easy to listen to\, impossible not to enjoy.
URL:https://lulusfunfoodmusic.com/event/gypsy-pearl-destin/2025-08-28/
LOCATION:Destin\, 4607 Legendary Marina Dr\, Florida\, 32541
ATTACH;FMTTYPE=image/jpeg:https://lulusfunfoodmusic.com/wp-content/uploads/2024/07/GypsyPearl.jpg
END:VEVENT
BEGIN:VEVENT
DTSTART;TZID=America/Chicago:20250828T170000
DTEND;TZID=America/Chicago:20250828T210000
DTSTAMP:20260425T083231
CREATED:20240718T125349Z
LAST-MODIFIED:20251008T004207Z
UID:10001769-1756400400-1756414800@lulusfunfoodmusic.com
SUMMARY:The Yale Brothers - North Myrtle Beach
DESCRIPTION:Identical twins Chris and Roger Yale cut their teeth on rock ‘n’ roll while growing up in Hollywood and regularly played the Sunset Strip with their band\, Rogue Alley. Now longtime Myrtle Beach residents\, Roger is a journalist and was a founding member of the classic rock cover band\, Sick Stooges – and Chris enjoyed a long stint with his band\, Medicine Hat – dating back into the 1990s on the Grand Strand. His CD\, “Well Enough Alone\,” has been described as “a rock car with country tires barreling down the blacktop of the American night.” The twins have been working on original music and digging into their collective psyches to reconnect with that spark they maintained for many years as The Yale Brothers – bringing with them a mindfully chosen collection of cover tunes as well. \nYou are not seeing double…
URL:https://lulusfunfoodmusic.com/event/the-yale-brothers-north-myrtle-beach/2025-08-28/
LOCATION:North Myrtle Beach\, 4954 Hwy 17 S\, North Myrtle Beach\, SC\, 29582\, United States
ATTACH;FMTTYPE=image/jpeg:https://lulusfunfoodmusic.com/wp-content/uploads/2024/07/Yale-Brothers.jpg
END:VEVENT
BEGIN:VEVENT
DTSTART;TZID=America/Chicago:20250828T170000
DTEND;TZID=America/Chicago:20250828T210000
DTSTAMP:20260425T083231
CREATED:20240905T232255Z
LAST-MODIFIED:20250923T190719Z
UID:10001743-1756400400-1756414800@lulusfunfoodmusic.com
SUMMARY:Brooks Johnson - Gulf Shores
DESCRIPTION:Brooks Johnson – Country/Rock Artist | Perdido Key\, FL \nBorn in Alabama\, shaped by years living in New York City\, and now rooted on Florida’s Gulf Coast\, Brooks Johnson delivers country and rock with grit\, soul\, and zero pretense. His sound is built on raw acoustic guitar work and a vocal tone that’s instantly recognizable and requires no filters: warm\, resonant\, and edged with a touch of Southern gravel. \nWhether he’s covering outlaw country\, classic rock\, or Americana\, his powerful vocals\, tone and delivery bring a fresh edge to familiar songs—real\, unpolished\, and unforgettable. \nSince returning to the Gulf Coast\, Brooks has become a go-to solo act for venues\, festivals\, and private events seeking high-quality live music without the polish or pretense. Whether he’s playing to a laid-back beach crowd or a rowdy night-time audience\, Brooks brings a setlist packed with familiar hits and hidden gems\, all delivered with unmistakable grit. \nInstagram/Tik tok/Facebook/Venmo: @Brooksjohnsonmusic \nBrooksjohnsonmusic.com
URL:https://lulusfunfoodmusic.com/event/brooks-johnson-gulf-shores/2025-08-28/
LOCATION:Gulf Shores\, AL
ATTACH;FMTTYPE=image/jpeg:https://lulusfunfoodmusic.com/wp-content/uploads/2024/09/Brooks-Johnson.jpg
END:VEVENT
END:VCALENDAR