BEGIN:VCALENDAR
VERSION:2.0
PRODID:-//LuLu&#039;s - ECPv6.15.12.2//NONSGML v1.0//EN
CALSCALE:GREGORIAN
METHOD:PUBLISH
X-WR-CALNAME:LuLu&#039;s
X-ORIGINAL-URL:https://lulusfunfoodmusic.com
X-WR-CALDESC:Events for LuLu&#039;s
REFRESH-INTERVAL;VALUE=DURATION:PT1H
X-Robots-Tag:noindex
X-PUBLISHED-TTL:PT1H
BEGIN:VTIMEZONE
TZID:America/Chicago
BEGIN:DAYLIGHT
TZOFFSETFROM:-0600
TZOFFSETTO:-0500
TZNAME:CDT
DTSTART:20240310T080000
END:DAYLIGHT
BEGIN:STANDARD
TZOFFSETFROM:-0500
TZOFFSETTO:-0600
TZNAME:CST
DTSTART:20241103T070000
END:STANDARD
BEGIN:DAYLIGHT
TZOFFSETFROM:-0600
TZOFFSETTO:-0500
TZNAME:CDT
DTSTART:20250309T080000
END:DAYLIGHT
BEGIN:STANDARD
TZOFFSETFROM:-0500
TZOFFSETTO:-0600
TZNAME:CST
DTSTART:20251102T070000
END:STANDARD
BEGIN:DAYLIGHT
TZOFFSETFROM:-0600
TZOFFSETTO:-0500
TZNAME:CDT
DTSTART:20260308T080000
END:DAYLIGHT
BEGIN:STANDARD
TZOFFSETFROM:-0500
TZOFFSETTO:-0600
TZNAME:CST
DTSTART:20261101T070000
END:STANDARD
END:VTIMEZONE
BEGIN:VEVENT
DTSTART;TZID=America/Chicago:20250903T170000
DTEND;TZID=America/Chicago:20250903T210000
DTSTAMP:20260420T092439
CREATED:20240718T131501Z
LAST-MODIFIED:20251031T192808Z
UID:10001793-1756918800-1756933200@lulusfunfoodmusic.com
SUMMARY:Liz Kelley - North Myrtle Beach
DESCRIPTION:A multi-cultural multi-instrumentalist\, Liz Kelley grew up between Tokyo and the American South. In college she studied classical guitar\, music technology and jazz voice\, receiving a DownBeat award and performing at Montreux\, Umbria and Vienne Jazz Festivals. Having opened for Lalah Hathaway\, Nate Smith and Makaya McCraven\, and working with MonoNeon\, Liz Kelley pulls from her background in jazz\, AI sound design and an international upbringing to create alternative textures with a sullen danceability. Influences ranging from Hiatus Kaiyote to Bjork can be heard due to this diverse cultural and educational background. Her days are filled as a sound designer for an AI DJ company\, composer for a neuroscience firm\, and independently touring nationally and internationally. Her recent single “Notice” was co-produced by Kelley’s longtime collaborator Justin Trout\, and features Grammy-Award winner MonoNeon (Prince\, Ne-Yo).
URL:https://lulusfunfoodmusic.com/event/liz-kelley-north-myrtle-beach/2025-09-03/
LOCATION:North Myrtle Beach\, 4954 Hwy 17 S\, North Myrtle Beach\, SC\, 29582\, United States
ATTACH;FMTTYPE=image/webp:https://lulusfunfoodmusic.com/wp-content/uploads/2024/07/Liz-Kelley-1.webp
END:VEVENT
BEGIN:VEVENT
DTSTART;TZID=America/Chicago:20250903T170000
DTEND;TZID=America/Chicago:20250903T210000
DTSTAMP:20260420T092439
CREATED:20250326T192303Z
LAST-MODIFIED:20250923T190415Z
UID:10001863-1756918800-1756933200@lulusfunfoodmusic.com
SUMMARY:Charlie Rees-Gulf Shores
DESCRIPTION:Charlie Rees is a professional entertainer. He sings\, and plays guitar\, piano\, and fiddle. He has performed all over the USA\, and has played in Norway\, Denmark\, Sweden\, Scotland\, Finland\, Greece\, Germany\, Portugal\, Turkey\, Morocco\, and the former Czechoslovakia. Charlie’s music ranges from Rock n’ Roll to Country\, Cajun to Easy Listening. He has a winning manner with his audiences. Come ready to sing along!
URL:https://lulusfunfoodmusic.com/event/charlie-rees-gulf-shores/2025-09-03/
LOCATION:Gulf Shores\, AL
ATTACH;FMTTYPE=image/png:https://lulusfunfoodmusic.com/wp-content/uploads/2024/07/Generic-Music-Photo.png
END:VEVENT
BEGIN:VEVENT
DTSTART;TZID=America/Chicago:20250903T170000
DTEND;TZID=America/Chicago:20250903T210000
DTSTAMP:20260420T092439
CREATED:20250722T142112Z
LAST-MODIFIED:20251020T155254Z
UID:10001892-1756918800-1756933200@lulusfunfoodmusic.com
SUMMARY:Jake Caldwell-Destin
DESCRIPTION:
URL:https://lulusfunfoodmusic.com/event/jake-caldwell-destin/2025-09-03/
LOCATION:Destin\, 4607 Legendary Marina Dr\, Florida\, 32541
ATTACH;FMTTYPE=image/png:https://lulusfunfoodmusic.com/wp-content/uploads/2024/07/Generic-Music-Photo.png
END:VEVENT
END:VCALENDAR