BEGIN:VCALENDAR
VERSION:2.0
PRODID:-//LuLu&#039;s - ECPv6.15.12.2//NONSGML v1.0//EN
CALSCALE:GREGORIAN
METHOD:PUBLISH
X-ORIGINAL-URL:https://lulusfunfoodmusic.com
X-WR-CALDESC:Events for LuLu&#039;s
REFRESH-INTERVAL;VALUE=DURATION:PT1H
X-Robots-Tag:noindex
X-PUBLISHED-TTL:PT1H
BEGIN:VTIMEZONE
TZID:America/Chicago
BEGIN:DAYLIGHT
TZOFFSETFROM:-0600
TZOFFSETTO:-0500
TZNAME:CDT
DTSTART:20240310T080000
END:DAYLIGHT
BEGIN:STANDARD
TZOFFSETFROM:-0500
TZOFFSETTO:-0600
TZNAME:CST
DTSTART:20241103T070000
END:STANDARD
BEGIN:DAYLIGHT
TZOFFSETFROM:-0600
TZOFFSETTO:-0500
TZNAME:CDT
DTSTART:20250309T080000
END:DAYLIGHT
BEGIN:STANDARD
TZOFFSETFROM:-0500
TZOFFSETTO:-0600
TZNAME:CST
DTSTART:20251102T070000
END:STANDARD
BEGIN:DAYLIGHT
TZOFFSETFROM:-0600
TZOFFSETTO:-0500
TZNAME:CDT
DTSTART:20260308T080000
END:DAYLIGHT
BEGIN:STANDARD
TZOFFSETFROM:-0500
TZOFFSETTO:-0600
TZNAME:CST
DTSTART:20261101T070000
END:STANDARD
END:VTIMEZONE
BEGIN:VEVENT
DTSTART;TZID=America/Chicago:20250906T170000
DTEND;TZID=America/Chicago:20250906T210000
DTSTAMP:20260422T050847
CREATED:20240721T134205Z
LAST-MODIFIED:20251209T205452Z
UID:10001866-1757178000-1757192400@lulusfunfoodmusic.com
SUMMARY:Rebecca Barry Duo - Gulf Shores
DESCRIPTION:REBECCA BARRY DUO — GULF SHORES \nThe Rebecca Barry Duo brings a smooth blend of soulful vocals\, acoustic warmth\, and coastal charm to every show. Known along the Gulf Coast for their easy-listening style and feel-good energy\, Rebecca’s rich voice paired with dynamic guitar work creates the perfect soundtrack for a relaxed evening by the water. \nTheir setlist ranges from modern hits to timeless classics\, all delivered with a laid-back\, beach-inspired vibe that keeps guests singing along. Whether they’re covering fan favorites or putting a fresh spin on well-loved songs\, the Rebecca Barry Duo brings a polished\, heartfelt performance every time. \nPerfect for a chill night at LuLu’s Gulf Shores—great music\, great atmosphere\, and great company.
URL:https://lulusfunfoodmusic.com/event/rebecca-barry-duo-gulf-shores/2025-09-06/
LOCATION:Gulf Shores\, AL
ATTACH;FMTTYPE=image/jpeg:https://lulusfunfoodmusic.com/wp-content/uploads/2024/07/IMG_0961.jpeg
END:VEVENT
BEGIN:VEVENT
DTSTART;TZID=America/Chicago:20250906T170000
DTEND;TZID=America/Chicago:20250906T210000
DTSTAMP:20260422T050847
CREATED:20240905T234047Z
LAST-MODIFIED:20250923T171817Z
UID:10001837-1757178000-1757192400@lulusfunfoodmusic.com
SUMMARY:Coconut Radio - Destin
DESCRIPTION:Award winning violinist and Trop Rock nominee Sue Kittredge and singer/songwriter Steve Reeths of Coconut Radio have been playing dumps and palaces from Chicago and Nashville down to Tampa and Key West since meeting in 1992. Currently living in the panhandle of Florida\, the duo spend their time writing songs\, playing music and living the dream on the Emerald Coast. The music of Coconut Radio is meant to share that feeling\, those emotions one feels sharing a cold one with friends at the tiki bar or watching a beautiful sunset. Susan Kittredge\, violinst extrordinaire\, has been twice nominated for one of five Trop Rock female performers nation wide. Their two self-released CDs are being played nation wide by Trop Rock radio stations from Key West to California.
URL:https://lulusfunfoodmusic.com/event/coconut-radio-destin/2025-09-06/
LOCATION:Destin\, 4607 Legendary Marina Dr\, Florida\, 32541
ATTACH;FMTTYPE=image/jpeg:https://lulusfunfoodmusic.com/wp-content/uploads/2024/09/CoConut-Radio.jpeg
END:VEVENT
BEGIN:VEVENT
DTSTART;TZID=America/Chicago:20250906T180000
DTEND;TZID=America/Chicago:20250906T220000
DTSTAMP:20260422T050847
CREATED:20250713T163158Z
LAST-MODIFIED:20250715T123418Z
UID:10001811-1757181600-1757196000@lulusfunfoodmusic.com
SUMMARY:Patrick!-North Myrtle Beach
DESCRIPTION:PATRICK! is a rising pop artist blending smooth R&B vibes with high-energy hip-hop influences. Hailing from Sylacauga\, Alabama\, he began performing publicly at just 14\, captivating audiences in bars and restaurants across the Southeast. By 16\, he had already made a name for himself by winning the prestigious Kowaliga Idol competition\, outshining over 150 contestants statewide. \nIn 2021\, PATRICK! released his breakout single Shine Through\, which caught the attention of the nonprofit Domestic Shelters. Their collaboration led to a powerful music video campaign raising awareness for domestic violence survivors and caregivers. \nHis momentum continued in 2022 when he was selected to perform at the World Games in Birmingham\, showcasing his talent on an international stage. Despite his growing music career\, PATRICK! remains grounded—he earned his nursing degree in 2024 and now works night shifts as a nurse\, living by the mantra: “Music is medicine.” \nWhether he’s delivering heartfelt ballads or electrifying crowds with up-tempo tracks\, PATRICK! is a voice for his generation—authentic\, passionate\, and unstoppable.
URL:https://lulusfunfoodmusic.com/event/patrick-north-myrtle-beach/2025-09-06/
LOCATION:North Myrtle Beach\, 4954 Hwy 17 S\, North Myrtle Beach\, SC\, 29582\, United States
ATTACH;FMTTYPE=image/jpeg:https://lulusfunfoodmusic.com/wp-content/uploads/2025/05/Patrick-scaled.jpeg
END:VEVENT
END:VCALENDAR