BEGIN:VCALENDAR
VERSION:2.0
PRODID:-//LuLu&#039;s - ECPv6.15.12.2//NONSGML v1.0//EN
CALSCALE:GREGORIAN
METHOD:PUBLISH
X-WR-CALNAME:LuLu&#039;s
X-ORIGINAL-URL:https://lulusfunfoodmusic.com
X-WR-CALDESC:Events for LuLu&#039;s
REFRESH-INTERVAL;VALUE=DURATION:PT1H
X-Robots-Tag:noindex
X-PUBLISHED-TTL:PT1H
BEGIN:VTIMEZONE
TZID:America/Chicago
BEGIN:DAYLIGHT
TZOFFSETFROM:-0600
TZOFFSETTO:-0500
TZNAME:CDT
DTSTART:20240310T080000
END:DAYLIGHT
BEGIN:STANDARD
TZOFFSETFROM:-0500
TZOFFSETTO:-0600
TZNAME:CST
DTSTART:20241103T070000
END:STANDARD
BEGIN:DAYLIGHT
TZOFFSETFROM:-0600
TZOFFSETTO:-0500
TZNAME:CDT
DTSTART:20250309T080000
END:DAYLIGHT
BEGIN:STANDARD
TZOFFSETFROM:-0500
TZOFFSETTO:-0600
TZNAME:CST
DTSTART:20251102T070000
END:STANDARD
BEGIN:DAYLIGHT
TZOFFSETFROM:-0600
TZOFFSETTO:-0500
TZNAME:CDT
DTSTART:20260308T080000
END:DAYLIGHT
BEGIN:STANDARD
TZOFFSETFROM:-0500
TZOFFSETTO:-0600
TZNAME:CST
DTSTART:20261101T070000
END:STANDARD
END:VTIMEZONE
BEGIN:VEVENT
DTSTART;TZID=America/Chicago:20250920T170000
DTEND;TZID=America/Chicago:20250920T210000
DTSTAMP:20260420T122621
CREATED:20250918T185845Z
LAST-MODIFIED:20250919T214517Z
UID:10002359-1758387600-1758402000@lulusfunfoodmusic.com
SUMMARY:JB Dyess-Destin
DESCRIPTION:JB Dyess has been performing as a solo musician for over 15 years\, bringing his soulful vocals and guitar playing to the Destin area’s live music scene. His shows blend soft rock\, beach tunes\, outlaw and classic country\, along with a touch of original music\, creating a laid-back yet dynamic sound perfect for any crowd.
URL:https://lulusfunfoodmusic.com/event/jb-dyess-destin/
LOCATION:Destin\, 4607 Legendary Marina Dr\, Florida\, 32541
ATTACH;FMTTYPE=image/jpeg:https://lulusfunfoodmusic.com/wp-content/uploads/2025/09/JB-Dyess-BW-photo.jpg
END:VEVENT
BEGIN:VEVENT
DTSTART;TZID=America/Chicago:20250920T180000
DTEND;TZID=America/Chicago:20250920T220000
DTSTAMP:20260420T122621
CREATED:20240713T131753Z
LAST-MODIFIED:20250917T143421Z
UID:10002342-1758391200-1758405600@lulusfunfoodmusic.com
SUMMARY:Ronnie Presley - Gulf Shores
DESCRIPTION:With over 50 years of being a front man\, singer and solo musician Ronnie Presley is still cranking out his brand of music to music lovers everywhere. His musical and vocal influences range from John Fogerty\, Paul Rodgers\, Vince Gill\, Randy Owen\, Ry Cooder\, Keith Urban\, Paul Carrick any many more. Ronnie Presley is a very distant relative to the King of Rock & Roll\, Elvis Presley. Whether it is the blues\, country\, classic rock or reggae that you love to listen to then you should plan on seeing one of his shows soon.
URL:https://lulusfunfoodmusic.com/event/ronnie-presley-gulf-shores/2025-09-20/
LOCATION:Gulf Shores\, AL
ATTACH;FMTTYPE=image/jpeg:https://lulusfunfoodmusic.com/wp-content/uploads/2024/07/Ronnie-Presley.jpg
END:VEVENT
END:VCALENDAR