BEGIN:VCALENDAR
VERSION:2.0
PRODID:-//LuLu&#039;s - ECPv6.15.12.2//NONSGML v1.0//EN
CALSCALE:GREGORIAN
METHOD:PUBLISH
X-WR-CALNAME:LuLu&#039;s
X-ORIGINAL-URL:https://lulusfunfoodmusic.com
X-WR-CALDESC:Events for LuLu&#039;s
REFRESH-INTERVAL;VALUE=DURATION:PT1H
X-Robots-Tag:noindex
X-PUBLISHED-TTL:PT1H
BEGIN:VTIMEZONE
TZID:America/Chicago
BEGIN:DAYLIGHT
TZOFFSETFROM:-0600
TZOFFSETTO:-0500
TZNAME:CDT
DTSTART:20240310T080000
END:DAYLIGHT
BEGIN:STANDARD
TZOFFSETFROM:-0500
TZOFFSETTO:-0600
TZNAME:CST
DTSTART:20241103T070000
END:STANDARD
BEGIN:DAYLIGHT
TZOFFSETFROM:-0600
TZOFFSETTO:-0500
TZNAME:CDT
DTSTART:20250309T080000
END:DAYLIGHT
BEGIN:STANDARD
TZOFFSETFROM:-0500
TZOFFSETTO:-0600
TZNAME:CST
DTSTART:20251102T070000
END:STANDARD
BEGIN:DAYLIGHT
TZOFFSETFROM:-0600
TZOFFSETTO:-0500
TZNAME:CDT
DTSTART:20260308T080000
END:DAYLIGHT
BEGIN:STANDARD
TZOFFSETFROM:-0500
TZOFFSETTO:-0600
TZNAME:CST
DTSTART:20261101T070000
END:STANDARD
END:VTIMEZONE
BEGIN:VEVENT
DTSTART;TZID=America/Chicago:20250924T170000
DTEND;TZID=America/Chicago:20250924T210000
DTSTAMP:20260420T134749
CREATED:20240712T201552Z
LAST-MODIFIED:20251209T215146Z
UID:10001852-1758733200-1758747600@lulusfunfoodmusic.com
SUMMARY:Gypsy Pearl - Destin
DESCRIPTION:GYPSYPEARL DUO — DESTIN \nThe GypsyPearl Duo brings their signature blend of soulful vocals\, tight harmonies\, and acoustic charm to the Emerald Coast. Known for creating an easy\, feel-good atmosphere\, they mix modern country\, classic rock\, and crowd-favorite hits into a smooth\, high-energy set that fits perfectly with LuLu’s laid-back Destin vibe. \nWith influences ranging from Fleetwood Mac and Miranda Lambert to Chris Stapleton\, The Eagles\, and today’s top artists\, GypsyPearl Duo delivers familiar songs with a refreshing coastal twist. Whether they’re setting the tone for a sunny afternoon or winding down a relaxing evening\, they bring polished musicianship and warm personality to every performance. \nA Destin favorite—easy to listen to\, impossible not to enjoy.
URL:https://lulusfunfoodmusic.com/event/gypsy-pearl-destin/2025-09-24/
LOCATION:Destin\, 4607 Legendary Marina Dr\, Florida\, 32541
ATTACH;FMTTYPE=image/jpeg:https://lulusfunfoodmusic.com/wp-content/uploads/2024/07/GypsyPearl.jpg
END:VEVENT
BEGIN:VEVENT
DTSTART;TZID=America/Chicago:20250924T170000
DTEND;TZID=America/Chicago:20250924T210000
DTSTAMP:20260420T134749
CREATED:20250429T194248Z
LAST-MODIFIED:20250917T143310Z
UID:10001891-1758733200-1758747600@lulusfunfoodmusic.com
SUMMARY:Kyle Brady- Gulf Shores
DESCRIPTION:Kyle Brady is an Alabama native with a long history of sharing his soulful\, roots-rock sound across the country. When Kyle’s not traveling across the US or renovating a vintage Airstream\, you can find him playing coastal folk tunes along the Gulf of Mexico. His Americana & Folk influences\, paired with laid back beach vibes\, create a perfect music combo – best enjoyed with fried shrimp & a cold beer. The sounds of John Hiatt\, Tom Petty\, and Bonnie Raitt can be heard in his stylings and setlist. Kyle is also one-half of Drivin’ & Vibin’ – the hubsand/wife duo that recently released their debut album “Among the Giants.” Along with their music\, they also create weekly video content on YouTube & Facebook!
URL:https://lulusfunfoodmusic.com/event/kyle-brady-gulf-shores-2/2025-09-24/
LOCATION:Gulf Shores\, AL
ATTACH;FMTTYPE=image/jpeg:https://lulusfunfoodmusic.com/wp-content/uploads/2024/07/Kyle-Brady.jpg
END:VEVENT
BEGIN:VEVENT
DTSTART;TZID=America/Chicago:20250924T170000
DTEND;TZID=America/Chicago:20250924T210000
DTSTAMP:20260420T134749
CREATED:20250628T175242Z
LAST-MODIFIED:20260304T170810Z
UID:10001808-1758733200-1758747600@lulusfunfoodmusic.com
SUMMARY:Austin Perry-North Myrtle Beach
DESCRIPTION:Austin Perry-is a musician based in Myrtle Beach\, South Carolina\, known for his engaging live performances and versatile musical style. Music spans several genres\, with a focus on:\nAlternative Rock\, Indie\, Pop\, Acoustic
URL:https://lulusfunfoodmusic.com/event/austin-perry-north-myrtle-beach/2025-09-24/
LOCATION:North Myrtle Beach\, 4954 Hwy 17 S\, North Myrtle Beach\, SC\, 29582\, United States
ATTACH;FMTTYPE=image/jpeg:https://lulusfunfoodmusic.com/wp-content/uploads/2025/06/austin-perry.jpeg
END:VEVENT
END:VCALENDAR