BEGIN:VCALENDAR
VERSION:2.0
PRODID:-//LuLu&#039;s - ECPv6.15.12.2//NONSGML v1.0//EN
CALSCALE:GREGORIAN
METHOD:PUBLISH
X-WR-CALNAME:LuLu&#039;s
X-ORIGINAL-URL:https://lulusfunfoodmusic.com
X-WR-CALDESC:Events for LuLu&#039;s
REFRESH-INTERVAL;VALUE=DURATION:PT1H
X-Robots-Tag:noindex
X-PUBLISHED-TTL:PT1H
BEGIN:VTIMEZONE
TZID:America/Chicago
BEGIN:DAYLIGHT
TZOFFSETFROM:-0600
TZOFFSETTO:-0500
TZNAME:CDT
DTSTART:20240310T080000
END:DAYLIGHT
BEGIN:STANDARD
TZOFFSETFROM:-0500
TZOFFSETTO:-0600
TZNAME:CST
DTSTART:20241103T070000
END:STANDARD
BEGIN:DAYLIGHT
TZOFFSETFROM:-0600
TZOFFSETTO:-0500
TZNAME:CDT
DTSTART:20250309T080000
END:DAYLIGHT
BEGIN:STANDARD
TZOFFSETFROM:-0500
TZOFFSETTO:-0600
TZNAME:CST
DTSTART:20251102T070000
END:STANDARD
BEGIN:DAYLIGHT
TZOFFSETFROM:-0600
TZOFFSETTO:-0500
TZNAME:CDT
DTSTART:20260308T080000
END:DAYLIGHT
BEGIN:STANDARD
TZOFFSETFROM:-0500
TZOFFSETTO:-0600
TZNAME:CST
DTSTART:20261101T070000
END:STANDARD
END:VTIMEZONE
BEGIN:VEVENT
DTSTART;TZID=America/Chicago:20250926T170000
DTEND;TZID=America/Chicago:20250926T210000
DTSTAMP:20260420T122559
CREATED:20250221T231330Z
LAST-MODIFIED:20250722T135741Z
UID:10001889-1758906000-1758920400@lulusfunfoodmusic.com
SUMMARY:Chase Brown - Gulf Shores
DESCRIPTION:Chase Brown plays great music\, family favorites
URL:https://lulusfunfoodmusic.com/event/chase-brown-gulf-shores-2/2025-09-26/
LOCATION:Gulf Shores\, AL
ATTACH;FMTTYPE=image/jpeg:https://lulusfunfoodmusic.com/wp-content/uploads/2024/07/Chase-Brown.jpg
END:VEVENT
BEGIN:VEVENT
DTSTART;TZID=America/Chicago:20250926T170000
DTEND;TZID=America/Chicago:20250926T210000
DTSTAMP:20260420T122559
CREATED:20250528T213759Z
LAST-MODIFIED:20251214T190801Z
UID:10002380-1758906000-1758920400@lulusfunfoodmusic.com
SUMMARY:Howlin’ Jack- Destin
DESCRIPTION:Howlin’ Jack has been entertaining along the Gulf Coast for over thirty years. He strives to make his shows live\, so no backing tracks\, just guitar and vocal. Americana\, Country\, and 50’s to 70’s music are his go to songs.
URL:https://lulusfunfoodmusic.com/event/howlin-jack/2025-09-26/
LOCATION:Destin\, 4607 Legendary Marina Dr\, Florida\, 32541
ATTACH;FMTTYPE=image/png:https://lulusfunfoodmusic.com/wp-content/uploads/2025/05/Howlin-Jack.png
END:VEVENT
END:VCALENDAR