BEGIN:VCALENDAR
VERSION:2.0
PRODID:-//LuLu&#039;s - ECPv6.15.12.2//NONSGML v1.0//EN
CALSCALE:GREGORIAN
METHOD:PUBLISH
X-ORIGINAL-URL:https://lulusfunfoodmusic.com
X-WR-CALDESC:Events for LuLu&#039;s
REFRESH-INTERVAL;VALUE=DURATION:PT1H
X-Robots-Tag:noindex
X-PUBLISHED-TTL:PT1H
BEGIN:VTIMEZONE
TZID:America/Chicago
BEGIN:DAYLIGHT
TZOFFSETFROM:-0600
TZOFFSETTO:-0500
TZNAME:CDT
DTSTART:20240310T080000
END:DAYLIGHT
BEGIN:STANDARD
TZOFFSETFROM:-0500
TZOFFSETTO:-0600
TZNAME:CST
DTSTART:20241103T070000
END:STANDARD
BEGIN:DAYLIGHT
TZOFFSETFROM:-0600
TZOFFSETTO:-0500
TZNAME:CDT
DTSTART:20250309T080000
END:DAYLIGHT
BEGIN:STANDARD
TZOFFSETFROM:-0500
TZOFFSETTO:-0600
TZNAME:CST
DTSTART:20251102T070000
END:STANDARD
BEGIN:DAYLIGHT
TZOFFSETFROM:-0600
TZOFFSETTO:-0500
TZNAME:CDT
DTSTART:20260308T080000
END:DAYLIGHT
BEGIN:STANDARD
TZOFFSETFROM:-0500
TZOFFSETTO:-0600
TZNAME:CST
DTSTART:20261101T070000
END:STANDARD
END:VTIMEZONE
BEGIN:VEVENT
DTSTART;TZID=America/Chicago:20251012T130000
DTEND;TZID=America/Chicago:20251012T170000
DTSTAMP:20260424T225028
CREATED:20240718T125349Z
LAST-MODIFIED:20251008T004207Z
UID:10002492-1760274000-1760288400@lulusfunfoodmusic.com
SUMMARY:The Yale Brothers - North Myrtle Beach
DESCRIPTION:Identical twins Chris and Roger Yale cut their teeth on rock ‘n’ roll while growing up in Hollywood and regularly played the Sunset Strip with their band\, Rogue Alley. Now longtime Myrtle Beach residents\, Roger is a journalist and was a founding member of the classic rock cover band\, Sick Stooges – and Chris enjoyed a long stint with his band\, Medicine Hat – dating back into the 1990s on the Grand Strand. His CD\, “Well Enough Alone\,” has been described as “a rock car with country tires barreling down the blacktop of the American night.” The twins have been working on original music and digging into their collective psyches to reconnect with that spark they maintained for many years as The Yale Brothers – bringing with them a mindfully chosen collection of cover tunes as well. \nYou are not seeing double…
URL:https://lulusfunfoodmusic.com/event/the-yale-brothers-north-myrtle-beach/2025-10-12/
LOCATION:North Myrtle Beach\, 4954 Hwy 17 S\, North Myrtle Beach\, SC\, 29582\, United States
ATTACH;FMTTYPE=image/jpeg:https://lulusfunfoodmusic.com/wp-content/uploads/2024/07/Yale-Brothers.jpg
END:VEVENT
BEGIN:VEVENT
DTSTART;TZID=America/Chicago:20251012T130000
DTEND;TZID=America/Chicago:20251012T170000
DTSTAMP:20260424T225028
CREATED:20250708T231329Z
LAST-MODIFIED:20250923T180636Z
UID:10001910-1760274000-1760288400@lulusfunfoodmusic.com
SUMMARY:Riley Lynn- Gulf Shores
DESCRIPTION:Based in both Gulf Shores\, AL\, and Nashville\, TN\, Riley Lynn is a country singer-songwriter focusing on story-telling in her music. She writes and performs her own original songs and also captivates audiences with her performances of well-known tracks from country\, rock\, and pop genres. With over six years of live performance experience\, Riley Lynn’s performances are characterized by her authentic country sound and strong vocals.
URL:https://lulusfunfoodmusic.com/event/riley-lynn-gulf-shores/2025-10-12/
LOCATION:Gulf Shores\, AL
ATTACH;FMTTYPE=image/png:https://lulusfunfoodmusic.com/wp-content/uploads/2025/07/Screenshot-2025-07-08-at-7.20.10 PM.png
END:VEVENT
BEGIN:VEVENT
DTSTART;TZID=America/Chicago:20251012T130000
DTEND;TZID=America/Chicago:20251012T170000
DTSTAMP:20260424T225028
CREATED:20250722T142112Z
LAST-MODIFIED:20251020T155254Z
UID:10002332-1760274000-1760288400@lulusfunfoodmusic.com
SUMMARY:Jake Caldwell-Destin
DESCRIPTION:
URL:https://lulusfunfoodmusic.com/event/jake-caldwell-destin/2025-10-12/
LOCATION:Destin\, 4607 Legendary Marina Dr\, Florida\, 32541
ATTACH;FMTTYPE=image/png:https://lulusfunfoodmusic.com/wp-content/uploads/2024/07/Generic-Music-Photo.png
END:VEVENT
END:VCALENDAR