BEGIN:VCALENDAR
VERSION:2.0
PRODID:-//LuLu&#039;s - ECPv6.15.12.2//NONSGML v1.0//EN
CALSCALE:GREGORIAN
METHOD:PUBLISH
X-ORIGINAL-URL:https://lulusfunfoodmusic.com
X-WR-CALDESC:Events for LuLu&#039;s
REFRESH-INTERVAL;VALUE=DURATION:PT1H
X-Robots-Tag:noindex
X-PUBLISHED-TTL:PT1H
BEGIN:VTIMEZONE
TZID:America/Chicago
BEGIN:DAYLIGHT
TZOFFSETFROM:-0600
TZOFFSETTO:-0500
TZNAME:CDT
DTSTART:20250309T080000
END:DAYLIGHT
BEGIN:STANDARD
TZOFFSETFROM:-0500
TZOFFSETTO:-0600
TZNAME:CST
DTSTART:20251102T070000
END:STANDARD
BEGIN:DAYLIGHT
TZOFFSETFROM:-0600
TZOFFSETTO:-0500
TZNAME:CDT
DTSTART:20260308T080000
END:DAYLIGHT
BEGIN:STANDARD
TZOFFSETFROM:-0500
TZOFFSETTO:-0600
TZNAME:CST
DTSTART:20261101T070000
END:STANDARD
BEGIN:DAYLIGHT
TZOFFSETFROM:-0600
TZOFFSETTO:-0500
TZNAME:CDT
DTSTART:20270314T080000
END:DAYLIGHT
BEGIN:STANDARD
TZOFFSETFROM:-0500
TZOFFSETTO:-0600
TZNAME:CST
DTSTART:20271107T070000
END:STANDARD
END:VTIMEZONE
BEGIN:VEVENT
DTSTART;TZID=America/Chicago:20260219T160000
DTEND;TZID=America/Chicago:20260219T200000
DTSTAMP:20260421T033257
CREATED:20250311T210317Z
LAST-MODIFIED:20260311T165748Z
UID:10002733-1771516800-1771531200@lulusfunfoodmusic.com
SUMMARY:Kennady Murlin- North Myrtle Beach
DESCRIPTION:Kennady Murlin- Singer and musician based in Myrtle Beach\, South Carolina. She is known for her engaging live performances and versatile musical style. Her music spans several genres\, including pop\, rock\, and country. She often covers popular songs and adds her personal touch to them\, captivating audiences with her strong vocals and energetic performances. Kennady frequently performs at local venues\, including restaurants and bars in the Myrtle Beach area.
URL:https://lulusfunfoodmusic.com/event/kennady-murlin-north-myrtle-beach/2026-02-19/
LOCATION:North Myrtle Beach\, 4954 Hwy 17 S\, North Myrtle Beach\, SC\, 29582\, United States
ATTACH;FMTTYPE=image/jpeg:https://lulusfunfoodmusic.com/wp-content/uploads/2025/03/band-kennady.jpeg
END:VEVENT
BEGIN:VEVENT
DTSTART;TZID=America/Chicago:20260219T160000
DTEND;TZID=America/Chicago:20260219T200000
DTSTAMP:20260421T033257
CREATED:20260123T173847Z
LAST-MODIFIED:20260123T173847Z
UID:10002681-1771516800-1771531200@lulusfunfoodmusic.com
SUMMARY:Mike Estep and John Keuler - Gulf Shores
DESCRIPTION:John Keuler is a seasoned musician and songwriter from the Mobile\, Alabama area who now performs throughout Baldwin County and the Gulf Coast. A veteran of the local music scene\, he sharpened his craft on stages from Tuscaloosa to his home region and plays guitar and bass in a variety of settings. Keuler is one-half of the musical duo Light Travelers\, a versatile act he formed in 2015 with Karl Langley that performs across the Southeast\, blending diverse influences into engaging live shows.  \nMike Estep is a Gulf Coast singer\, guitarist\, and live performer known for his frequent shows in and around Baldwin County\, Alabama. As frontman of the Mike Estep Band and player in The Selma Boys\, Estep delivers crowd-pleasing sets that span classic rock\, country\, and roots styles. He regularly appears at local venues and events—bringing lively acoustic and full-band performances to audiences from Orange Beach to Fairhope.
URL:https://lulusfunfoodmusic.com/event/mike-estep-and-john-keuler-gulf-shores/
LOCATION:Gulf Shores\, AL
ATTACH;FMTTYPE=image/jpeg:https://lulusfunfoodmusic.com/wp-content/uploads/2026/01/Mike-Estep-and-John-Keuler.jpg
END:VEVENT
BEGIN:VEVENT
DTSTART;TZID=America/Chicago:20260219T160000
DTEND;TZID=America/Chicago:20260219T200000
DTSTAMP:20260421T033257
CREATED:20260217T133224Z
LAST-MODIFIED:20260326T173202Z
UID:10002840-1771516800-1771531200@lulusfunfoodmusic.com
SUMMARY:Logan Lassiter - Destin
DESCRIPTION:Logan Lassiter is a singer-songwriter and guitarist active on the Gulf Coast music scene\, regularly performing at beach-side venues and restaurants including LuLu’s and other popular spots around Destin\, Gulf Shores\, and Orange Beach. His music blends laid-back coastal vibes with both original songs and crowd-favorite covers\, making him a familiar live act for locals and visitors alike. He plays solo sets and duo performances\, bringing engaging\, relaxed acoustic sound to his shows and frequently booking gigs throughout the Gulf Coast region.
URL:https://lulusfunfoodmusic.com/event/logan-lassiter-destin/2026-02-19/
LOCATION:Destin\, 4607 Legendary Marina Dr\, Florida\, 32541
ATTACH;FMTTYPE=image/jpeg:https://lulusfunfoodmusic.com/wp-content/uploads/2026/01/Logan-Lassiter.jpeg
END:VEVENT
END:VCALENDAR