BEGIN:VCALENDAR
VERSION:2.0
PRODID:-//LuLu&#039;s - ECPv6.15.12.2//NONSGML v1.0//EN
CALSCALE:GREGORIAN
METHOD:PUBLISH
X-ORIGINAL-URL:https://lulusfunfoodmusic.com
X-WR-CALDESC:Events for LuLu&#039;s
REFRESH-INTERVAL;VALUE=DURATION:PT1H
X-Robots-Tag:noindex
X-PUBLISHED-TTL:PT1H
BEGIN:VTIMEZONE
TZID:America/Chicago
BEGIN:DAYLIGHT
TZOFFSETFROM:-0600
TZOFFSETTO:-0500
TZNAME:CDT
DTSTART:20250309T080000
END:DAYLIGHT
BEGIN:STANDARD
TZOFFSETFROM:-0500
TZOFFSETTO:-0600
TZNAME:CST
DTSTART:20251102T070000
END:STANDARD
BEGIN:DAYLIGHT
TZOFFSETFROM:-0600
TZOFFSETTO:-0500
TZNAME:CDT
DTSTART:20260308T080000
END:DAYLIGHT
BEGIN:STANDARD
TZOFFSETFROM:-0500
TZOFFSETTO:-0600
TZNAME:CST
DTSTART:20261101T070000
END:STANDARD
BEGIN:DAYLIGHT
TZOFFSETFROM:-0600
TZOFFSETTO:-0500
TZNAME:CDT
DTSTART:20270314T080000
END:DAYLIGHT
BEGIN:STANDARD
TZOFFSETFROM:-0500
TZOFFSETTO:-0600
TZNAME:CST
DTSTART:20271107T070000
END:STANDARD
END:VTIMEZONE
BEGIN:VEVENT
DTSTART;TZID=America/Chicago:20260310T170000
DTEND;TZID=America/Chicago:20260310T210000
DTSTAMP:20260422T171354
CREATED:20240905T230644Z
LAST-MODIFIED:20260225T005214Z
UID:10002862-1773162000-1773176400@lulusfunfoodmusic.com
SUMMARY:Brendan Kirby - North Myrtle Beach
DESCRIPTION:Brendan Kirby-South Carolina native and accomplished musician known for his dynamic performances across the Myrtle Beach area. Born and raised in rural South Carolina\, Brendan began playing guitar at the age of 14\, quickly developing a deep passion for music.At 15\, Brendan moved to Nashville\, Tennessee\, where he had the opportunity to perform at renowned venues such as Tootsies\, Honky Tonk Central\, and Layla’s. He also appeared on “Nashville Spotlight\,” a television show featuring up-and-coming singers.After returning to South Carolina\, Brendan continued to build his reputation as a versatile musician\, performing a wide variety of music from classics to newer hits. His set lists include genres like country\, pop\, and rock\, featuring artists such as Ed Sheeran\, John Mayer\, and Chris Stapleton.
URL:https://lulusfunfoodmusic.com/event/brendan-kirby-north-myrtle-beach/2026-03-10/
LOCATION:North Myrtle Beach\, 4954 Hwy 17 S\, North Myrtle Beach\, SC\, 29582\, United States
ATTACH;FMTTYPE=image/jpeg:https://lulusfunfoodmusic.com/wp-content/uploads/2024/09/Brendan-Kirby.jpg
END:VEVENT
BEGIN:VEVENT
DTSTART;TZID=America/Chicago:20260310T170000
DTEND;TZID=America/Chicago:20260310T210000
DTSTAMP:20260422T171354
CREATED:20260211T014853Z
LAST-MODIFIED:20260211T014853Z
UID:10002805-1773162000-1773176400@lulusfunfoodmusic.com
SUMMARY:Tennessee Tim and Doug Drake - Gulf Shores
DESCRIPTION:Doug Drake & Tennessee Tim Harvill\nDoug Drake is a seasoned singer-songwriter and Gulf Coast favorite originally from the Louisiana Bayou and raised in East Texas. He grew up immersed in music\, writing songs from a young age and honing his craft in Dallas blues clubs before moving to Nashville to pursue songwriting. Along the way he has written with acclaimed writers and even had a song featured in the film In the Electric Mist starring Tommy Lee Jones. Now based in Gulf Shores\, Doug continues to perform regularly along the Gulf Coast\, sharing his soulful originals and engaging covers with enthusiastic audiences.  \nTennessee Tim Harvill (also known as Tennessee Tim or TN Tim) hails from Pickwick\, Tennessee and brings his own roots-driven musical style to the Gulf Shores live scene. Now living in the Gulf Shores area\, he teams up with Doug to create a warm\, crowd-friendly musical experience that blends elements of Americana\, country\, blues\, and classic favorites. Together they play at spots like Lulu’s and other local venues\, delighting visitors and locals alike with their dynamic performances and camaraderie on stage.
URL:https://lulusfunfoodmusic.com/event/tennessee-tim-and-doug-drake-gulf-shores/2026-03-10/
LOCATION:Gulf Shores\, AL
ATTACH;FMTTYPE=image/jpeg:https://lulusfunfoodmusic.com/wp-content/uploads/2026/02/Tennessee-Tim-and-Doug-Drake.jpg
END:VEVENT
BEGIN:VEVENT
DTSTART;TZID=America/Chicago:20260310T170000
DTEND;TZID=America/Chicago:20260310T210000
DTSTAMP:20260422T171354
CREATED:20260219T013534Z
LAST-MODIFIED:20260413T105556Z
UID:10002855-1773162000-1773176400@lulusfunfoodmusic.com
SUMMARY:The 78's - Destin
DESCRIPTION:The 78s  \nJake Caldwell and Marc Harris are The 78s—a powerhouse duo blending seasoned musicianship with raw\, road-worn soul. The two first crossed paths while touring with country great Lee Roy Parnell\, bonding over backstage stories and a shared Florida zip code. What started as friendship quickly turned into musical chemistry—and The 78s were born.   \n  \nWith Caldwell’s soaring vocals\, multi-instrumental firepower\, and high-octane energy\, paired with Harris’s smooth baritone and guitar finesse\, their live shows are nothing short of electric. Whether Jake’s seamlessly layering guitar\, bass\, and drums on stage or Marc’s channeling his Rockabilly roots\, The 78s deliver a sound that’s tight\, timeless\, and deeply authentic.   \n  \nBetween them\, they’ve toured with hitmakers like Phil Vassar\, John Berry\, Lee Roy Parnel and other country legends\, playing iconic stages from The Grand Ole Opry to The Fillmore West. Catch them live—and see why The 78s are quickly becoming one of Florida’s most exciting rising duos.
URL:https://lulusfunfoodmusic.com/event/the-78s-destin-2/2026-03-10/
LOCATION:Destin\, 4607 Legendary Marina Dr\, Florida\, 32541
ATTACH;FMTTYPE=image/jpeg:https://lulusfunfoodmusic.com/wp-content/uploads/2026/02/78s-banner-1920.jpg
END:VEVENT
END:VCALENDAR