BEGIN:VCALENDAR
VERSION:2.0
PRODID:-//LuLu&#039;s - ECPv6.15.12.2//NONSGML v1.0//EN
CALSCALE:GREGORIAN
METHOD:PUBLISH
X-ORIGINAL-URL:https://lulusfunfoodmusic.com
X-WR-CALDESC:Events for LuLu&#039;s
REFRESH-INTERVAL;VALUE=DURATION:PT1H
X-Robots-Tag:noindex
X-PUBLISHED-TTL:PT1H
BEGIN:VTIMEZONE
TZID:America/Chicago
BEGIN:DAYLIGHT
TZOFFSETFROM:-0600
TZOFFSETTO:-0500
TZNAME:CDT
DTSTART:20250309T080000
END:DAYLIGHT
BEGIN:STANDARD
TZOFFSETFROM:-0500
TZOFFSETTO:-0600
TZNAME:CST
DTSTART:20251102T070000
END:STANDARD
BEGIN:DAYLIGHT
TZOFFSETFROM:-0600
TZOFFSETTO:-0500
TZNAME:CDT
DTSTART:20260308T080000
END:DAYLIGHT
BEGIN:STANDARD
TZOFFSETFROM:-0500
TZOFFSETTO:-0600
TZNAME:CST
DTSTART:20261101T070000
END:STANDARD
BEGIN:DAYLIGHT
TZOFFSETFROM:-0600
TZOFFSETTO:-0500
TZNAME:CDT
DTSTART:20270314T080000
END:DAYLIGHT
BEGIN:STANDARD
TZOFFSETFROM:-0500
TZOFFSETTO:-0600
TZNAME:CST
DTSTART:20271107T070000
END:STANDARD
END:VTIMEZONE
BEGIN:VEVENT
DTSTART;TZID=America/Chicago:20260318T170000
DTEND;TZID=America/Chicago:20260318T210000
DTSTAMP:20260422T170406
CREATED:20240913T093648Z
LAST-MODIFIED:20260304T220041Z
UID:10002756-1773853200-1773867600@lulusfunfoodmusic.com
SUMMARY:Matt Doda - North Myrtle Beach
DESCRIPTION:Matt Doda – is a talented and versatile musician\, singer\, and songwriter based in Myrtle Beach\, South Carolina. Originally from central New Jersey\, Matt relocated to the Grand Strand in 2008\, where he quickly made a name for himself in the local music scene. His strong musical background and versatile skills allow him to perform across multiple genres and styles. Matt covers a variety of genres\, including rock\, pop\, folk\, blues\, country\, and classic hits\, appealing to a broad audience. His ability to take song requests and adapt his performances to suit the vibe of each event has made him a favorite at venues in Myrtle Beach and beyond. Whether he’s playing well-known classics or contemporary tunes\, Matt’s shows are filled with energy\, audience interaction\, and musical excellence
URL:https://lulusfunfoodmusic.com/event/matt-doda-north-myrtle-beach/2026-03-18/
LOCATION:North Myrtle Beach\, 4954 Hwy 17 S\, North Myrtle Beach\, SC\, 29582\, United States
ATTACH;FMTTYPE=image/jpeg:https://lulusfunfoodmusic.com/wp-content/uploads/2024/09/bands.jpg
END:VEVENT
BEGIN:VEVENT
DTSTART;TZID=America/Chicago:20260318T170000
DTEND;TZID=America/Chicago:20260318T210000
DTSTAMP:20260422T170406
CREATED:20260211T024624Z
LAST-MODIFIED:20260211T024758Z
UID:10002815-1773853200-1773867600@lulusfunfoodmusic.com
SUMMARY:Hannah Ray - Gulf Shores
DESCRIPTION:Hannah Ray is a Florida-born singer-songwriter and live performer whose soulful voice and dynamic stage presence have made her a popular act at Gulf Coast venues like Lulu’s in Gulf Shores\, AL. Originally from North West Florida\, she now performs across the East Coast and beyond\, blending elements of pop\, rock\, soul\, and blues in both original songs and creative covers of well-known hits. \nHannah grew up immersed in music and the performing arts\, gaining early experience singing\, dancing\, and acting before launching her music career. She’s known for high-energy live sets that work equally well as acoustic solo performances or with a full band\, bringing authenticity and heart to every show. \nHer growing reputation as a versatile and engaging musician has helped her build a dedicated following and secure bookings at notable venues along the Gulf Coast and in cities like New York\, making her a standout artist in both local and touring circuits
URL:https://lulusfunfoodmusic.com/event/hannah-ray-gulf-shores/
LOCATION:Gulf Shores\, AL
ATTACH;FMTTYPE=image/jpeg:https://lulusfunfoodmusic.com/wp-content/uploads/2025/08/Hannah-Ray-BAnd-DN-scaled.jpg
END:VEVENT
BEGIN:VEVENT
DTSTART;TZID=America/Chicago:20260318T170000
DTEND;TZID=America/Chicago:20260318T210000
DTSTAMP:20260422T170406
CREATED:20260217T133224Z
LAST-MODIFIED:20260326T173202Z
UID:10002884-1773853200-1773867600@lulusfunfoodmusic.com
SUMMARY:Logan Lassiter - Destin
DESCRIPTION:Logan Lassiter is a singer-songwriter and guitarist active on the Gulf Coast music scene\, regularly performing at beach-side venues and restaurants including LuLu’s and other popular spots around Destin\, Gulf Shores\, and Orange Beach. His music blends laid-back coastal vibes with both original songs and crowd-favorite covers\, making him a familiar live act for locals and visitors alike. He plays solo sets and duo performances\, bringing engaging\, relaxed acoustic sound to his shows and frequently booking gigs throughout the Gulf Coast region.
URL:https://lulusfunfoodmusic.com/event/logan-lassiter-destin/2026-03-18/
LOCATION:Destin\, 4607 Legendary Marina Dr\, Florida\, 32541
ATTACH;FMTTYPE=image/jpeg:https://lulusfunfoodmusic.com/wp-content/uploads/2026/01/Logan-Lassiter.jpeg
END:VEVENT
BEGIN:VEVENT
DTSTART;TZID=America/Chicago:20260318T170000
DTEND;TZID=America/Chicago:20260318T210000
DTSTAMP:20260422T170406
CREATED:20260311T033433Z
LAST-MODIFIED:20260311T033433Z
UID:10003005-1773853200-1773867600@lulusfunfoodmusic.com
SUMMARY:Hannah Ray - Gulf Shores
DESCRIPTION:Hannah Ray is a New York based Pop/Rock Artist. She originally comes from a small town in Northwest Florida where she spent her childhood tagging along to her father’s band gigs in small bars and festivals.  Today\, she is following in her father’s footsteps\, playing guitar/piano and singing in her band. Hannah Ray is a high-energy\, versatile live performer and musician with a natural ability to get crowds moving. \nShe has been seen playing all around New York City at Venues such as The Bitter End\, The Red Lion\, Hard Rock\, Chelsea Table and Stage\, Berlin\, Arlenes Grocery\, Groove\, The Cutting Room\, Founder’s Room at the Paramount and so many more! \nAs an active touring artist\, Hannah performs year-round across the East Coast\, appearing at notable music venues such as the Funky Biscuit\, Margaritaville\, Hard Rock\, Tin Roof\, LuLu’s\, as well as private events and festivals. Get ready to sing\, dance and join the fun.
URL:https://lulusfunfoodmusic.com/event/hannah-ray-gulf-shores-2/
LOCATION:Gulf Shores\, AL
ATTACH;FMTTYPE=image/jpeg:https://lulusfunfoodmusic.com/wp-content/uploads/2026/03/Hannah-Ray-Photo.jpeg
END:VEVENT
END:VCALENDAR