BEGIN:VCALENDAR
VERSION:2.0
PRODID:-//LuLu&#039;s - ECPv6.15.12.2//NONSGML v1.0//EN
CALSCALE:GREGORIAN
METHOD:PUBLISH
X-WR-CALNAME:LuLu&#039;s
X-ORIGINAL-URL:https://lulusfunfoodmusic.com
X-WR-CALDESC:Events for LuLu&#039;s
REFRESH-INTERVAL;VALUE=DURATION:PT1H
X-Robots-Tag:noindex
X-PUBLISHED-TTL:PT1H
BEGIN:VTIMEZONE
TZID:America/Chicago
BEGIN:DAYLIGHT
TZOFFSETFROM:-0600
TZOFFSETTO:-0500
TZNAME:CDT
DTSTART:20250309T080000
END:DAYLIGHT
BEGIN:STANDARD
TZOFFSETFROM:-0500
TZOFFSETTO:-0600
TZNAME:CST
DTSTART:20251102T070000
END:STANDARD
BEGIN:DAYLIGHT
TZOFFSETFROM:-0600
TZOFFSETTO:-0500
TZNAME:CDT
DTSTART:20260308T080000
END:DAYLIGHT
BEGIN:STANDARD
TZOFFSETFROM:-0500
TZOFFSETTO:-0600
TZNAME:CST
DTSTART:20261101T070000
END:STANDARD
BEGIN:DAYLIGHT
TZOFFSETFROM:-0600
TZOFFSETTO:-0500
TZNAME:CDT
DTSTART:20270314T080000
END:DAYLIGHT
BEGIN:STANDARD
TZOFFSETFROM:-0500
TZOFFSETTO:-0600
TZNAME:CST
DTSTART:20271107T070000
END:STANDARD
END:VTIMEZONE
BEGIN:VEVENT
DTSTART;TZID=America/Chicago:20260319T170000
DTEND;TZID=America/Chicago:20260319T210000
DTSTAMP:20260422T171014
CREATED:20250311T201024Z
LAST-MODIFIED:20260304T172725Z
UID:10002868-1773939600-1773954000@lulusfunfoodmusic.com
SUMMARY:Jimmy Roca - North Myrtle Beach
DESCRIPTION:Jimmy Roca is a multi instrumentalist who has been playing music for over 25 years. The guitar is what first attracted him to music and has been his focus\, and strength\, since the age of 10.Jimmy Roca plays a wide variety of music genres\, showcasing his versatility as a musician. His style includes elements of: \n\nAcoustic\nAlternative\nPop Punk\nPunk\nFolk\nIndie\nPop\nReggae\nRock\nR&B\nEmo\n\nHe blends these styles into his performances\, often incorporating live instruments and unique arrangements. Whether it’s an upbeat pop tune or a laid-back acoustic vibe\, Jimmy Roca brings his own interpretation to a wide range of music.
URL:https://lulusfunfoodmusic.com/event/jimmy-roca-north-myrtle-beach/2026-03-19/
LOCATION:North Myrtle Beach\, 4954 Hwy 17 S\, North Myrtle Beach\, SC\, 29582\, United States
ATTACH;FMTTYPE=image/jpeg:https://lulusfunfoodmusic.com/wp-content/uploads/2024/07/Jimmy-Roca.jpg
END:VEVENT
BEGIN:VEVENT
DTSTART;TZID=America/Chicago:20260319T170000
DTEND;TZID=America/Chicago:20260319T210000
DTSTAMP:20260422T171014
CREATED:20260209T033945Z
LAST-MODIFIED:20260421T031526Z
UID:10002767-1773939600-1773954000@lulusfunfoodmusic.com
SUMMARY:Lee Yankie - Gulf Shores
DESCRIPTION:Lee YankieLee Yankie is a seasoned South Alabama musician with over two decades of performance experience\, bringing a soulful mix of Southern rock\, blues\, soul\, reggae\, and beach-influenced sounds that reflect the Gulf Coast’s musical spirit. A talented guitarist and vocalist\, he has toured nationally and spent six years as a member of the acclaimed Honey Island Swamp Band\, contributing his guitar and vocals to the band’s roots-rock and swamp-Americana blend. \nIn addition to his work with the Honey Island Swamp Band\, Lee performs regularly in the region both as a solo artist and with his group Secret Stash\, entertaining audiences at venues such as Lulu’s in Gulf Shores with lively\, eclectic sets that span blues\, classic rock\, reggae\, and more.
URL:https://lulusfunfoodmusic.com/event/lee-yankie-gulf-shores-2/2026-03-19/
LOCATION:Gulf Shores\, AL
ATTACH;FMTTYPE=image/jpeg:https://lulusfunfoodmusic.com/wp-content/uploads/2025/04/Lee-Yankies-Secret-Stash.jpeg
END:VEVENT
BEGIN:VEVENT
DTSTART;TZID=America/Chicago:20260319T170000
DTEND;TZID=America/Chicago:20260319T210000
DTSTAMP:20260422T171014
CREATED:20260227T030943Z
LAST-MODIFIED:20260324T031938Z
UID:10002883-1773939600-1773954000@lulusfunfoodmusic.com
SUMMARY:Axl Steele - Destin
DESCRIPTION:Axl Steele is a performer from the Gulf Shores area and is known as the voice of Rockstarfish. Bringing you a raw\, stripped down setting reimagining rock favorites with passion\, soul\, and crowd connection for an entertaining evening fit for every age.
URL:https://lulusfunfoodmusic.com/event/axl-bernardo-destin-2/2026-03-19/
LOCATION:Destin\, 4607 Legendary Marina Dr\, Florida\, 32541
ATTACH;FMTTYPE=image/jpeg:https://lulusfunfoodmusic.com/wp-content/uploads/2026/02/Axl-Bernardo-Photo.jpeg
END:VEVENT
END:VCALENDAR