BEGIN:VCALENDAR
VERSION:2.0
PRODID:-//LuLu&#039;s - ECPv6.15.12.2//NONSGML v1.0//EN
CALSCALE:GREGORIAN
METHOD:PUBLISH
X-ORIGINAL-URL:https://lulusfunfoodmusic.com
X-WR-CALDESC:Events for LuLu&#039;s
REFRESH-INTERVAL;VALUE=DURATION:PT1H
X-Robots-Tag:noindex
X-PUBLISHED-TTL:PT1H
BEGIN:VTIMEZONE
TZID:America/Chicago
BEGIN:DAYLIGHT
TZOFFSETFROM:-0600
TZOFFSETTO:-0500
TZNAME:CDT
DTSTART:20250309T080000
END:DAYLIGHT
BEGIN:STANDARD
TZOFFSETFROM:-0500
TZOFFSETTO:-0600
TZNAME:CST
DTSTART:20251102T070000
END:STANDARD
BEGIN:DAYLIGHT
TZOFFSETFROM:-0600
TZOFFSETTO:-0500
TZNAME:CDT
DTSTART:20260308T080000
END:DAYLIGHT
BEGIN:STANDARD
TZOFFSETFROM:-0500
TZOFFSETTO:-0600
TZNAME:CST
DTSTART:20261101T070000
END:STANDARD
BEGIN:DAYLIGHT
TZOFFSETFROM:-0600
TZOFFSETTO:-0500
TZNAME:CDT
DTSTART:20270314T080000
END:DAYLIGHT
BEGIN:STANDARD
TZOFFSETFROM:-0500
TZOFFSETTO:-0600
TZNAME:CST
DTSTART:20271107T070000
END:STANDARD
END:VTIMEZONE
BEGIN:VEVENT
DTSTART;TZID=America/Chicago:20260326T170000
DTEND;TZID=America/Chicago:20260326T210000
DTSTAMP:20260422T171451
CREATED:20240722T222318Z
LAST-MODIFIED:20260326T162921Z
UID:10002650-1774544400-1774558800@lulusfunfoodmusic.com
SUMMARY:Alvarado Road Show - Destin
DESCRIPTION:The Nashville-by-way-of-Texas-based\, brother duo Alvarado Road Show is Cleve Clark and A.J. Clark
URL:https://lulusfunfoodmusic.com/event/alvarado-road-show-destin/2026-03-26/
LOCATION:Destin\, 4607 Legendary Marina Dr\, Florida\, 32541
ATTACH;FMTTYPE=image/jpeg:https://lulusfunfoodmusic.com/wp-content/uploads/2024/07/Alvarado-Road-Show.jpeg
END:VEVENT
BEGIN:VEVENT
DTSTART;TZID=America/Chicago:20260326T170000
DTEND;TZID=America/Chicago:20260326T210000
DTSTAMP:20260422T171451
CREATED:20250311T201024Z
LAST-MODIFIED:20260304T172725Z
UID:10002869-1774544400-1774558800@lulusfunfoodmusic.com
SUMMARY:Jimmy Roca - North Myrtle Beach
DESCRIPTION:Jimmy Roca is a multi instrumentalist who has been playing music for over 25 years. The guitar is what first attracted him to music and has been his focus\, and strength\, since the age of 10.Jimmy Roca plays a wide variety of music genres\, showcasing his versatility as a musician. His style includes elements of: \n\nAcoustic\nAlternative\nPop Punk\nPunk\nFolk\nIndie\nPop\nReggae\nRock\nR&B\nEmo\n\nHe blends these styles into his performances\, often incorporating live instruments and unique arrangements. Whether it’s an upbeat pop tune or a laid-back acoustic vibe\, Jimmy Roca brings his own interpretation to a wide range of music.
URL:https://lulusfunfoodmusic.com/event/jimmy-roca-north-myrtle-beach/2026-03-26/
LOCATION:North Myrtle Beach\, 4954 Hwy 17 S\, North Myrtle Beach\, SC\, 29582\, United States
ATTACH;FMTTYPE=image/jpeg:https://lulusfunfoodmusic.com/wp-content/uploads/2024/07/Jimmy-Roca.jpg
END:VEVENT
BEGIN:VEVENT
DTSTART;TZID=America/Chicago:20260326T170000
DTEND;TZID=America/Chicago:20260326T210000
DTSTAMP:20260422T171451
CREATED:20260209T042353Z
LAST-MODIFIED:20260209T042353Z
UID:10002790-1774544400-1774558800@lulusfunfoodmusic.com
SUMMARY:Thicc and Thinn - Gulf Shores
DESCRIPTION:Shea White & Karl Langley are a dynamic musical duo known for soulful vocals\, tasteful guitar work\, solid percussion\, and a shared love of songwriting. Blending elements of folk\, blues\, and roots-inspired acoustic music\, they bring a warm harmony that feels both timeless and personal. Whether reimagining familiar favorites or performing original material\, Shea and Karl create performances that are engaging\, relaxed\, and deeply musical—perfect for attentive listening and good vibes. Thicc and Thin are open to ALL of your requests!
URL:https://lulusfunfoodmusic.com/event/thicc-and-thinn-gulf-shores/2026-03-26/
LOCATION:Gulf Shores\, AL
ATTACH;FMTTYPE=image/heic:https://lulusfunfoodmusic.com/wp-content/uploads/2026/02/Thicc-and-Thinn-Duo-copy-scaled.jpg
END:VEVENT
END:VCALENDAR