BEGIN:VCALENDAR
VERSION:2.0
PRODID:-//LuLu&#039;s - ECPv6.15.12.2//NONSGML v1.0//EN
CALSCALE:GREGORIAN
METHOD:PUBLISH
X-ORIGINAL-URL:https://lulusfunfoodmusic.com
X-WR-CALDESC:Events for LuLu&#039;s
REFRESH-INTERVAL;VALUE=DURATION:PT1H
X-Robots-Tag:noindex
X-PUBLISHED-TTL:PT1H
BEGIN:VTIMEZONE
TZID:America/Chicago
BEGIN:DAYLIGHT
TZOFFSETFROM:-0600
TZOFFSETTO:-0500
TZNAME:CDT
DTSTART:20250309T080000
END:DAYLIGHT
BEGIN:STANDARD
TZOFFSETFROM:-0500
TZOFFSETTO:-0600
TZNAME:CST
DTSTART:20251102T070000
END:STANDARD
BEGIN:DAYLIGHT
TZOFFSETFROM:-0600
TZOFFSETTO:-0500
TZNAME:CDT
DTSTART:20260308T080000
END:DAYLIGHT
BEGIN:STANDARD
TZOFFSETFROM:-0500
TZOFFSETTO:-0600
TZNAME:CST
DTSTART:20261101T070000
END:STANDARD
BEGIN:DAYLIGHT
TZOFFSETFROM:-0600
TZOFFSETTO:-0500
TZNAME:CDT
DTSTART:20270314T080000
END:DAYLIGHT
BEGIN:STANDARD
TZOFFSETFROM:-0500
TZOFFSETTO:-0600
TZNAME:CST
DTSTART:20271107T070000
END:STANDARD
END:VTIMEZONE
BEGIN:VEVENT
DTSTART;TZID=America/Chicago:20260328T170000
DTEND;TZID=America/Chicago:20260328T210000
DTSTAMP:20260422T170245
CREATED:20260211T031610Z
LAST-MODIFIED:20260211T031610Z
UID:10002820-1774717200-1774731600@lulusfunfoodmusic.com
SUMMARY:Chase Brown - Gulf Shores
DESCRIPTION:Chase Brown is a Texas-born live music performer and singer-entertainer who regularly appears on the Gulf Coastmusic circuit\, including shows at LuLu’s in Gulf Shores\, AL\, where he plays energetic\, crowd-friendly sets featuring a mix of popular covers and engaging originals that suit the beachside atmosphere. \nOriginally from Victoria\, Texas\, Brown got his start performing locally and later expanded his career with dynamic live shows that blend country\, pop\, and rock influences — often marked by charismatic vocals and high-energy performance style. \nIn addition to his solo appearances\, he has also performed with The Cordial Brothers\, a Gulf Coast band known for delivering upbeat\, danceable live music at festivals and community events in the region (including past LuLuPalooza events where the group was featured on stage). \nBrown has built a reputation as a versatile entertainer on the Gulf Coast live music scene\, helping create lively music experiences that fit both family-friendly settings and vibrant nightlife.
URL:https://lulusfunfoodmusic.com/event/chase-brown-gulf-shores-3/
LOCATION:Gulf Shores\, AL
ATTACH;FMTTYPE=image/jpeg:https://lulusfunfoodmusic.com/wp-content/uploads/2024/07/Chase-Brown.jpg
END:VEVENT
BEGIN:VEVENT
DTSTART;TZID=America/Chicago:20260328T170000
DTEND;TZID=America/Chicago:20260328T210000
DTSTAMP:20260422T170245
CREATED:20260226T144320Z
LAST-MODIFIED:20260226T144320Z
UID:10002875-1774717200-1774731600@lulusfunfoodmusic.com
SUMMARY:Hannah Ray - North Myrtle Beach
DESCRIPTION:Hannah Ray is a Florida-born singer-songwriter and live performer whose soulful voice and dynamic stage presence have made her a popular act at Gulf Coast venues like Lulu’s in Gulf Shores\, AL. Originally from North West Florida\, she now performs across the East Coast and beyond\, blending elements of pop\, rock\, soul\, and blues in both original songs and creative covers of well-known hits. \nHannah grew up immersed in music and the performing arts\, gaining early experience singing\, dancing\, and acting before launching her music career. She’s known for high-energy live sets that work equally well as acoustic solo performances or with a full band\, bringing authenticity and heart to every show. \nHer growing reputation as a versatile and engaging musician has helped her build a dedicated following and secure bookings at notable venues along the Gulf Coast and in cities like New York\, making her a standout artist in both local and touring circuits
URL:https://lulusfunfoodmusic.com/event/hannah-ray-north-myrtle-beach/
LOCATION:North Myrtle Beach\, 4954 Hwy 17 S\, North Myrtle Beach\, SC\, 29582\, United States
ATTACH;FMTTYPE=image/jpeg:https://lulusfunfoodmusic.com/wp-content/uploads/2025/08/Hannah-Ray-BAnd-DN-scaled.jpg
END:VEVENT
BEGIN:VEVENT
DTSTART;TZID=America/Chicago:20260328T170000
DTEND;TZID=America/Chicago:20260328T210000
DTSTAMP:20260422T170245
CREATED:20260227T032955Z
LAST-MODIFIED:20260227T032955Z
UID:10002886-1774717200-1774731600@lulusfunfoodmusic.com
SUMMARY:Gypsy Pearl - Destin
DESCRIPTION:The GypsyPearl Duo brings a vibrant mix of soulful vocals\, tight harmonies\, and acoustic energy to every performance along the Gulf Coast. Known for their dynamic stage presence and ability to read a crowd\, they blend modern country\, classic rock\, and heartfelt originals into a feel-good show that keeps guests engaged from the first song to the last. \nTheir sound pulls influence from artists like Fleetwood Mac\, Miranda Lambert\, Chris Stapleton\, and The Eagles\, delivering familiar favorites with a fresh\, coastal twist. Whether it’s an upbeat afternoon set or a relaxed evening vibe\, GypsyPearl Duo brings the perfect mix of polish\, personality\, and coastal charm to LuLu’s Gulf Shores.
URL:https://lulusfunfoodmusic.com/event/gypsy-pearl-destin-2/2026-03-28/
LOCATION:Destin\, 4607 Legendary Marina Dr\, Florida\, 32541
ATTACH;FMTTYPE=image/jpeg:https://lulusfunfoodmusic.com/wp-content/uploads/2024/07/GypsyPearl.jpg
END:VEVENT
END:VCALENDAR