BEGIN:VCALENDAR
VERSION:2.0
PRODID:-//LuLu&#039;s - ECPv6.15.12.2//NONSGML v1.0//EN
CALSCALE:GREGORIAN
METHOD:PUBLISH
X-WR-CALNAME:LuLu&#039;s
X-ORIGINAL-URL:https://lulusfunfoodmusic.com
X-WR-CALDESC:Events for LuLu&#039;s
REFRESH-INTERVAL;VALUE=DURATION:PT1H
X-Robots-Tag:noindex
X-PUBLISHED-TTL:PT1H
BEGIN:VTIMEZONE
TZID:America/Chicago
BEGIN:DAYLIGHT
TZOFFSETFROM:-0600
TZOFFSETTO:-0500
TZNAME:CDT
DTSTART:20250309T080000
END:DAYLIGHT
BEGIN:STANDARD
TZOFFSETFROM:-0500
TZOFFSETTO:-0600
TZNAME:CST
DTSTART:20251102T070000
END:STANDARD
BEGIN:DAYLIGHT
TZOFFSETFROM:-0600
TZOFFSETTO:-0500
TZNAME:CDT
DTSTART:20260308T080000
END:DAYLIGHT
BEGIN:STANDARD
TZOFFSETFROM:-0500
TZOFFSETTO:-0600
TZNAME:CST
DTSTART:20261101T070000
END:STANDARD
BEGIN:DAYLIGHT
TZOFFSETFROM:-0600
TZOFFSETTO:-0500
TZNAME:CDT
DTSTART:20270314T080000
END:DAYLIGHT
BEGIN:STANDARD
TZOFFSETFROM:-0500
TZOFFSETTO:-0600
TZNAME:CST
DTSTART:20271107T070000
END:STANDARD
END:VTIMEZONE
BEGIN:VEVENT
DTSTART;TZID=America/Chicago:20260421T170000
DTEND;TZID=America/Chicago:20260421T210000
DTSTAMP:20260421T042003
CREATED:20240913T093648Z
LAST-MODIFIED:20260304T220041Z
UID:10002954-1776790800-1776805200@lulusfunfoodmusic.com
SUMMARY:Matt Doda - North Myrtle Beach
DESCRIPTION:Matt Doda – is a talented and versatile musician\, singer\, and songwriter based in Myrtle Beach\, South Carolina. Originally from central New Jersey\, Matt relocated to the Grand Strand in 2008\, where he quickly made a name for himself in the local music scene. His strong musical background and versatile skills allow him to perform across multiple genres and styles. Matt covers a variety of genres\, including rock\, pop\, folk\, blues\, country\, and classic hits\, appealing to a broad audience. His ability to take song requests and adapt his performances to suit the vibe of each event has made him a favorite at venues in Myrtle Beach and beyond. Whether he’s playing well-known classics or contemporary tunes\, Matt’s shows are filled with energy\, audience interaction\, and musical excellence
URL:https://lulusfunfoodmusic.com/event/matt-doda-north-myrtle-beach/2026-04-21/
LOCATION:North Myrtle Beach\, 4954 Hwy 17 S\, North Myrtle Beach\, SC\, 29582\, United States
ATTACH;FMTTYPE=image/jpeg:https://lulusfunfoodmusic.com/wp-content/uploads/2024/09/bands.jpg
END:VEVENT
BEGIN:VEVENT
DTSTART;TZID=America/Chicago:20260421T170000
DTEND;TZID=America/Chicago:20260421T210000
DTSTAMP:20260421T042003
CREATED:20260209T033945Z
LAST-MODIFIED:20260421T031526Z
UID:10002769-1776790800-1776805200@lulusfunfoodmusic.com
SUMMARY:Lee Yankie - Gulf Shores
DESCRIPTION:Lee YankieLee Yankie is a seasoned South Alabama musician with over two decades of performance experience\, bringing a soulful mix of Southern rock\, blues\, soul\, reggae\, and beach-influenced sounds that reflect the Gulf Coast’s musical spirit. A talented guitarist and vocalist\, he has toured nationally and spent six years as a member of the acclaimed Honey Island Swamp Band\, contributing his guitar and vocals to the band’s roots-rock and swamp-Americana blend. \nIn addition to his work with the Honey Island Swamp Band\, Lee performs regularly in the region both as a solo artist and with his group Secret Stash\, entertaining audiences at venues such as Lulu’s in Gulf Shores with lively\, eclectic sets that span blues\, classic rock\, reggae\, and more.
URL:https://lulusfunfoodmusic.com/event/lee-yankie-gulf-shores-2/2026-04-21/
LOCATION:Gulf Shores\, AL
ATTACH;FMTTYPE=image/jpeg:https://lulusfunfoodmusic.com/wp-content/uploads/2025/04/Lee-Yankies-Secret-Stash.jpeg
END:VEVENT
BEGIN:VEVENT
DTSTART;TZID=America/Chicago:20260421T170000
DTEND;TZID=America/Chicago:20260421T210000
DTSTAMP:20260421T042003
CREATED:20260321T195940Z
LAST-MODIFIED:20260321T195940Z
UID:10003117-1776790800-1776805200@lulusfunfoodmusic.com
SUMMARY:Timmi G - Destin
DESCRIPTION:Timmi G is a blues-jazz flavored musician who draws from the rich traditions of the all of the 1900s while quietly incorporating contemporary influences\, offering a genuine sound that fits naturally into various settings. With guitar\, vocals\, flute\, harmonica\, and cornet in his arsenal\, he aims to serve the moment\, whether that means providing gentle accompaniment to conversation or sharing more engaging performances when the room calls for it. Timmi’s approach centers on classics from artists like Frank Sinatra and Van Morrison to more modern flavors like Jack Johnson and Norah Jones alongside their own modest interpretations\, always listening to what each venue and audience needs. Whether playing softly in the background of a restaurant or connecting with listeners in a local bar\, he puts focus on honest musical expression that respects the blues-jazz heritage while remaining accessible to today’s ears\, letting the music speak for itself. 
URL:https://lulusfunfoodmusic.com/event/timmi-g-destin/2026-04-21/
LOCATION:Destin\, 4607 Legendary Marina Dr\, Florida\, 32541
ATTACH;FMTTYPE=image/jpeg:https://lulusfunfoodmusic.com/wp-content/uploads/2026/03/Timmi-G.jpg
END:VEVENT
END:VCALENDAR