BEGIN:VCALENDAR
VERSION:2.0
PRODID:-//LuLu&#039;s - ECPv6.15.12.2//NONSGML v1.0//EN
CALSCALE:GREGORIAN
METHOD:PUBLISH
X-WR-CALNAME:LuLu&#039;s
X-ORIGINAL-URL:https://lulusfunfoodmusic.com
X-WR-CALDESC:Events for LuLu&#039;s
REFRESH-INTERVAL;VALUE=DURATION:PT1H
X-Robots-Tag:noindex
X-PUBLISHED-TTL:PT1H
BEGIN:VTIMEZONE
TZID:America/Chicago
BEGIN:DAYLIGHT
TZOFFSETFROM:-0600
TZOFFSETTO:-0500
TZNAME:CDT
DTSTART:20250309T080000
END:DAYLIGHT
BEGIN:STANDARD
TZOFFSETFROM:-0500
TZOFFSETTO:-0600
TZNAME:CST
DTSTART:20251102T070000
END:STANDARD
BEGIN:DAYLIGHT
TZOFFSETFROM:-0600
TZOFFSETTO:-0500
TZNAME:CDT
DTSTART:20260308T080000
END:DAYLIGHT
BEGIN:STANDARD
TZOFFSETFROM:-0500
TZOFFSETTO:-0600
TZNAME:CST
DTSTART:20261101T070000
END:STANDARD
BEGIN:DAYLIGHT
TZOFFSETFROM:-0600
TZOFFSETTO:-0500
TZNAME:CDT
DTSTART:20270314T080000
END:DAYLIGHT
BEGIN:STANDARD
TZOFFSETFROM:-0500
TZOFFSETTO:-0600
TZNAME:CST
DTSTART:20271107T070000
END:STANDARD
END:VTIMEZONE
BEGIN:VEVENT
DTSTART;TZID=America/Chicago:20260425T170000
DTEND;TZID=America/Chicago:20260425T210000
DTSTAMP:20260425T064314
CREATED:20240719T120917Z
LAST-MODIFIED:20260304T215310Z
UID:10002947-1777136400-1777150800@lulusfunfoodmusic.com
SUMMARY:Lees Cut - North Myrtle Beach
DESCRIPTION:Lees Cut – Plays a variety of music that blends Southern rock\, country\, and beach music. Their setlists typically include a mix of both original songs and covers\, reflecting their wide-ranging musical influences
URL:https://lulusfunfoodmusic.com/event/matt-carswell-north-myrtle-beach/2026-04-25/
LOCATION:North Myrtle Beach\, 4954 Hwy 17 S\, North Myrtle Beach\, SC\, 29582\, United States
ATTACH;FMTTYPE=image/jpeg:https://lulusfunfoodmusic.com/wp-content/uploads/2024/07/Lees-Cut.jpg
END:VEVENT
BEGIN:VEVENT
DTSTART;TZID=America/Chicago:20260425T170000
DTEND;TZID=America/Chicago:20260425T210000
DTSTAMP:20260425T064314
CREATED:20260128T015300Z
LAST-MODIFIED:20260311T035248Z
UID:10002691-1777136400-1777150800@lulusfunfoodmusic.com
SUMMARY:Coconut Radio - Destin
DESCRIPTION:Award winning violinist and Trop Rock nominee Sue Kittredge and singer/songwriter Steve Reeths of Coconut Radio have been playing dumps and palaces from Chicago and Nashville down to Tampa and Key West since meeting in 1992. Currently living in the panhandle of Florida\, the duo spend their time writing songs\, playing music and living the dream on the Emerald Coast. The music of Coconut Radio is meant to share that feeling\, those emotions one feels sharing a cold one with friends at the tiki bar or watching a beautiful sunset. Susan Kittredge\, violinst extrordinaire\, has been twice nominated for one of five Trop Rock female performers nation wide. Their two self-released CDs are being played nation wide by Trop Rock radio stations from Key West to California.
URL:https://lulusfunfoodmusic.com/event/coconut-radio-destin-2/2026-04-25/
LOCATION:Destin\, 4607 Legendary Marina Dr\, Florida\, 32541
ATTACH;FMTTYPE=image/jpeg:https://lulusfunfoodmusic.com/wp-content/uploads/2024/09/CoConut-Radio.jpeg
END:VEVENT
BEGIN:VEVENT
DTSTART;TZID=America/Chicago:20260425T170000
DTEND;TZID=America/Chicago:20260425T210000
DTSTAMP:20260425T064314
CREATED:20260209T043819Z
LAST-MODIFIED:20260212T033125Z
UID:10002836-1777136400-1777150800@lulusfunfoodmusic.com
SUMMARY:Ryan Balthrop - Gulf Shores
DESCRIPTION:Ryan BalthropRyan Balthrop is a Gulf Coast-based singer-songwriter from Mobile\, Alabama\, known for his heartfelt storytelling\, soulful vocals\, and eclectic blend of musical influences. Rooted in Southern folk and rock traditions\, his sound also reflects a deep connection to reggae and island vibes shaped by his time living and performing in the U.S. Virgin Islands\, where he embraced Caribbean rhythms and culture. \nWhether strumming solo or fronting his band\, Balthrop mixes laid-back reggae grooves with Southern charm and lyrical depth\, creating performances that resonate with audiences along the Gulf Coast and beyond.
URL:https://lulusfunfoodmusic.com/event/ryan-balthrop-gulf-shores-2/2026-04-25/
LOCATION:Gulf Shores\, AL
ATTACH;FMTTYPE=image/jpeg:https://lulusfunfoodmusic.com/wp-content/uploads/2025/04/Ryan-BAlthrop-scaled.jpeg
END:VEVENT
END:VCALENDAR