BEGIN:VCALENDAR
VERSION:2.0
PRODID:-//LuLu&#039;s - ECPv6.15.12.2//NONSGML v1.0//EN
CALSCALE:GREGORIAN
METHOD:PUBLISH
X-ORIGINAL-URL:https://lulusfunfoodmusic.com
X-WR-CALDESC:Events for LuLu&#039;s
REFRESH-INTERVAL;VALUE=DURATION:PT1H
X-Robots-Tag:noindex
X-PUBLISHED-TTL:PT1H
BEGIN:VTIMEZONE
TZID:America/Chicago
BEGIN:DAYLIGHT
TZOFFSETFROM:-0600
TZOFFSETTO:-0500
TZNAME:CDT
DTSTART:20240310T080000
END:DAYLIGHT
BEGIN:STANDARD
TZOFFSETFROM:-0500
TZOFFSETTO:-0600
TZNAME:CST
DTSTART:20241103T070000
END:STANDARD
BEGIN:DAYLIGHT
TZOFFSETFROM:-0600
TZOFFSETTO:-0500
TZNAME:CDT
DTSTART:20250309T080000
END:DAYLIGHT
BEGIN:STANDARD
TZOFFSETFROM:-0500
TZOFFSETTO:-0600
TZNAME:CST
DTSTART:20251102T070000
END:STANDARD
BEGIN:DAYLIGHT
TZOFFSETFROM:-0600
TZOFFSETTO:-0500
TZNAME:CDT
DTSTART:20260308T080000
END:DAYLIGHT
BEGIN:STANDARD
TZOFFSETFROM:-0500
TZOFFSETTO:-0600
TZNAME:CST
DTSTART:20261101T070000
END:STANDARD
END:VTIMEZONE
BEGIN:VEVENT
DTSTART;TZID=America/Chicago:20251013T170000
DTEND;TZID=America/Chicago:20251013T210000
DTSTAMP:20260420T222345
CREATED:20250902T213947Z
LAST-MODIFIED:20250902T213947Z
UID:10002334-1760374800-1760389200@lulusfunfoodmusic.com
SUMMARY:Chris Scroggins-Destin
DESCRIPTION:🎶 Chris Scoggins brings heartfelt originals\, powerful covers\, and a whole lot of soul to the stage—blending rock\, country\, and singer-songwriter vibes with stories and dad jokes you won’t forget.
URL:https://lulusfunfoodmusic.com/event/chris-scroggins-destin/
LOCATION:Destin\, 4607 Legendary Marina Dr\, Florida\, 32541
ATTACH;FMTTYPE=image/jpeg:https://lulusfunfoodmusic.com/wp-content/uploads/2025/09/Chris-Scroggins.jpg
END:VEVENT
BEGIN:VEVENT
DTSTART;TZID=America/Chicago:20251014T170000
DTEND;TZID=America/Chicago:20251014T210000
DTSTAMP:20260420T222345
CREATED:20240717T201643Z
LAST-MODIFIED:20250923T190548Z
UID:10001905-1760461200-1760475600@lulusfunfoodmusic.com
SUMMARY:John Keuler - Gulf Shores
DESCRIPTION:John Keuler plays an organic\, soulful\, and vocal blend of favorites by Paul Simon\, Bob Marley\, The Band\, The Grateful Dead\, as well as original material.
URL:https://lulusfunfoodmusic.com/event/john-keuler-gulf-shores/2025-10-14/
LOCATION:Gulf Shores\, AL
ATTACH;FMTTYPE=image/jpeg:https://lulusfunfoodmusic.com/wp-content/uploads/2024/07/John-Keuler.jpeg
END:VEVENT
BEGIN:VEVENT
DTSTART;TZID=America/Chicago:20251015T170000
DTEND;TZID=America/Chicago:20251015T210000
DTSTAMP:20260420T222345
CREATED:20240721T134205Z
LAST-MODIFIED:20251209T205452Z
UID:10001921-1760547600-1760562000@lulusfunfoodmusic.com
SUMMARY:Rebecca Barry Duo - Gulf Shores
DESCRIPTION:REBECCA BARRY DUO — GULF SHORES \nThe Rebecca Barry Duo brings a smooth blend of soulful vocals\, acoustic warmth\, and coastal charm to every show. Known along the Gulf Coast for their easy-listening style and feel-good energy\, Rebecca’s rich voice paired with dynamic guitar work creates the perfect soundtrack for a relaxed evening by the water. \nTheir setlist ranges from modern hits to timeless classics\, all delivered with a laid-back\, beach-inspired vibe that keeps guests singing along. Whether they’re covering fan favorites or putting a fresh spin on well-loved songs\, the Rebecca Barry Duo brings a polished\, heartfelt performance every time. \nPerfect for a chill night at LuLu’s Gulf Shores—great music\, great atmosphere\, and great company.
URL:https://lulusfunfoodmusic.com/event/rebecca-barry-duo-gulf-shores/2025-10-15/
LOCATION:Gulf Shores\, AL
ATTACH;FMTTYPE=image/jpeg:https://lulusfunfoodmusic.com/wp-content/uploads/2024/07/IMG_0961.jpeg
END:VEVENT
BEGIN:VEVENT
DTSTART;TZID=America/Chicago:20251016T170000
DTEND;TZID=America/Chicago:20251016T210000
DTSTAMP:20260420T222345
CREATED:20250610T141538Z
LAST-MODIFIED:20251020T155444Z
UID:10002331-1760634000-1760648400@lulusfunfoodmusic.com
SUMMARY:Marc Harris - Destin
DESCRIPTION:Born and raised in Nashville\, Marc Harris spent much of his early childhood in his Father’s apparel store\, which outfitted some of classic country’s legends. Influenced by the greats of country and rock\, Marc developed his own twangy melodic sound\, Harris started out playing night clubs in Nashville throughout high school and toured the southeast playing frat parties during college. Marc made a conscious decision to catch a tour bus heading out of town in the early 90s and hit ‘The Road’ with Lee Roy Parnell as well as John Berry\, Stacey Dean Campbell\, among others. After touring as a sideman for country artists throughout the 90s\, Marc moved to Point Washington Florida in 2001 where his creativity and songwriting flourished.  His original music has been dubbed “Southern Surf”. \nThe Athens Flagpole referred to Harris’ music as “Guitar Strong Modern Rock\,” while the Destin Beachcomber described it as “The best kind of singer-songwriter material- intelligent\, well crafted\, and accessible to twang lovers and haters alike.” The Birmingham weekly aptly called Marc’s music “A Mix of Renegade Country and Beach-Tinged Tunes.”
URL:https://lulusfunfoodmusic.com/event/marc-harris-destin-2/2025-10-16/
LOCATION:Destin\, 4607 Legendary Marina Dr\, Florida\, 32541
ATTACH;FMTTYPE=image/jpeg:https://lulusfunfoodmusic.com/wp-content/uploads/2024/07/Marc-Harris.jpg
END:VEVENT
BEGIN:VEVENT
DTSTART;TZID=America/Chicago:20251017T170000
DTEND;TZID=America/Chicago:20251017T210000
DTSTAMP:20260420T222345
CREATED:20240712T200854Z
LAST-MODIFIED:20260306T003229Z
UID:10002370-1760720400-1760734800@lulusfunfoodmusic.com
SUMMARY:Owen Reeves Duo - North Myrtle Beach
DESCRIPTION:Owen Reeves-Musician based in Myrtle Beach\, South Carolina. Known for his engaging performances in the Myrtle Beach area. Known for his live performances. He plays a variety of genres and is well-regarded for his engaging presence on stage. Known for his versatile music style with the Guitar and the Fiddle\, blending a variety of genres to appeal to a wide range of audiences
URL:https://lulusfunfoodmusic.com/event/owen-reeves-north-myrtle-beach/2025-10-17/
LOCATION:North Myrtle Beach\, 4954 Hwy 17 S\, North Myrtle Beach\, SC\, 29582\, United States
ATTACH;FMTTYPE=image/jpeg:https://lulusfunfoodmusic.com/wp-content/uploads/2024/07/owenreeves.jpeg
END:VEVENT
BEGIN:VEVENT
DTSTART;TZID=America/Chicago:20251017T170000
DTEND;TZID=America/Chicago:20251017T210000
DTSTAMP:20260420T222345
CREATED:20250415T171820Z
LAST-MODIFIED:20250923T175120Z
UID:10002322-1760720400-1760734800@lulusfunfoodmusic.com
SUMMARY:Martin Lane - Destin
DESCRIPTION:Martin Lane is an acoustic duo specializing in classic rock\, 90’s country and sing-along music. They have a vast repertoire of laidback dinner music to fun party and dance tunes\, as well as original songs. This fun duo\, comprised of singer-songwriter\, Laura Lane\, and Nashville producer\, engineer\, musician and singer-songwriter\, Chip Martin has energetic stage chemistry and tight harmonies. With a flair for being able to pull almost any request from thin air\, they encourage audience participation and requests.
URL:https://lulusfunfoodmusic.com/event/martin-lane-destin/2025-10-17/
LOCATION:Destin\, 4607 Legendary Marina Dr\, Florida\, 32541
ATTACH;FMTTYPE=image/jpeg:https://lulusfunfoodmusic.com/wp-content/uploads/2025/04/Martin-Lane.jpg
END:VEVENT
BEGIN:VEVENT
DTSTART;TZID=America/Chicago:20251018T170000
DTEND;TZID=America/Chicago:20251018T210000
DTSTAMP:20260420T222345
CREATED:20250401T220432Z
LAST-MODIFIED:20250923T193559Z
UID:10001913-1760806800-1760821200@lulusfunfoodmusic.com
SUMMARY:Martin Lane-Gulf Shores
DESCRIPTION:Martin Lane is an acoustic duo specializing in classic rock\, 90’s country and sing-along music. They have a vast repertoire of laidback dinner music to fun party and dance tunes\, as well as original songs. This fun duo\, comprised of singer-songwriter\, Laura Lane\, and Nashville producer\, engineer\, musician and singer-songwriter\, Chip Martin has energetic stage chemistry and tight harmonies. With a flair for being able to pull almost any request from thin air\, they encourage audience participation and requests.
URL:https://lulusfunfoodmusic.com/event/martin-lane-gulf-shores/2025-10-18/
LOCATION:Gulf Shores\, AL
ATTACH;FMTTYPE=image/jpeg:https://lulusfunfoodmusic.com/wp-content/uploads/2025/04/Martin-Lane.jpg
END:VEVENT
BEGIN:VEVENT
DTSTART;TZID=America/Chicago:20251018T170000
DTEND;TZID=America/Chicago:20251018T210000
DTSTAMP:20260420T222345
CREATED:20250919T152149Z
LAST-MODIFIED:20260311T145931Z
UID:10002371-1760806800-1760821200@lulusfunfoodmusic.com
SUMMARY:David Fair-North Myrtle Beach
DESCRIPTION:David Fair- is a Myrtle Beach–based singer-songwriter with roots in Nashville. Blending Americana\, country\, and soulful storytelling\, he connects with audiences through heartfelt lyrics and powerful vocals. Known for his genuine stage presence\, David brings a mix of originals and crowd favorites that make every show feel personal.
URL:https://lulusfunfoodmusic.com/event/david-fair-north-myrtle-beach/2025-10-18/
LOCATION:North Myrtle Beach\, 4954 Hwy 17 S\, North Myrtle Beach\, SC\, 29582\, United States
ATTACH;FMTTYPE=image/webp:https://lulusfunfoodmusic.com/wp-content/uploads/2025/09/david-fair.webp
END:VEVENT
BEGIN:VEVENT
DTSTART;TZID=America/Chicago:20251018T170000
DTEND;TZID=America/Chicago:20251018T210000
DTSTAMP:20260420T222345
CREATED:20250919T220010Z
LAST-MODIFIED:20250919T220010Z
UID:10002382-1760806800-1760821200@lulusfunfoodmusic.com
SUMMARY:Lane Watkins-Destin
DESCRIPTION:
URL:https://lulusfunfoodmusic.com/event/lane-watkins-destin/
LOCATION:Destin\, 4607 Legendary Marina Dr\, Florida\, 32541
ATTACH;FMTTYPE=image/png:https://lulusfunfoodmusic.com/wp-content/uploads/2024/07/Generic-Music-Photo.png
END:VEVENT
BEGIN:VEVENT
DTSTART;VALUE=DATE:20251019
DTEND;VALUE=DATE:20251020
DTSTAMP:20260420T222345
CREATED:20251019T131811Z
LAST-MODIFIED:20251023T142901Z
UID:10002495-1760832000-1760918399@lulusfunfoodmusic.com
SUMMARY:NFL FOOTBALL SUNDAYS-North Myrtle Beach
DESCRIPTION:Come on out for NFL Sundays at LuLu’s! Fun\,Food\,Family friendly vibes! Dad watches games\, Mom shops\, The Kids plays on Beach!
URL:https://lulusfunfoodmusic.com/event/nfl-football-sundays-north-myrtle-beach/2025-10-19/1/
LOCATION:North Myrtle Beach\, 4954 Hwy 17 S\, North Myrtle Beach\, SC\, 29582\, United States
ATTACH;FMTTYPE=image/png:https://lulusfunfoodmusic.com/wp-content/uploads/2025/10/Web-Graphic-900x600-1.png
END:VEVENT
BEGIN:VEVENT
DTSTART;VALUE=DATE:20251019
DTEND;VALUE=DATE:20251020
DTSTAMP:20260420T222345
CREATED:20251019T131811Z
LAST-MODIFIED:20251023T142901Z
UID:10002496-1760871600-1760907600@lulusfunfoodmusic.com
SUMMARY:NFL FOOTBALL SUNDAYS-North Myrtle Beach
DESCRIPTION:Come on out for NFL Sundays at LuLu’s! Fun\,Food\,Family friendly vibes! Dad watches games\, Mom shops\, The Kids plays on Beach!
URL:https://lulusfunfoodmusic.com/event/nfl-football-sundays-north-myrtle-beach/2025-10-19/2/
LOCATION:North Myrtle Beach\, 4954 Hwy 17 S\, North Myrtle Beach\, SC\, 29582\, United States
ATTACH;FMTTYPE=image/png:https://lulusfunfoodmusic.com/wp-content/uploads/2025/10/Web-Graphic-900x600-1.png
END:VEVENT
BEGIN:VEVENT
DTSTART;TZID=America/Chicago:20251019T130000
DTEND;TZID=America/Chicago:20251019T170000
DTSTAMP:20260420T222345
CREATED:20240905T232255Z
LAST-MODIFIED:20250923T190719Z
UID:10001917-1760878800-1760893200@lulusfunfoodmusic.com
SUMMARY:Brooks Johnson - Gulf Shores
DESCRIPTION:Brooks Johnson – Country/Rock Artist | Perdido Key\, FL \nBorn in Alabama\, shaped by years living in New York City\, and now rooted on Florida’s Gulf Coast\, Brooks Johnson delivers country and rock with grit\, soul\, and zero pretense. His sound is built on raw acoustic guitar work and a vocal tone that’s instantly recognizable and requires no filters: warm\, resonant\, and edged with a touch of Southern gravel. \nWhether he’s covering outlaw country\, classic rock\, or Americana\, his powerful vocals\, tone and delivery bring a fresh edge to familiar songs—real\, unpolished\, and unforgettable. \nSince returning to the Gulf Coast\, Brooks has become a go-to solo act for venues\, festivals\, and private events seeking high-quality live music without the polish or pretense. Whether he’s playing to a laid-back beach crowd or a rowdy night-time audience\, Brooks brings a setlist packed with familiar hits and hidden gems\, all delivered with unmistakable grit. \nInstagram/Tik tok/Facebook/Venmo: @Brooksjohnsonmusic \nBrooksjohnsonmusic.com
URL:https://lulusfunfoodmusic.com/event/brooks-johnson-gulf-shores/2025-10-19/
LOCATION:Gulf Shores\, AL
ATTACH;FMTTYPE=image/jpeg:https://lulusfunfoodmusic.com/wp-content/uploads/2024/09/Brooks-Johnson.jpg
END:VEVENT
BEGIN:VEVENT
DTSTART;TZID=America/Chicago:20251020T160000
DTEND;TZID=America/Chicago:20251020T200000
DTSTAMP:20260420T222345
CREATED:20241101T163614Z
LAST-MODIFIED:20250917T144025Z
UID:10002358-1760976000-1760990400@lulusfunfoodmusic.com
SUMMARY:Brent Burns - Gulf Shores
DESCRIPTION:Brent Burns\, 4pm
URL:https://lulusfunfoodmusic.com/event/brent-burns-gulf-shores-2/2025-10-20/
LOCATION:Gulf Shores\, AL
ATTACH;FMTTYPE=image/jpeg:https://lulusfunfoodmusic.com/wp-content/uploads/2024/07/Brent-Burns.jpg
END:VEVENT
BEGIN:VEVENT
DTSTART;TZID=America/Chicago:20251020T170000
DTEND;TZID=America/Chicago:20251020T210000
DTSTAMP:20260420T222345
CREATED:20240905T233557Z
LAST-MODIFIED:20250923T172511Z
UID:10002338-1760979600-1760994000@lulusfunfoodmusic.com
SUMMARY:Ricky Joe Wilson - Destin
DESCRIPTION:
URL:https://lulusfunfoodmusic.com/event/ricky-joe-wilson-destin/2025-10-20/
LOCATION:Destin\, 4607 Legendary Marina Dr\, Florida\, 32541
ATTACH;FMTTYPE=image/jpeg:https://lulusfunfoodmusic.com/wp-content/uploads/2024/09/Rickie-Joe-Wilson.jpg
END:VEVENT
BEGIN:VEVENT
DTSTART;VALUE=DATE:20251021
DTEND;VALUE=DATE:20251027
DTSTAMP:20260420T222345
CREATED:20250904T141512Z
LAST-MODIFIED:20250904T141527Z
UID:10002343-1761004800-1761523199@lulusfunfoodmusic.com
SUMMARY:MOTM- Gulf Shores
DESCRIPTION:
URL:https://lulusfunfoodmusic.com/event/motm/
LOCATION:Destin\, 4607 Legendary Marina Dr\, Florida\, 32541
ATTACH;FMTTYPE=image/jpeg:https://lulusfunfoodmusic.com/wp-content/uploads/2025/09/18a08b1b-b1f2-4d68-80ec-e7b17fffa8bb.jpg
END:VEVENT
BEGIN:VEVENT
DTSTART;TZID=America/Chicago:20251021T130000
DTEND;TZID=America/Chicago:20251021T160000
DTSTAMP:20260420T222345
CREATED:20250828T211739Z
LAST-MODIFIED:20251021T182304Z
UID:10002509-1761051600-1761062400@lulusfunfoodmusic.com
SUMMARY:MOTM 2025 Brent Burns- Gulf Shores
DESCRIPTION:
URL:https://lulusfunfoodmusic.com/event/motm-2025-brent-burns-gulf-shores/2025-10-21/
LOCATION:Gulf Shores\, AL
ATTACH;FMTTYPE=image/jpeg:https://lulusfunfoodmusic.com/wp-content/uploads/2024/07/Brent-Burns.jpg
END:VEVENT
BEGIN:VEVENT
DTSTART;TZID=America/Chicago:20251021T160000
DTEND;TZID=America/Chicago:20251021T210000
DTSTAMP:20260420T222345
CREATED:20241004T113145Z
LAST-MODIFIED:20250828T212419Z
UID:10000415-1761062400-1761080400@lulusfunfoodmusic.com
SUMMARY:MOTM 2025 Welcome Party - Featuring Donny Brewer and Friends
DESCRIPTION:The Official Welcome Party for MOTM 2025 kicks off at LuLu’s in Gulf Shores! \n“Tuesday On The Island” Party Hosted by Donny Brewer – 4:00-9:00pm
URL:https://lulusfunfoodmusic.com/event/motm-2024/
LOCATION:Gulf Shores\, AL
ATTACH;FMTTYPE=image/jpeg:https://lulusfunfoodmusic.com/wp-content/uploads/2024/10/Donny-Brewer.jpg
END:VEVENT
BEGIN:VEVENT
DTSTART;TZID=America/Chicago:20251021T170000
DTEND;TZID=America/Chicago:20251021T210000
DTSTAMP:20260420T222345
CREATED:20241212T165046Z
LAST-MODIFIED:20251020T154925Z
UID:10002507-1761066000-1761080400@lulusfunfoodmusic.com
SUMMARY:Brandon House- Destin
DESCRIPTION:Brandon House is a singer and musician from Acworth\, Georgia\, heavily influenced by country music icons such as George Strait and Conway Twitty.
URL:https://lulusfunfoodmusic.com/event/brandon-house-destin-2/2025-10-21/
LOCATION:Destin\, 4607 Legendary Marina Dr\, Florida\, 32541
ATTACH;FMTTYPE=image/jpeg:https://lulusfunfoodmusic.com/wp-content/uploads/2024/11/Brandon-House.jpg
END:VEVENT
BEGIN:VEVENT
DTSTART;TZID=America/Chicago:20251022T130000
DTEND;TZID=America/Chicago:20251022T160000
DTSTAMP:20260420T222345
CREATED:20250828T211739Z
LAST-MODIFIED:20251021T182304Z
UID:10002510-1761138000-1761148800@lulusfunfoodmusic.com
SUMMARY:MOTM 2025 Brent Burns- Gulf Shores
DESCRIPTION:
URL:https://lulusfunfoodmusic.com/event/motm-2025-brent-burns-gulf-shores/2025-10-22/
LOCATION:Gulf Shores\, AL
ATTACH;FMTTYPE=image/jpeg:https://lulusfunfoodmusic.com/wp-content/uploads/2024/07/Brent-Burns.jpg
END:VEVENT
BEGIN:VEVENT
DTSTART;TZID=America/Chicago:20251022T170000
DTEND;TZID=America/Chicago:20251022T210000
DTSTAMP:20260420T222345
CREATED:20240712T201015Z
LAST-MODIFIED:20260311T140939Z
UID:10002493-1761152400-1761166800@lulusfunfoodmusic.com
SUMMARY:Big Jon Kelly - North Myrtle Beach
DESCRIPTION:Big Jon Kelly is a solo acoustic performer from Myrtle Beach\, SC. His musical career started as a teenager in Pittsburgh\, PA performing in the successful band “Brothers Kelly” with his older brother\, Aaron. After 23 years as a professional musician\, he has played as all over the east coast and as far west as Hawaii! He has a wide range of vocal capabilities\, performing top-of-the-charts cover songs from practically any era or genre\, as well as dozens of original songs. Big Jon Kelly’s musical influences include Dashboard Confessional\, Blink-182\, Jason Mraz\, Jack Johnson\, Stone Temple Pilots\, Smashing Pumpkins\, Zac Brown Band\, Luke Combs\, Johnny Cash\, Jimmy Buffett\, Billy Joel\, Eagles\, CCR\, The Temptations and many more!
URL:https://lulusfunfoodmusic.com/event/big-jon-kelly-north-myrtle-beach/2025-10-22/
LOCATION:North Myrtle Beach\, 4954 Hwy 17 S\, North Myrtle Beach\, SC\, 29582\, United States
ATTACH;FMTTYPE=image/jpeg:https://lulusfunfoodmusic.com/wp-content/uploads/2024/07/Big-Jon-Kelly.jpg
END:VEVENT
BEGIN:VEVENT
DTSTART;TZID=America/Chicago:20251022T170000
DTEND;TZID=America/Chicago:20251022T210000
DTSTAMP:20260420T222345
CREATED:20250528T213759Z
LAST-MODIFIED:20251214T190801Z
UID:10002354-1761152400-1761166800@lulusfunfoodmusic.com
SUMMARY:Howlin’ Jack- Destin
DESCRIPTION:Howlin’ Jack has been entertaining along the Gulf Coast for over thirty years. He strives to make his shows live\, so no backing tracks\, just guitar and vocal. Americana\, Country\, and 50’s to 70’s music are his go to songs.
URL:https://lulusfunfoodmusic.com/event/howlin-jack/2025-10-22/
LOCATION:Destin\, 4607 Legendary Marina Dr\, Florida\, 32541
ATTACH;FMTTYPE=image/png:https://lulusfunfoodmusic.com/wp-content/uploads/2025/05/Howlin-Jack.png
END:VEVENT
BEGIN:VEVENT
DTSTART;TZID=America/Chicago:20251022T170000
DTEND;TZID=America/Chicago:20251022T210000
DTSTAMP:20260420T222345
CREATED:20250828T211513Z
LAST-MODIFIED:20250828T211513Z
UID:10001942-1761152400-1761166800@lulusfunfoodmusic.com
SUMMARY:MOTM Uncle Jim's Tropical Friends Band featuring Jim Mayer-Gulf Shores
DESCRIPTION:Join the party at Lulu’s with Uncle Jim’s Tropical Friends Band\, featuring Jim Mayer\, Donny Brewer\, Howard McMichael\, and Miles Vandiver\, along with Trop rock\, A-list guests rocking out on a fun and surprising themed setlist. \nJim Mayer \nLead Vocals\, Musical Director \nJim Mayer has been touring\, songwriting\, and recording with Jimmy Buffett’s Coral Reefer band since 1989. As band member and vocalist\, Mayer is featured on 21 Buffett albums and 9 songs as a co-writer with Jimmy. As a member of The Coral Reefer Band\, he has appeared on The Tonight Show\, Good Morning America\, and The Today Show with Buffett. Additionally\, he has shared the stage with Kenny Chesney\, Zac Brown\, James Taylor\, Ringo Starr\, Paul Simon\, and many others. \n  \nUncle Jim’s Tropical Friends Band \nWith Uncle Jim’s Tropical Friends Band\, Mayer is honoring the legacy and wish of Jimmy Buffett to “Keep The Party Going.” Forged out of years of experience with a master storyteller\, Uncle Jim’s Tropical Friends Band brings the party to you. Mayer says\, “It’s a tribute with a twist\, blending fun classics and “curve balls” to pay homage to a Buffett Live Show’s playful and unpredictable energy. To keep things fresh\, I collaborate with many awesome musicians\, including special appearances with members of the Coral Reefer Band when available. I want to do my part to share the joy that I felt playing with Jimmy for so many years.”
URL:https://lulusfunfoodmusic.com/event/motm-uncle-jims-tropical-friends-band-featuring-jim-mayer-gulf-shores/
LOCATION:Gulf Shores\, AL
ATTACH;FMTTYPE=image/jpeg:https://lulusfunfoodmusic.com/wp-content/uploads/2025/08/2_Jim-Mayer-Promo-photo-2025_IMG_5651.jpg
END:VEVENT
BEGIN:VEVENT
DTSTART;TZID=America/Chicago:20251023T130000
DTEND;TZID=America/Chicago:20251023T160000
DTSTAMP:20260420T222345
CREATED:20250828T211739Z
LAST-MODIFIED:20251021T182304Z
UID:10002511-1761224400-1761235200@lulusfunfoodmusic.com
SUMMARY:MOTM 2025 Brent Burns- Gulf Shores
DESCRIPTION:
URL:https://lulusfunfoodmusic.com/event/motm-2025-brent-burns-gulf-shores/2025-10-23/
LOCATION:Gulf Shores\, AL
ATTACH;FMTTYPE=image/jpeg:https://lulusfunfoodmusic.com/wp-content/uploads/2024/07/Brent-Burns.jpg
END:VEVENT
BEGIN:VEVENT
DTSTART;TZID=America/Chicago:20251023T170000
DTEND;TZID=America/Chicago:20251023T210000
DTSTAMP:20260420T222345
CREATED:20240712T201552Z
LAST-MODIFIED:20251209T215146Z
UID:10002392-1761238800-1761253200@lulusfunfoodmusic.com
SUMMARY:Gypsy Pearl - Destin
DESCRIPTION:GYPSYPEARL DUO — DESTIN \nThe GypsyPearl Duo brings their signature blend of soulful vocals\, tight harmonies\, and acoustic charm to the Emerald Coast. Known for creating an easy\, feel-good atmosphere\, they mix modern country\, classic rock\, and crowd-favorite hits into a smooth\, high-energy set that fits perfectly with LuLu’s laid-back Destin vibe. \nWith influences ranging from Fleetwood Mac and Miranda Lambert to Chris Stapleton\, The Eagles\, and today’s top artists\, GypsyPearl Duo delivers familiar songs with a refreshing coastal twist. Whether they’re setting the tone for a sunny afternoon or winding down a relaxing evening\, they bring polished musicianship and warm personality to every performance. \nA Destin favorite—easy to listen to\, impossible not to enjoy.
URL:https://lulusfunfoodmusic.com/event/gypsy-pearl-destin/2025-10-23/
LOCATION:Destin\, 4607 Legendary Marina Dr\, Florida\, 32541
ATTACH;FMTTYPE=image/jpeg:https://lulusfunfoodmusic.com/wp-content/uploads/2024/07/GypsyPearl.jpg
END:VEVENT
BEGIN:VEVENT
DTSTART;TZID=America/Chicago:20251023T170000
DTEND;TZID=America/Chicago:20251023T210000
DTSTAMP:20260420T222345
CREATED:20250311T210317Z
LAST-MODIFIED:20260311T165748Z
UID:10002383-1761238800-1761253200@lulusfunfoodmusic.com
SUMMARY:Kennady Murlin- North Myrtle Beach
DESCRIPTION:Kennady Murlin- Singer and musician based in Myrtle Beach\, South Carolina. She is known for her engaging live performances and versatile musical style. Her music spans several genres\, including pop\, rock\, and country. She often covers popular songs and adds her personal touch to them\, captivating audiences with her strong vocals and energetic performances. Kennady frequently performs at local venues\, including restaurants and bars in the Myrtle Beach area.
URL:https://lulusfunfoodmusic.com/event/kennady-murlin-north-myrtle-beach/2025-10-23/
LOCATION:North Myrtle Beach\, 4954 Hwy 17 S\, North Myrtle Beach\, SC\, 29582\, United States
ATTACH;FMTTYPE=image/jpeg:https://lulusfunfoodmusic.com/wp-content/uploads/2025/03/band-kennady.jpeg
END:VEVENT
BEGIN:VEVENT
DTSTART;TZID=America/Chicago:20251023T170000
DTEND;TZID=America/Chicago:20251023T210000
DTSTAMP:20260420T222345
CREATED:20250828T212129Z
LAST-MODIFIED:20250828T212129Z
UID:10002311-1761238800-1761253200@lulusfunfoodmusic.com
SUMMARY:MOTM 2025 Drop Dead Dangerous Duo- Gulf Shores
DESCRIPTION:Bio \nDrop Dead Dangerous is a musical force that has taken the continental United States and the Caribbean by storm. A band full of songwriters that intertwine addicting melodies with honest\, passionate lyrics\, they are described by their loyal following to be among the best in the business. \nKitty Steadman is the lead singer and guitar player that combines a magnificent voice with a party hard attitude that has brought fans all over the country to their feet. \nMelanie Howe\, also commonly known as\, “The Djembabe\,” fills the pocket with grooves and percussive magic that can be found on the Drop Dead Dangerous stage and beyond. \nThe Drop Dead Dangerous harmonies sound as if the two women have been singing together their whole lives. They joined forces in autumn of 2015 to not only tour and spread their brand of music\, but to change the southern rock and country landscape.
URL:https://lulusfunfoodmusic.com/event/motm-2025-drop-dead-dangerous-duo-gulf-shores/
LOCATION:Gulf Shores\, AL
ATTACH;FMTTYPE=image/jpeg:https://lulusfunfoodmusic.com/wp-content/uploads/2025/08/Drop-dead-dangerous-2.jpg
END:VEVENT
BEGIN:VEVENT
DTSTART;TZID=America/Chicago:20251024T130000
DTEND;TZID=America/Chicago:20251024T160000
DTSTAMP:20260420T222345
CREATED:20250828T211739Z
LAST-MODIFIED:20251021T182304Z
UID:10002512-1761310800-1761321600@lulusfunfoodmusic.com
SUMMARY:MOTM 2025 Brent Burns- Gulf Shores
DESCRIPTION:
URL:https://lulusfunfoodmusic.com/event/motm-2025-brent-burns-gulf-shores/2025-10-24/
LOCATION:Gulf Shores\, AL
ATTACH;FMTTYPE=image/jpeg:https://lulusfunfoodmusic.com/wp-content/uploads/2024/07/Brent-Burns.jpg
END:VEVENT
BEGIN:VEVENT
DTSTART;TZID=America/Chicago:20251024T170000
DTEND;TZID=America/Chicago:20251024T210000
DTSTAMP:20260420T222345
CREATED:20241212T165046Z
LAST-MODIFIED:20251020T154925Z
UID:10002317-1761325200-1761339600@lulusfunfoodmusic.com
SUMMARY:Brandon House- Destin
DESCRIPTION:Brandon House is a singer and musician from Acworth\, Georgia\, heavily influenced by country music icons such as George Strait and Conway Twitty.
URL:https://lulusfunfoodmusic.com/event/brandon-house-destin-2/2025-10-24/
LOCATION:Destin\, 4607 Legendary Marina Dr\, Florida\, 32541
ATTACH;FMTTYPE=image/jpeg:https://lulusfunfoodmusic.com/wp-content/uploads/2024/11/Brandon-House.jpg
END:VEVENT
BEGIN:VEVENT
DTSTART;TZID=America/Chicago:20251024T170000
DTEND;TZID=America/Chicago:20251024T210000
DTSTAMP:20260420T222345
CREATED:20250828T213345Z
LAST-MODIFIED:20250828T213345Z
UID:10002312-1761325200-1761339600@lulusfunfoodmusic.com
SUMMARY:MOTM 2025 Featuring Thom Shepherd
DESCRIPTION:CMA of Texas Songwriter of the Year Thom Shepherd spends most of his time traveling across the country\, telling stories and captivating audiences with his wife\, artist Coley McCabe Shepherd. They have won Duo of the Year for the Trop Rock Music Association (TRMA) three years in a row\, and currently reside in Sandpoint\, Idaho. \nA veteran of Nashville’s Music Row\, Thom is the writer of five #1 singles including “Redneck Yacht Club\,” “Riding with Private Malone\,” and three Texas music number ones. In total Thom has written over 10 radio singles\, two Grammy nominated songs\, and has had over 100 songs recorded by other artists. \nThom\, along with his Radio Margaritaville hit “Always Saturday Night\,” are featured in the “The Parrot Heads Documentary” with Jimmy Buffett. His song “NEw York to Montana” has recently been turned into a novel.
URL:https://lulusfunfoodmusic.com/event/motm-2025-featuring-thom-shepherd/
LOCATION:Gulf Shores\, AL
ATTACH;FMTTYPE=application/pdf:https://lulusfunfoodmusic.com/wp-content/uploads/2025/08/Thom-Shepherd.pdf
END:VEVENT
BEGIN:VEVENT
DTSTART;TZID=America/Chicago:20251025T170000
DTEND;TZID=America/Chicago:20251025T210000
DTSTAMP:20260420T222345
CREATED:20240905T231150Z
LAST-MODIFIED:20260311T170120Z
UID:10002377-1761411600-1761426000@lulusfunfoodmusic.com
SUMMARY:Jeremiah Reyes - North Myrtle Beach
DESCRIPTION:Jeremiah Reyes- With a voice that is a combination of David Grey/Ben Harper\, Jeremiah Reyes is a multi-instrumentalist with a massive song selection. you can catch Jeremiah blending acoustic guitar and saxophone in his one-man-band show
URL:https://lulusfunfoodmusic.com/event/jeremiah-reyes-north-myrtle-beach/2025-10-25/
LOCATION:North Myrtle Beach\, 4954 Hwy 17 S\, North Myrtle Beach\, SC\, 29582\, United States
ATTACH;FMTTYPE=image/jpeg:https://lulusfunfoodmusic.com/wp-content/uploads/2024/09/Jeremiah-reyes.jpg
END:VEVENT
END:VCALENDAR