BEGIN:VCALENDAR
VERSION:2.0
PRODID:-//LuLu&#039;s - ECPv6.15.12.2//NONSGML v1.0//EN
CALSCALE:GREGORIAN
METHOD:PUBLISH
X-WR-CALNAME:LuLu&#039;s
X-ORIGINAL-URL:https://lulusfunfoodmusic.com
X-WR-CALDESC:Events for LuLu&#039;s
REFRESH-INTERVAL;VALUE=DURATION:PT1H
X-Robots-Tag:noindex
X-PUBLISHED-TTL:PT1H
BEGIN:VTIMEZONE
TZID:America/Chicago
BEGIN:DAYLIGHT
TZOFFSETFROM:-0600
TZOFFSETTO:-0500
TZNAME:CDT
DTSTART:20240310T080000
END:DAYLIGHT
BEGIN:STANDARD
TZOFFSETFROM:-0500
TZOFFSETTO:-0600
TZNAME:CST
DTSTART:20241103T070000
END:STANDARD
BEGIN:DAYLIGHT
TZOFFSETFROM:-0600
TZOFFSETTO:-0500
TZNAME:CDT
DTSTART:20250309T080000
END:DAYLIGHT
BEGIN:STANDARD
TZOFFSETFROM:-0500
TZOFFSETTO:-0600
TZNAME:CST
DTSTART:20251102T070000
END:STANDARD
BEGIN:DAYLIGHT
TZOFFSETFROM:-0600
TZOFFSETTO:-0500
TZNAME:CDT
DTSTART:20260308T080000
END:DAYLIGHT
BEGIN:STANDARD
TZOFFSETFROM:-0500
TZOFFSETTO:-0600
TZNAME:CST
DTSTART:20261101T070000
END:STANDARD
END:VTIMEZONE
BEGIN:VEVENT
DTSTART;TZID=America/Chicago:20251109T130000
DTEND;TZID=America/Chicago:20251109T170000
DTSTAMP:20260425T104454
CREATED:20240726T163403Z
LAST-MODIFIED:20250923T172701Z
UID:10002407-1762693200-1762707600@lulusfunfoodmusic.com
SUMMARY:Brooks Johnson - Destin
DESCRIPTION:Brooks Johnson – Country/Rock Artist | Perdido Key\, FL \nBorn in Alabama\, shaped by years living in New York City\, and now rooted on Florida’s Gulf Coast\, Brooks Johnson delivers country and rock with grit\, soul\, and zero pretense. His sound is built on raw acoustic guitar work and a vocal tone that’s instantly recognizable and requires no filters: warm\, resonant\, and edged with a touch of Southern gravel. \nWhether he’s covering outlaw country\, classic rock\, or Americana\, his powerful vocals\, tone and delivery bring a fresh edge to familiar songs—real\, unpolished\, and unforgettable. \nSince returning to the Gulf Coast\, Brooks has become a go-to solo act for venues\, festivals\, and private events seeking high-quality live music without the polish or pretense. Whether he’s playing to a laid-back beach crowd or a rowdy night-time audience\, Brooks brings a setlist packed with familiar hits and hidden gems\, all delivered with unmistakable grit. \nInstagram/Tik tok/Facebook/Venmo: @Brooksjohnsonmusic \nBrooksjohnsonmusic.com
URL:https://lulusfunfoodmusic.com/event/brooks-johnson-destin/2025-11-09/
LOCATION:Destin\, 4607 Legendary Marina Dr\, Florida\, 32541
ATTACH;FMTTYPE=image/jpeg:https://lulusfunfoodmusic.com/wp-content/uploads/2024/09/Brooks-Johnson.jpg
END:VEVENT
BEGIN:VEVENT
DTSTART;TZID=America/Chicago:20251110T110000
DTEND;TZID=America/Chicago:20251110T210000
DTSTAMP:20260425T104454
CREATED:20251023T144650Z
LAST-MODIFIED:20260205T162619Z
UID:10002562-1762772400-1762808400@lulusfunfoodmusic.com
SUMMARY:Kids Eat Free Mondays-North Myrtle Beach
DESCRIPTION:Mondays just got even better! Bring the whole family to LuLu’s — where kids eat free all day with the purchase of an entrée. Fun\, food\, and family time all wrapped into one sunny Monday at the beach!
URL:https://lulusfunfoodmusic.com/event/kids-eat-free-mondays-north-myrtle-beach/2025-11-10/
LOCATION:North Myrtle Beach\, 4954 Hwy 17 S\, North Myrtle Beach\, SC\, 29582\, United States
ATTACH;FMTTYPE=image/png:https://lulusfunfoodmusic.com/wp-content/uploads/2025/10/ChatGPT-Image-Oct-23-2025-10_33_23-AM.png
END:VEVENT
BEGIN:VEVENT
DTSTART;TZID=America/Chicago:20251110T160000
DTEND;TZID=America/Chicago:20251110T200000
DTSTAMP:20260425T104454
CREATED:20241101T163614Z
LAST-MODIFIED:20250917T144025Z
UID:10001932-1762790400-1762804800@lulusfunfoodmusic.com
SUMMARY:Brent Burns - Gulf Shores
DESCRIPTION:Brent Burns\, 4pm
URL:https://lulusfunfoodmusic.com/event/brent-burns-gulf-shores-2/2025-11-10/
LOCATION:Gulf Shores\, AL
ATTACH;FMTTYPE=image/jpeg:https://lulusfunfoodmusic.com/wp-content/uploads/2024/07/Brent-Burns.jpg
END:VEVENT
BEGIN:VEVENT
DTSTART;TZID=America/Chicago:20251111T170000
DTEND;TZID=America/Chicago:20251111T190000
DTSTAMP:20260425T104454
CREATED:20251021T234220Z
LAST-MODIFIED:20260205T162505Z
UID:10002517-1762880400-1762887600@lulusfunfoodmusic.com
SUMMARY:Trivia Tuesday-North Myrtle Beach
DESCRIPTION:🎤 Trivia Tuesdays at LuLu’s!\nThink you’ve got the brains to beat the beach crowd? Come test your knowledge every Tuesday from 5–7 PM!\nIt’s free to play\, individual competition\, and there are fun prizes for top players. Enjoy great food\, drinks\, and plenty of laughs while you play! 🧠🌴
URL:https://lulusfunfoodmusic.com/event/trivia-tuesday-north-myrtle-beach/2025-11-11/
LOCATION:North Myrtle Beach\, 4954 Hwy 17 S\, North Myrtle Beach\, SC\, 29582\, United States
ATTACH;FMTTYPE=image/png:https://lulusfunfoodmusic.com/wp-content/uploads/2025/10/Trivia-Web.png
END:VEVENT
BEGIN:VEVENT
DTSTART;TZID=America/Chicago:20251112T170000
DTEND;TZID=America/Chicago:20251112T190000
DTSTAMP:20260425T104454
CREATED:20251022T000733Z
LAST-MODIFIED:20260205T164015Z
UID:10002539-1762966800-1762974000@lulusfunfoodmusic.com
SUMMARY:Music Bingo Wednesdays-North Myrtle Beach
DESCRIPTION:Ready to rock your bingo card? 🤘\nIt’s Music Bingo Wednesdays at LuLu’s\, 5–7 PM — free to play\, fun prizes\, and your favorite hits all evening long! Bring your friends\, grab some food and let the music play! 🎵🌞
URL:https://lulusfunfoodmusic.com/event/music-bingo-wednesdays-north-myrtle-beach/2025-11-12/
LOCATION:North Myrtle Beach\, 4954 Hwy 17 S\, North Myrtle Beach\, SC\, 29582\, United States
ATTACH;FMTTYPE=image/png:https://lulusfunfoodmusic.com/wp-content/uploads/2025/10/GetAttachmentThumbnail.png
END:VEVENT
BEGIN:VEVENT
DTSTART;TZID=America/Chicago:20251112T170000
DTEND;TZID=America/Chicago:20251112T210000
DTSTAMP:20260425T104454
CREATED:20250923T201753Z
LAST-MODIFIED:20250923T201753Z
UID:10002475-1762966800-1762981200@lulusfunfoodmusic.com
SUMMARY:Frank Brown Songwriters Festival Youth Showcase-Gulf Shores
DESCRIPTION:5:00-8:50 Youth Showcase
URL:https://lulusfunfoodmusic.com/event/frank-brown-songwriters-festival-youth-showcase-gulf-shores/
LOCATION:Gulf Shores\, AL
ATTACH;FMTTYPE=image/png:https://lulusfunfoodmusic.com/wp-content/uploads/2024/07/Generic-Music-Photo.png
END:VEVENT
BEGIN:VEVENT
DTSTART;TZID=America/Chicago:20251113T160000
DTEND;TZID=America/Chicago:20251113T200000
DTSTAMP:20260425T104454
CREATED:20250722T142112Z
LAST-MODIFIED:20251020T155254Z
UID:10002409-1763049600-1763064000@lulusfunfoodmusic.com
SUMMARY:Jake Caldwell-Destin
DESCRIPTION:
URL:https://lulusfunfoodmusic.com/event/jake-caldwell-destin/2025-11-13/
LOCATION:Destin\, 4607 Legendary Marina Dr\, Florida\, 32541
ATTACH;FMTTYPE=image/png:https://lulusfunfoodmusic.com/wp-content/uploads/2024/07/Generic-Music-Photo.png
END:VEVENT
BEGIN:VEVENT
DTSTART;TZID=America/Chicago:20251113T170000
DTEND;TZID=America/Chicago:20251113T210000
DTSTAMP:20260425T104454
CREATED:20240712T201015Z
LAST-MODIFIED:20260311T140939Z
UID:10002514-1763053200-1763067600@lulusfunfoodmusic.com
SUMMARY:Big Jon Kelly - North Myrtle Beach
DESCRIPTION:Big Jon Kelly is a solo acoustic performer from Myrtle Beach\, SC. His musical career started as a teenager in Pittsburgh\, PA performing in the successful band “Brothers Kelly” with his older brother\, Aaron. After 23 years as a professional musician\, he has played as all over the east coast and as far west as Hawaii! He has a wide range of vocal capabilities\, performing top-of-the-charts cover songs from practically any era or genre\, as well as dozens of original songs. Big Jon Kelly’s musical influences include Dashboard Confessional\, Blink-182\, Jason Mraz\, Jack Johnson\, Stone Temple Pilots\, Smashing Pumpkins\, Zac Brown Band\, Luke Combs\, Johnny Cash\, Jimmy Buffett\, Billy Joel\, Eagles\, CCR\, The Temptations and many more!
URL:https://lulusfunfoodmusic.com/event/big-jon-kelly-north-myrtle-beach/2025-11-13/
LOCATION:North Myrtle Beach\, 4954 Hwy 17 S\, North Myrtle Beach\, SC\, 29582\, United States
ATTACH;FMTTYPE=image/jpeg:https://lulusfunfoodmusic.com/wp-content/uploads/2024/07/Big-Jon-Kelly.jpg
END:VEVENT
BEGIN:VEVENT
DTSTART;TZID=America/Chicago:20251114T160000
DTEND;TZID=America/Chicago:20251114T200000
DTSTAMP:20260425T104454
CREATED:20250415T171820Z
LAST-MODIFIED:20250923T175120Z
UID:10002416-1763136000-1763150400@lulusfunfoodmusic.com
SUMMARY:Martin Lane - Destin
DESCRIPTION:Martin Lane is an acoustic duo specializing in classic rock\, 90’s country and sing-along music. They have a vast repertoire of laidback dinner music to fun party and dance tunes\, as well as original songs. This fun duo\, comprised of singer-songwriter\, Laura Lane\, and Nashville producer\, engineer\, musician and singer-songwriter\, Chip Martin has energetic stage chemistry and tight harmonies. With a flair for being able to pull almost any request from thin air\, they encourage audience participation and requests.
URL:https://lulusfunfoodmusic.com/event/martin-lane-destin/2025-11-14/
LOCATION:Destin\, 4607 Legendary Marina Dr\, Florida\, 32541
ATTACH;FMTTYPE=image/jpeg:https://lulusfunfoodmusic.com/wp-content/uploads/2025/04/Martin-Lane.jpg
END:VEVENT
BEGIN:VEVENT
DTSTART;TZID=America/Chicago:20251114T170000
DTEND;TZID=America/Chicago:20251114T210000
DTSTAMP:20260425T104454
CREATED:20240718T131919Z
LAST-MODIFIED:20260226T144146Z
UID:10002386-1763139600-1763154000@lulusfunfoodmusic.com
SUMMARY:BJ Craven - North Myrtle Beach
DESCRIPTION:BJ Craven is a long time professional musician with several thousand gigs performed from stages all over the country. This SC native is now focusing on his solo career as a live looping artist; creating an entire band’s worth of sound\, live! BJ’s song selection spans several decades and pays tribute to the rock n’ roll artists of old while also recognizing todays hit-makers.
URL:https://lulusfunfoodmusic.com/event/bj-craven-north-myrtle-beach/2025-11-14/
LOCATION:North Myrtle Beach\, 4954 Hwy 17 S\, North Myrtle Beach\, SC\, 29582\, United States
ATTACH;FMTTYPE=image/jpeg:https://lulusfunfoodmusic.com/wp-content/uploads/2024/07/BJ-Craven.jpg
END:VEVENT
BEGIN:VEVENT
DTSTART;TZID=America/Chicago:20251115T160000
DTEND;TZID=America/Chicago:20251115T200000
DTSTAMP:20260425T104454
CREATED:20240905T234047Z
LAST-MODIFIED:20250923T171817Z
UID:10002397-1763222400-1763236800@lulusfunfoodmusic.com
SUMMARY:Coconut Radio - Destin
DESCRIPTION:Award winning violinist and Trop Rock nominee Sue Kittredge and singer/songwriter Steve Reeths of Coconut Radio have been playing dumps and palaces from Chicago and Nashville down to Tampa and Key West since meeting in 1992. Currently living in the panhandle of Florida\, the duo spend their time writing songs\, playing music and living the dream on the Emerald Coast. The music of Coconut Radio is meant to share that feeling\, those emotions one feels sharing a cold one with friends at the tiki bar or watching a beautiful sunset. Susan Kittredge\, violinst extrordinaire\, has been twice nominated for one of five Trop Rock female performers nation wide. Their two self-released CDs are being played nation wide by Trop Rock radio stations from Key West to California.
URL:https://lulusfunfoodmusic.com/event/coconut-radio-destin/2025-11-15/
LOCATION:Destin\, 4607 Legendary Marina Dr\, Florida\, 32541
ATTACH;FMTTYPE=image/jpeg:https://lulusfunfoodmusic.com/wp-content/uploads/2024/09/CoConut-Radio.jpeg
END:VEVENT
BEGIN:VEVENT
DTSTART;TZID=America/Chicago:20251115T160000
DTEND;TZID=America/Chicago:20251115T200000
DTSTAMP:20260425T104454
CREATED:20250923T181154Z
LAST-MODIFIED:20250923T190012Z
UID:10002446-1763222400-1763236800@lulusfunfoodmusic.com
SUMMARY:Logan Lassiter-Gulf Shores
DESCRIPTION:
URL:https://lulusfunfoodmusic.com/event/logan-lassiter-gulf-shores/2025-11-15/1/
LOCATION:Gulf Shores\, AL
ATTACH;FMTTYPE=image/png:https://lulusfunfoodmusic.com/wp-content/uploads/2024/07/Generic-Music-Photo.png
END:VEVENT
BEGIN:VEVENT
DTSTART;TZID=America/Chicago:20251115T170000
DTEND;TZID=America/Chicago:20251115T210000
DTSTAMP:20260425T104454
CREATED:20250923T181154Z
LAST-MODIFIED:20250923T190012Z
UID:10002447-1763226000-1763240400@lulusfunfoodmusic.com
SUMMARY:Logan Lassiter-Gulf Shores
DESCRIPTION:
URL:https://lulusfunfoodmusic.com/event/logan-lassiter-gulf-shores/2025-11-15/2/
LOCATION:Gulf Shores\, AL
ATTACH;FMTTYPE=image/png:https://lulusfunfoodmusic.com/wp-content/uploads/2024/07/Generic-Music-Photo.png
END:VEVENT
BEGIN:VEVENT
DTSTART;VALUE=DATE:20251116
DTEND;VALUE=DATE:20251117
DTSTAMP:20260425T104454
CREATED:20251019T131811Z
LAST-MODIFIED:20251023T142901Z
UID:10002500-1763290800-1763326800@lulusfunfoodmusic.com
SUMMARY:NFL FOOTBALL SUNDAYS-North Myrtle Beach
DESCRIPTION:Come on out for NFL Sundays at LuLu’s! Fun\,Food\,Family friendly vibes! Dad watches games\, Mom shops\, The Kids plays on Beach!
URL:https://lulusfunfoodmusic.com/event/nfl-football-sundays-north-myrtle-beach/2025-11-16/
LOCATION:North Myrtle Beach\, 4954 Hwy 17 S\, North Myrtle Beach\, SC\, 29582\, United States
ATTACH;FMTTYPE=image/png:https://lulusfunfoodmusic.com/wp-content/uploads/2025/10/Web-Graphic-900x600-1.png
END:VEVENT
BEGIN:VEVENT
DTSTART;TZID=America/Chicago:20251116T130000
DTEND;TZID=America/Chicago:20251116T170000
DTSTAMP:20260425T104454
CREATED:20241212T165046Z
LAST-MODIFIED:20251020T154925Z
UID:10002420-1763298000-1763312400@lulusfunfoodmusic.com
SUMMARY:Brandon House- Destin
DESCRIPTION:Brandon House is a singer and musician from Acworth\, Georgia\, heavily influenced by country music icons such as George Strait and Conway Twitty.
URL:https://lulusfunfoodmusic.com/event/brandon-house-destin-2/2025-11-16/
LOCATION:Destin\, 4607 Legendary Marina Dr\, Florida\, 32541
ATTACH;FMTTYPE=image/jpeg:https://lulusfunfoodmusic.com/wp-content/uploads/2024/11/Brandon-House.jpg
END:VEVENT
BEGIN:VEVENT
DTSTART;TZID=America/Chicago:20251116T130000
DTEND;TZID=America/Chicago:20251116T170000
DTSTAMP:20260425T104454
CREATED:20250708T231329Z
LAST-MODIFIED:20250923T180636Z
UID:10002437-1763298000-1763312400@lulusfunfoodmusic.com
SUMMARY:Riley Lynn- Gulf Shores
DESCRIPTION:Based in both Gulf Shores\, AL\, and Nashville\, TN\, Riley Lynn is a country singer-songwriter focusing on story-telling in her music. She writes and performs her own original songs and also captivates audiences with her performances of well-known tracks from country\, rock\, and pop genres. With over six years of live performance experience\, Riley Lynn’s performances are characterized by her authentic country sound and strong vocals.
URL:https://lulusfunfoodmusic.com/event/riley-lynn-gulf-shores/2025-11-16/
LOCATION:Gulf Shores\, AL
ATTACH;FMTTYPE=image/png:https://lulusfunfoodmusic.com/wp-content/uploads/2025/07/Screenshot-2025-07-08-at-7.20.10 PM.png
END:VEVENT
BEGIN:VEVENT
DTSTART;TZID=America/Chicago:20251117T110000
DTEND;TZID=America/Chicago:20251117T210000
DTSTAMP:20260425T104454
CREATED:20251023T144650Z
LAST-MODIFIED:20260205T162619Z
UID:10002563-1763377200-1763413200@lulusfunfoodmusic.com
SUMMARY:Kids Eat Free Mondays-North Myrtle Beach
DESCRIPTION:Mondays just got even better! Bring the whole family to LuLu’s — where kids eat free all day with the purchase of an entrée. Fun\, food\, and family time all wrapped into one sunny Monday at the beach!
URL:https://lulusfunfoodmusic.com/event/kids-eat-free-mondays-north-myrtle-beach/2025-11-17/
LOCATION:North Myrtle Beach\, 4954 Hwy 17 S\, North Myrtle Beach\, SC\, 29582\, United States
ATTACH;FMTTYPE=image/png:https://lulusfunfoodmusic.com/wp-content/uploads/2025/10/ChatGPT-Image-Oct-23-2025-10_33_23-AM.png
END:VEVENT
BEGIN:VEVENT
DTSTART;TZID=America/Chicago:20251117T160000
DTEND;TZID=America/Chicago:20251117T200000
DTSTAMP:20260425T104454
CREATED:20241101T163614Z
LAST-MODIFIED:20250917T144025Z
UID:10001933-1763395200-1763409600@lulusfunfoodmusic.com
SUMMARY:Brent Burns - Gulf Shores
DESCRIPTION:Brent Burns\, 4pm
URL:https://lulusfunfoodmusic.com/event/brent-burns-gulf-shores-2/2025-11-17/
LOCATION:Gulf Shores\, AL
ATTACH;FMTTYPE=image/jpeg:https://lulusfunfoodmusic.com/wp-content/uploads/2024/07/Brent-Burns.jpg
END:VEVENT
BEGIN:VEVENT
DTSTART;TZID=America/Chicago:20251118T170000
DTEND;TZID=America/Chicago:20251118T190000
DTSTAMP:20260425T104454
CREATED:20251021T234220Z
LAST-MODIFIED:20260205T162505Z
UID:10002518-1763485200-1763492400@lulusfunfoodmusic.com
SUMMARY:Trivia Tuesday-North Myrtle Beach
DESCRIPTION:🎤 Trivia Tuesdays at LuLu’s!\nThink you’ve got the brains to beat the beach crowd? Come test your knowledge every Tuesday from 5–7 PM!\nIt’s free to play\, individual competition\, and there are fun prizes for top players. Enjoy great food\, drinks\, and plenty of laughs while you play! 🧠🌴
URL:https://lulusfunfoodmusic.com/event/trivia-tuesday-north-myrtle-beach/2025-11-18/
LOCATION:North Myrtle Beach\, 4954 Hwy 17 S\, North Myrtle Beach\, SC\, 29582\, United States
ATTACH;FMTTYPE=image/png:https://lulusfunfoodmusic.com/wp-content/uploads/2025/10/Trivia-Web.png
END:VEVENT
BEGIN:VEVENT
DTSTART;TZID=America/Chicago:20251119T170000
DTEND;TZID=America/Chicago:20251119T190000
DTSTAMP:20260425T104454
CREATED:20251022T000733Z
LAST-MODIFIED:20260205T164015Z
UID:10002540-1763571600-1763578800@lulusfunfoodmusic.com
SUMMARY:Music Bingo Wednesdays-North Myrtle Beach
DESCRIPTION:Ready to rock your bingo card? 🤘\nIt’s Music Bingo Wednesdays at LuLu’s\, 5–7 PM — free to play\, fun prizes\, and your favorite hits all evening long! Bring your friends\, grab some food and let the music play! 🎵🌞
URL:https://lulusfunfoodmusic.com/event/music-bingo-wednesdays-north-myrtle-beach/2025-11-19/
LOCATION:North Myrtle Beach\, 4954 Hwy 17 S\, North Myrtle Beach\, SC\, 29582\, United States
ATTACH;FMTTYPE=image/png:https://lulusfunfoodmusic.com/wp-content/uploads/2025/10/GetAttachmentThumbnail.png
END:VEVENT
BEGIN:VEVENT
DTSTART;TZID=America/Chicago:20251120T160000
DTEND;TZID=America/Chicago:20251120T200000
DTSTAMP:20260425T104454
CREATED:20240729T135319Z
LAST-MODIFIED:20250923T190235Z
UID:10002448-1763654400-1763668800@lulusfunfoodmusic.com
SUMMARY:JERI Duo - Gulf Shores
DESCRIPTION:JERI
URL:https://lulusfunfoodmusic.com/event/jeri-gulf-shores/2025-11-20/
LOCATION:Gulf Shores\, AL
ATTACH;FMTTYPE=image/jpeg:https://lulusfunfoodmusic.com/wp-content/uploads/2024/07/JERI.jpg
END:VEVENT
BEGIN:VEVENT
DTSTART;TZID=America/Chicago:20251120T160000
DTEND;TZID=America/Chicago:20251120T200000
DTSTAMP:20260425T104454
CREATED:20250722T142112Z
LAST-MODIFIED:20251020T155254Z
UID:10002410-1763654400-1763668800@lulusfunfoodmusic.com
SUMMARY:Jake Caldwell-Destin
DESCRIPTION:
URL:https://lulusfunfoodmusic.com/event/jake-caldwell-destin/2025-11-20/
LOCATION:Destin\, 4607 Legendary Marina Dr\, Florida\, 32541
ATTACH;FMTTYPE=image/png:https://lulusfunfoodmusic.com/wp-content/uploads/2024/07/Generic-Music-Photo.png
END:VEVENT
BEGIN:VEVENT
DTSTART;TZID=America/Chicago:20251121T160000
DTEND;TZID=America/Chicago:20251121T200000
DTSTAMP:20260425T104454
CREATED:20240712T201552Z
LAST-MODIFIED:20251209T215146Z
UID:10002395-1763740800-1763755200@lulusfunfoodmusic.com
SUMMARY:Gypsy Pearl - Destin
DESCRIPTION:GYPSYPEARL DUO — DESTIN \nThe GypsyPearl Duo brings their signature blend of soulful vocals\, tight harmonies\, and acoustic charm to the Emerald Coast. Known for creating an easy\, feel-good atmosphere\, they mix modern country\, classic rock\, and crowd-favorite hits into a smooth\, high-energy set that fits perfectly with LuLu’s laid-back Destin vibe. \nWith influences ranging from Fleetwood Mac and Miranda Lambert to Chris Stapleton\, The Eagles\, and today’s top artists\, GypsyPearl Duo delivers familiar songs with a refreshing coastal twist. Whether they’re setting the tone for a sunny afternoon or winding down a relaxing evening\, they bring polished musicianship and warm personality to every performance. \nA Destin favorite—easy to listen to\, impossible not to enjoy.
URL:https://lulusfunfoodmusic.com/event/gypsy-pearl-destin/2025-11-21/
LOCATION:Destin\, 4607 Legendary Marina Dr\, Florida\, 32541
ATTACH;FMTTYPE=image/jpeg:https://lulusfunfoodmusic.com/wp-content/uploads/2024/07/GypsyPearl.jpg
END:VEVENT
BEGIN:VEVENT
DTSTART;TZID=America/Chicago:20251121T160000
DTEND;TZID=America/Chicago:20251121T200000
DTSTAMP:20260425T104454
CREATED:20250326T192303Z
LAST-MODIFIED:20250923T190415Z
UID:10002451-1763740800-1763755200@lulusfunfoodmusic.com
SUMMARY:Charlie Rees-Gulf Shores
DESCRIPTION:Charlie Rees is a professional entertainer. He sings\, and plays guitar\, piano\, and fiddle. He has performed all over the USA\, and has played in Norway\, Denmark\, Sweden\, Scotland\, Finland\, Greece\, Germany\, Portugal\, Turkey\, Morocco\, and the former Czechoslovakia. Charlie’s music ranges from Rock n’ Roll to Country\, Cajun to Easy Listening. He has a winning manner with his audiences. Come ready to sing along!
URL:https://lulusfunfoodmusic.com/event/charlie-rees-gulf-shores/2025-11-21/
LOCATION:Gulf Shores\, AL
ATTACH;FMTTYPE=image/png:https://lulusfunfoodmusic.com/wp-content/uploads/2024/07/Generic-Music-Photo.png
END:VEVENT
BEGIN:VEVENT
DTSTART;TZID=America/Chicago:20251122T160000
DTEND;TZID=America/Chicago:20251122T200000
DTSTAMP:20260425T104454
CREATED:20240717T201643Z
LAST-MODIFIED:20250923T190548Z
UID:10002453-1763827200-1763841600@lulusfunfoodmusic.com
SUMMARY:John Keuler - Gulf Shores
DESCRIPTION:John Keuler plays an organic\, soulful\, and vocal blend of favorites by Paul Simon\, Bob Marley\, The Band\, The Grateful Dead\, as well as original material.
URL:https://lulusfunfoodmusic.com/event/john-keuler-gulf-shores/2025-11-22/
LOCATION:Gulf Shores\, AL
ATTACH;FMTTYPE=image/jpeg:https://lulusfunfoodmusic.com/wp-content/uploads/2024/07/John-Keuler.jpeg
END:VEVENT
BEGIN:VEVENT
DTSTART;TZID=America/Chicago:20251122T160000
DTEND;TZID=America/Chicago:20251122T200000
DTSTAMP:20260425T104454
CREATED:20250722T142159Z
LAST-MODIFIED:20251020T155637Z
UID:10002424-1763827200-1763841600@lulusfunfoodmusic.com
SUMMARY:The 78s- Destin
DESCRIPTION:The 78s  \nJake Caldwell and Marc Harris are The 78s—a powerhouse duo blending seasoned musicianship with raw\, road-worn soul. The two first crossed paths while touring with country great Lee Roy Parnell\, bonding over backstage stories and a shared Florida zip code. What started as friendship quickly turned into musical chemistry—and The 78s were born.   \nWith Caldwell’s soaring vocals\, multi-instrumental firepower\, and high-octane energy\, paired with Harris’s smooth baritone and guitar finesse\, their live shows are nothing short of electric. Whether Jake’s seamlessly layering guitar\, bass\, and drums on stage or Marc’s channeling his Rockabilly roots\, The 78s deliver a sound that’s tight\, timeless\, and deeply authentic.   \nBetween them\, they’ve toured with hitmakers like Phil Vassar\, John Berry\, Lee Roy Parnel and other country legends\, playing iconic stages from The Grand Ole Opry to The Fillmore West. Catch them live—and see why The 78s are quickly becoming one of Florida’s most exciting rising duos. 
URL:https://lulusfunfoodmusic.com/event/the-78s-destin/2025-11-22/
LOCATION:Destin\, 4607 Legendary Marina Dr\, Florida\, 32541
ATTACH;FMTTYPE=image/png:https://lulusfunfoodmusic.com/wp-content/uploads/2025/07/78s-banner-1920.png
END:VEVENT
BEGIN:VEVENT
DTSTART;TZID=America/Chicago:20251122T170000
DTEND;TZID=America/Chicago:20251122T210000
DTSTAMP:20260425T104454
CREATED:20240913T094611Z
LAST-MODIFIED:20260311T140329Z
UID:10002488-1763830800-1763845200@lulusfunfoodmusic.com
SUMMARY:Marcus Cannon - North Myrtle Beach
DESCRIPTION:Marcus Cannon-delivers a dynamic mix of acoustic rock and country favorites\, blending soulful vocals with crisp guitar work. His high-energy performances and smooth coastal vibe create the perfect atmosphere for a night of great live music.
URL:https://lulusfunfoodmusic.com/event/marcus-cannon-north-myrtle-beach/2025-11-22/
LOCATION:North Myrtle Beach\, 4954 Hwy 17 S\, North Myrtle Beach\, SC\, 29582\, United States
ATTACH;FMTTYPE=image/jpeg:https://lulusfunfoodmusic.com/wp-content/uploads/2024/09/marcus-cannon.jpeg
END:VEVENT
BEGIN:VEVENT
DTSTART;VALUE=DATE:20251123
DTEND;VALUE=DATE:20251124
DTSTAMP:20260425T104454
CREATED:20251019T131811Z
LAST-MODIFIED:20251023T142901Z
UID:10002501-1763895600-1763931600@lulusfunfoodmusic.com
SUMMARY:NFL FOOTBALL SUNDAYS-North Myrtle Beach
DESCRIPTION:Come on out for NFL Sundays at LuLu’s! Fun\,Food\,Family friendly vibes! Dad watches games\, Mom shops\, The Kids plays on Beach!
URL:https://lulusfunfoodmusic.com/event/nfl-football-sundays-north-myrtle-beach/2025-11-23/
LOCATION:North Myrtle Beach\, 4954 Hwy 17 S\, North Myrtle Beach\, SC\, 29582\, United States
ATTACH;FMTTYPE=image/png:https://lulusfunfoodmusic.com/wp-content/uploads/2025/10/Web-Graphic-900x600-1.png
END:VEVENT
BEGIN:VEVENT
DTSTART;TZID=America/Chicago:20251123T130000
DTEND;TZID=America/Chicago:20251123T170000
DTSTAMP:20260425T104454
CREATED:20240905T232255Z
LAST-MODIFIED:20250923T190719Z
UID:10002454-1763902800-1763917200@lulusfunfoodmusic.com
SUMMARY:Brooks Johnson - Gulf Shores
DESCRIPTION:Brooks Johnson – Country/Rock Artist | Perdido Key\, FL \nBorn in Alabama\, shaped by years living in New York City\, and now rooted on Florida’s Gulf Coast\, Brooks Johnson delivers country and rock with grit\, soul\, and zero pretense. His sound is built on raw acoustic guitar work and a vocal tone that’s instantly recognizable and requires no filters: warm\, resonant\, and edged with a touch of Southern gravel. \nWhether he’s covering outlaw country\, classic rock\, or Americana\, his powerful vocals\, tone and delivery bring a fresh edge to familiar songs—real\, unpolished\, and unforgettable. \nSince returning to the Gulf Coast\, Brooks has become a go-to solo act for venues\, festivals\, and private events seeking high-quality live music without the polish or pretense. Whether he’s playing to a laid-back beach crowd or a rowdy night-time audience\, Brooks brings a setlist packed with familiar hits and hidden gems\, all delivered with unmistakable grit. \nInstagram/Tik tok/Facebook/Venmo: @Brooksjohnsonmusic \nBrooksjohnsonmusic.com
URL:https://lulusfunfoodmusic.com/event/brooks-johnson-gulf-shores/2025-11-23/
LOCATION:Gulf Shores\, AL
ATTACH;FMTTYPE=image/jpeg:https://lulusfunfoodmusic.com/wp-content/uploads/2024/09/Brooks-Johnson.jpg
END:VEVENT
BEGIN:VEVENT
DTSTART;TZID=America/Chicago:20251123T130000
DTEND;TZID=America/Chicago:20251123T170000
DTSTAMP:20260425T104454
CREATED:20250204T234051Z
LAST-MODIFIED:20250923T175529Z
UID:10002427-1763902800-1763917200@lulusfunfoodmusic.com
SUMMARY:Charlie Rees - Destin
DESCRIPTION:Charlie Rees is a professional entertainer. He sings\, and plays guitar\, piano\, and fiddle. He has performed all over the USA\, and has played in Norway\, Denmark\, Sweden\, Scotland\, Finland\, Greece\, Germany\, Portugal\, Turkey\, Morocco\, and the former Czechoslovakia. Charlie’s music ranges from Rock n’ Roll to Country\, Cajun to Easy Listening. He has a winning manner with his audiences. Come ready to sing along!
URL:https://lulusfunfoodmusic.com/event/charlie-rees-destin/2025-11-23/
LOCATION:Destin\, 4607 Legendary Marina Dr\, Florida\, 32541
ATTACH;FMTTYPE=image/png:https://lulusfunfoodmusic.com/wp-content/uploads/2024/07/Generic-Music-Photo.png
END:VEVENT
END:VCALENDAR